Workbook
Name _Hlk214345935: B_PH_Hinweise!$A$1
Name _Hlk233272744: B_PH_Hinweise!$B$14
Name _Hlk235628445: B_PH_Hinweise!#REF!
Name eeadivisor: B_PH_Gesamtkalkulation!$H$11
Name pnk: [1]Personalaufwendungen!$I$72
Name risiko: [1]Personalaufwendungen!$I$76

Sheet B_PH_Versionsinfo
A2: Erläuterung der Änderungen gegenüber der Vorversion (Änderungshistorie ab 18.06.2026)
A5: Datum der Änderung | B5: Tabellenblatt | C5: Zeile/Spalte | D5: Erläuterung der Änderung | E5: Hinweise für die Anwender
A6: 46246 | B6: Gesamtdokument | D6: Neugestaltung der Antragsunterlagen auf Basis des bisherigen Antrages B1
A7: 46254 | B7: B_PH_Gesamtkalkulation | C7: H52 | D7: anstelle 1,5 => 0,5 | E7: Kostenverteilung korrigiert
C8: J52 | D8: bisherige Formel ohne Berücksichtigung VW-Budget Formel neu: =WENN(B_PH_Kalkulation!H15=0;RUNDEN(B_PH_Gesamtkalkulation!L57*KAT!M35;2);RUNDEN((B_PH_Gesamtkalkulation!J16+B_PH_Gesamtkalkulation!J30+B_PH_Gesamtkalkulation!J40+J49);2))
B9: B_PH_Kalkulation | C9: D29:D31 , J29:J31 | D9: Formel ohne Runden | E9: keine Rundung der Rundung, da im Vollantrag aus der VK die PR auf 2 Nachkommastellen gerundet wird, desh. kann in dem pauschalen Antrag aus den gerundeten PR nicht die VK mit nochmaliger Rundung ermittelt werden
C10: D24:D26; J24:J26 | D10: Rundung bleibt, da Anteilswerte innerhalb der vorgegebenen Grenzen veränderbar
C11: M35; M46 | D11: Fehlertext angepasst, SK max. 2,5%, FL max. 6%
C12: KATI74 | D12: 0.025
C13: KATI75 | D13: 0.06
A14: 46259 | B14: B_PH_Gesamtkalkulation | C14: J61, T61, V61, X61 | D14: Runden der Pflegesätze auf zwei Nachkommastellen für die KZP | E14: Runden der Pflegesätze auf zwei Nachkommastellen
A15: 46260 | B15: B_PH_Kalkulation | C15: C24:C26; C29:C31 | D15: Eingabe mit max. 2 Nachkommastellen begrenzt
C16: I24 | D16: Datenüberprüfung angepasst: bisher Dezimal; min = KAT!B26 und max. C24 Korrektur: benutzerdefiniert; Formel=UND(I24>=KAT!B25;I24<=C24;REST(I24*10000;1)=0) + Text angepasst
C17: I25 | D17: Datenüberprüfung angepasst: bisher Dezimal; min = 0 und max. C25 Korrektur: benutzerdefiniert; Formel=UND(I25>=0;I25<=C25;REST(I25*10000;1)=0) + Text angepasst
C18: I26 | D18: Datenüberprüfung angepasst: bisher Dezimal; min = 0 und max. C26 Korrektur: benutzerdefiniert; Formel=UND(I26>=0;I26<=C26;REST(I26*10000;1)=0) + Text angepasst
B19: B_PH_Berechnung rüE | C19: B29:B30 | D19: bisher: Beschätigungsgruppe Korrektur: Beschäftigungsgruppe
B20: KAT | C20: B31:R41 | D20: Berichtspflicht intern
A21: 46288 | B21: KAT | C21: H1:H4 | D21: Auswahlmöglichkeiten Kostenträger ergänzt (für Auswahl im Blatt Ergebnis)
C22: C48 | D22: Wert von 1,25 auf 1,5 angepasst
C23: L67 | D23: Formel =INDEX(I67:K67;VERGLEICH($L$66;I$66:$K$66;0)) eingefügt
C24: I67 | D24: Wert ergänzt (wird benötigt für die Steigerung der PK PDL)
B25: B_PH_Ergebnis | C25: B99:B100 | D25: Auswahlfeld zur Angabe des Verhandlungsführers hinterlegt
B26: B_PH_Kalkulation | C26: C24:C26; C29:C31; I24:I26 | D26: Funktion angepasst: rest() ersetzt durch
D27: WENNFEHLER((LÄNGE()-FINDEN(",";));0)
C28: I24:I26 | D28: Fehlertext angepasst
A29: 46295 | B29: Verknüpfungstabelle | C29: Zeile 10 | D29: Anpassungen für Betriebsvergleich
A30: 46297 | B30: B_PH_Kalkulation | C30: Zeile 63ff | D30: Eingabefelder für bisherige Vereinbarungswerte eingefügt; Positionierung und Formulierungen der Forderungswerte angepasst
C31: Zeile 58 bis 61 | D31: Eingabefelder für das bisher vereinbartes Verwaltungsbudget ergänzt
A32: 06.10.2026/ 07.10.2026 | B32: B_PH_Kalkulation | C32: O25, O20 und O21:R33 | D32: O25: Text enfernt (alt: "- Personalkostensteigerungen - (nicht für Funktionsbereich Pflege, Betreuung, zusätzliche Betreuung notwendig)") O20: Text ersetzt (alt: " - die veränderte Personalausstattung -") Zellen verbunden
A33: 46304 | B33: KAT | C33: H66:K75 | D33: Steigerungen entsprechend Beschluss PSK vom 08.10.2026 angepasst
C34: diverse Zellen | D34: Textfarbe in grau geändert (zur Kennzeichnung nicht verwendeter Inhalte)
B35: B_PH_Allgemeine Angaben | C35: N59 | D35: Formel durch "0" ersetzt (um das aktivieren des Blattes B_PH_Berechnung rüE zu verhindern) (alt: =WENN(UND(H56<>"ja";H57="rüE");1;0))
C36: J59 | D36: Formel angepasst
B37: B_PH_Kalkulation | C37: I25:I26 | D37: Bedingung Datenüberprüfung korrigiert
C38: K29:K31 | D38: Prüfung Mindetslohn entfernt
C39: Spalte M | D39: Hinweistexte bei Überschreitung der max. Steigerungen angepasst
B40: B_PH_Berechnung rüE | D40: Blatt ausgeblendet
A41: 46311 | B41: B_PH_Kalkulation | C41: I24:I26 | D41: Fehlertext angepasst (alt: Wert außerhalb der zulässigen Bandbreite …)
B42: B_PH_Bewohnervertretung | D42: Begriff "Bewohnerfürsprecher" durch "Bewohnersprecher" ersetzt
A43: 46314 | B43: B_PH_Hinweise | D43: Blatt Hinweise eingefügt
...

Sheet Verknüpfungstabelle
A1: Verhandlungsart | B1: IK_E | C1: IK_KZP | D1: Antragsdatum | E1: E_Art | F1: Name_E | G1: Straße_E | H1: PLZ_E | I1: Ort_E | J1: TEL_E | K1: Fax_E | L1: EMail_E | M1: Web_E | N1: Einrichtungsleitung | O1: PDL | P1: Name_T | Q1: Straße_T | R1: PLZ_T | S1: Ort_T | T1: Tel_T | U1: Fax_T | V1: EMail_T | W1: Web_T | X1: AP_Funktion | Y1: Verband | Z1: Zulassungsdatum | AA1: Platzzahl | AB1: dav_KZP_Plätze | AC1: LFZ_ab | AD1: LFZ_bis | AE1: letzte_LFZ_ab | AF1: letzte_LFZ_bis | AG1: ANT_AOK | AH1: ANT_vdek | AI1: ANT_BKK | AJ1: ANT_IKK | AK1: ANT_KBS | AL1: ANT_PKV | AM1: ANT_Sonstige_SVT | AN1: dav_SHT | AO1: Ausbildungsbetrieb | AP1: 132g | AQ1: Auslastung_E | AR1: BEL_letze12M_PG1 | AS1: BEL_letze12M_PG2 | AT1: BEL_letze12M_PG3 | AU1: BEL_letze12M_PG4 | AV1: BEL_letze12M_PG5 | AW1: BEL_letze12M_SUM | AX1: BEL_STICHTAG_PG1 | AY1: BEL_STICHTAG_PG2 | AZ1: BEL_STICHTAG_PG3 | BA1: BEL_STICHTAG_PG4 | BB1: BEL_STICHTAG_PG5 | BC1: BEL_STICHTAG_SUM | BD1: BEL_PROG_PG1 | BE1: BEL_PROG_PG2 | BF1: BEL_PROG_PG3 | BG1: BEL_PROG_PG4 | BH1: BEL_PROG_PG5 | BI1: BEL_PROG_SUM | BJ1: BEL_PROG_DAV_KZP_PG1 | BK1: BEL_PROG_DAV_KZP_PG2 | BL1: BEL_PROG_DAV_KZP_PG3 | BM1: BEL_PROG_DAV_KZP_PG4 | BN1: BEL_PROG_DAV_KZP_PG5 | BO1: BEL_PROG_DAV_KZP_SUM | BP1: wö_AZ_je_VK | BQ1: letzte12M_PKL_von | BR1: letzte12M_PKL_bis | BS1: PKL_PERS_IST_111_PDL-stellvPDL | BT1: PKL_AG_Brutto_IST_111_PDL-stellvPDL | BU1: PKL_PERS_IST_112_QM | BV1: PKL_AG_Brutto_IST_112_QM | BW1: PKL_PERS_IST_113_HM | BX1: PKL_AG_Brutto_IST_113_HM | BY1: PKL_PERS_IST_121_PFK/BFK | BZ1: PKL_AG_Brutto_IST_121_PFK/BFK | CA1: PKL_PERS_IST_121_PFK/BFK_DAV_PRÄSK | CB1: PKL_PERS_IST_122_PK/BK | CC1: PKL_AG_Brutto_IST_121_PK/BK | CD1: PKL_PERS_IST_122_PK/BK_DAV_PRÄSK | CE1: PKL_PERS_IST_123_PK/BK o. | CF1: PKL_AG_Brutto_IST_123_PK/BK o. | CG1: PKL_PERS_IST_123_PK/BK o._DAV_PRÄSK | CH1: PKL_PERS_IST_12_SUM | CI1: PKL_AG_Brutto_IST_12_SUM | CJ1: PKL_IST_121_PFK/BFK_ANT_113c | CK1: PKL_IST_122_PK/BKANT_113c | CL1: PKL_IST_123_PK/BK o.113c | CM1: PKL_PERS_IST_131_43b_PK/BK | CN1: PKL_AG_Brutto_IST_131_43b_PK/BK | CO1: PKL_PERS_IST_132_43b_PK/BK o. | CP1: PKL_AG_Brutto_IST_132_43b_PK/BK o. | CQ1: PKL_PERS_IST_13_43b_SUM | CR1: PKL_AG_Brutto_IST_13_43b_SUM | CS1: PKL_PERS_IST_14_LuV | CT1: PKL_AG_Brutto_IST_14_LuV | CU1: PKL_PERS_IST_15_HW | CV1: PKL_AG_Brutto_IST_15_HW | CW1: PKL_PERS_IST_15_HW_DAV_PräsK_PFK/BFK | CX1: PKL_PERS_IST_15_HW_DAV_PräsK_PK/BK | CY1: PKL_PERS_IST_15_HW_DAV_PräsK_PK/BK o. | CZ1: PKL_PERS_IST_16_KÜCHE | DA1: PKL_AG_Brutto_IST_16_KÜCHE | DB1: PKL_PERS_IST_17_HAT | DC1: PKL_AG_Brutto_IST_17_HAT | DD1: PKL_PERS_IST_18_FwD | DE1: PKL_AG_Brutto_IST_18_FwD | DF1: PKL_PERS_IST_18_FSJ | DG1: PKL_AG_Brutto_IST_18_FSJ | DH1: PKL_PERS_IST_18_SONS_SUM | DI1: PKL_AG_Brutto_IST_18_SONS_SUM | DJ1: UNMITT_TARIFBIND | DK1: ENTLOHNUNG_NACH | DL1: TARIF_AVR | DM1: TARIF_FASSG_VOM | DN1: FORD_SV_ANT | DO1: FORD_bAV_ANT | DP1: FORD_SV_ANT_GfB | DQ1: FORD_GVWG_STD_LOHN_PFK/BFK | DR1: FORD_GVWG_STD_LOHN_PK/BK | DS1: FORD_GVWG_STD_LOHN_PK/BK o. | DT1: FORD_GVWG_VK_PFK/BFK | DU1: FORD_GVWG_VK_PK/BK | DV1: FORD_GVWG_VK_PK/BK o. | DW1: FORD_GVWG_VK_SUM | DX1: FORD_GVWG_REG | DY1: FORD_GVWG_GES_BRUTTO_PFK/BFK | DZ1: FORD_GVWG_GES_BRUTTO_PK/BK | EA1: FORD_GVWG_GES_BRUTTO_PK/BK o. | EB1: PERS_STICHT_111_PDL-stellvPDL | EC1: PERS_STICHT_112_QM | ED1: PERS_STICHT_113_HM | EE1: PERS_STICHT_11_SUM | EF1: PERS_STICHT_121_PFK/BFK | EG1: PERS_STICHT_121_PFK/BFK_DAV_PRÄSK | EH1: PERS_STICHT_122_PK/BK | EI1: PERS_STICHT_122_PK/BK_DAV_PRÄSK | EJ1: PERS_STICHT_123_PK/BK o. | EK1: PERS_STICHT_123_PK/BK o._DAV_PRÄSK | EL1: PERS_STICHT_12_SUM | EM1: ANT_113c_STICHT_121_PFK/BFK | EN1: ANT_113c_STICHT_122_PK/BK | EO1: ANT_113c_STICHT_123_PK/BK o. | EP1: PERS_STICHT_131_43b_PK/BK | EQ1: PERS_STICHT_132_43b_PK/BK o. | ER1: PERS_STICHT_13_43b_SUM | ES1: PERS_STICHT_14_LuV_LTG | ET1: PERS_STICHT_14_LuV_VW | EU1: PERS_STICHT_14_EL | EV1: PERS_STICHT_15_HW | EW1: PERS_STICHT_15_HW_DAV_PRÄSK_PFK/BFK | EX1: PERS_STICHT_15_HW_DAV_PRÄSK_PK/BK | EY1: PERS_STICHT_15_HW_DAV_PRÄSK_PK/BK o. | EZ1: PERS_STICHT_16_KÜCHE | FA1: PERS_STICHT_17_HAT | FB1: PERS_STICHT_18_FwD | FC1: PERS_STICHT_18_FSJ | FD1: PERS_PROGN_111_PDL-stellvPDL | FE1: PERS_PROGN_112_QM | FF1: PERS_PROGN_113_HM | FG1: PERS_PROGN_11_SUM | FH1: PERS_PROGN_121_PFK/BFK | FI1: PERS_PROGN_121_PFK/BFK_DAV_PRÄSK | FJ1: PERS_PROGN_122_PK/BK | FK1: PERS_PROGN_122_PK/BK_DAV_PRÄSK | FL1: PERS_PROGN_123_PK/BK o. | FM1: PERS_PROGN_123_PK/BK o._DAV_PRÄSK | FN1: PERS_PROGN_12_SUM | FO1: ANT_113c_PROGN_121_PFK/BFK | FP1: ANT_113c_PROGN_122_PK/BK | FQ1: ANT_113c_PROGN_123_PK/BK o. | FR1: PERS_PROGN_131_43b_PK/BK | FS1: PERS_PROGN_132_43b_PK/BK o. | FT1: PERS_PROGN_13_43b_SUM | FU1: PERS_PROGN_14_LuV_LTG | FV1: PERS_PROGN_14_LuV_VW | FW1: PERS_PROGN_14_EL | FX1: PERS_PROGN_15_HW | FY1: PERS_PROGN_15_HW_DAV_PRÄSK_PFK/BFK | FZ1: PERS_PROGN_15_HW_DAV_PRÄSK_PK/BK | GA1: PERS_PROGN_15_HW_DAV_PRÄSK_PK/BK o. | GB1: PERS_PROGN_15_HW_SUM | GC1: ANT_PROGN_PRÄSK_15_HW | GD1: PERS_PROGN_16_KÜCHE | GE1: PERS_PROGN_17_HAT | GF1: PERS_PROGN_18_FwD | GG1: PERS_PROGN_18_FSJ | GH1: PNK_PROGN_BG | GI1: PNK_PROGN_AUSGL | GJ1: PNK_PROGN_FORTB | GK1: PNK_PROGN_ARB-GES-SCHUTZ | GL1: PNK_PROGN_PROZ | GM1: PNK_PROGN_SUM | GN1: stfr_Sachbez_PROGN_PROZ | GO1: stfr_Sachbez_PROGN | GP1: UR_PROGN_PROZ | GQ1: UR_PROGN | GR1: GES-PeKo_PROGN_111_PDL-stellvPDL | GS1: GES_PeKo_PROGN_112_QM | GT1: GES_PeKo_PROGN_113_HM | GU1: GES_PeKo_PROGN_11_SUM | GV1: GES_PeKo_PROGN_121_PFK/BFK | GW1: GES_PeKo_PROGN_122_PK/BK | GX1: GES_PeKo_PROGN_123_PK/BK o. | GY1: GES_PeKo_PROGN_12_SUM | GZ1: GES_PeKo_PROGN_131_43b_PK/BK | HA1: GES_PeKo_PROGN_132_43b_PK/BK o. | HB1: GES_PeKo_PROGN_13_43b_SUM | HC1: GES_PeKo_PROGN_14_LuV_LTG | HD1: GES_PeKo_PROGN_14_LuV_VW | HE1: GES_PeKo_PROGN_14_EL_SUM | HF1: GES_PeKo_PROGN_15_HW_SUM | HG1: GES_PeKo_PROGN_16_KÜCHE_SUM | HH1: GES_PeKo_PROGN_17_HAT_SUM | HI1: PeKo_PROGN_18_FwD_STELLE | HJ1: PeKo_PROGN_18_FSJ_STELLE | HK1: SK_Zeitraum_Wahl | HL1: SK_ZEITR_VON | HM1: SK_ZEITR_BIS | HN1: SK_BT_abweichender Zeitraum | HO1: SK_ZEITR_21_LEBENSM | HP1: SK_ZEITR_22_PFLEGEBEDARF | HQ1: SK_ZEITR_23_W-E-B | HR1: SK_ZEITR_24_VW_BEDARF | HS1: SK_ZEITR_25_VW_DIENSTE | HT1: SK_ZEITR_26_BETREUUNG | HU1: SK_ZEITR_27_WIRTSCHAFT | HV1: SK_ZEITR_28_S-A-V | HW1: SK_ZEITR_29_WARTUNG | HX1: SK_ZEITR_210_SONSTIGE | HY1: SK_ZEITR_2_SUM | HZ1: FL_ZEITR_31_Küche | IA1: FL_ZEITR_32_WÄSCHEREI | IB1: FL_ZEITR_33_WÄSCHE-KZ | IC1: FL_ZEITR_34_REINIGUNG | ID1: FL_ZEITR_35_VW | IE1: FL_ZEITR_36_HT | IF1: FL_ZEITR_37_EINTR | IG1: FL_ZEITR_37_ZEILE1 | IH1: FL_ZEITR_38_EINTR | II1: FL_ZEITR_38_ZEILE2 | IJ1: FL_ZEITR_3_SUM | IK1: SK_PROGN_21_LEBENSM | IL1: SK_PROGN_22_PFLEGEBEDARF | IM1: SK_PROGN_23_W-E-B | IN1: SK_PROGN_24_VW_BEDARF | IO1: SK_PROGN_25_VW_DIENSTE | IP1: SK_PROGN_26_BETREUUNG | IQ1: SK_PROGN_27_WIRTSCHAFT | IR1: SK_PROGN_28_S-A-V | IS1: SK_PROGN_29_WARTUNG | IT1: SK_PROGN_210_SONSTIGE | IU1: SK_PROGN_2_SUM | IV1: FL_PROGN_31_Küche | IW1: FL_PROGN_32_WÄSCHEREI | IX1: FL_PROGN_33_WÄSCHE-KZ | IY1: FL_PROGN_34_REINIGUNG | IZ1: FL_PROGN_35_VW | JA1: FL_PROGN_36_HT | JB1: FL_PROGN_37_EINTR | JC1: FL_PROGN_37_ZEILE1 | JD1: FL_PROGN_38_EINTR | JE1: FL_PROGN_38_ZEILE2 | JF1: FL_PROGN_3_SUM | JG1: SK_PROGN-BT_21_LEBENSM | JH1: SK_PROGN-BT_22_PFLEGEBEDARF | JI1: SK_PROGN-BT_23_W-E-B | JJ1: SK_PROGN-BT_24_VW_BEDARF | JK1: SK_PROGN-BT_25_VW_DIENSTE | JL1: SK_PROGN-BT_26_BETREUUNG | JM1: SK_PROGN-BT_27_WIRTSCHAFT | JN1: SK_PROGN-BT_28_S-A-V | JO1: SK_PROGN-BT_29_WARTUNG | JP1: SK_PROGN-BT_210_SONSTIGE | JQ1: SK_PROGN-BT_2_SUM | JR1: FL_PROGN-BT_31_Küche | JS1: FL_PROGN-BT_32_WÄSCHEREI | JT1: FL_PROGN-BT_33_WÄSCHE-KZ | JU1: FL_PROGN-BT_34_REINIGUNG | JV1: FL_PROGN-BT_35_VW | JW1: FL_PROGN-BT_36_HT | JX1: FL_PROGN-BT_37_EINTR | JY1: FL_PROGN-BT_37_ZEILE1 | JZ1: FL_PROGN-BT_38_EINTR | KA1: FL_PROGN-BT_38_ZEILE2 | KB1: FL_PROGN-BT_3_SUM | KC1: SK_PROGN_UR_PROZ | KD1: SK_PROGN_UR_BETR | KE1: FORD_VK_111_PDL-stellvPDL | KF1: FORD_VK_112_QM | KG1: FORD_VK_113_HM | KH1: FORD_VK_121_PFK/BFK | KI1: FORD_VK_122_PK/BK | KJ1: FORD_VK_123_PK/BK o. | KK1: FORD_VK_131_43b | KL1: FORD_VK_14_LuV | KM1: FORD_VK_15_HW | KN1: FORD_VK_16_KÜCHE | KO1: FORD_VK_17_HAT | KP1: FORD_Anzahhl_18_FwD_FSJ | KQ1: FORD_VK_111_PDL-stellvPDL_DAV_VST | KR1: FORD_VK_112_QM_DAV_VST | KS1: FORD_VK_113_HM_DAV_VST | KT1: FORD_VK_121_PFK/BFK_DAV_VST | KU1: FORD_VK_122_PK/BK_DAV_VST | KV1: FORD_VK_123_PK/BK o._DAV_VST | KW1: FORD_VK_131_43b_DAV_VST | KX1: FORD_VK_14_LuV_DAV_VST | KY1: FORD_VK_15_HW_DAV_VST | KZ1: FORD_VK_16_KÜCHE_DAV_VST | LA1: FORD_VK_17_HAT_DAV_VST | LB1: FORD_Anzahl_18_FwD_FSJ_DAV_VST | LC1: FORD_VK_111_PDL-stellvPDL_DAV_KZP | LD1: FORD_VK_112_QM_DAV_KZP | LE1: FORD_VK_113_HM_DAV_KZP | LF1: FORD_VK_121_PFK/BFK_DAV_KZP | LG1: FORD_VK_122_PK/BK_DAV_KZP | LH1: FORD_VK_123_PK/BK o._DAV_KZP | LI1: FORD_VK_131_43b_DAV_KZP | LJ1: FORD_VK_14_LuV_DAV_KZP | LK1: FORD_VK_15_HW_DAV_KZP | LL1: FORD_VK_16_KÜCHE_DAV_KZP | LM1: FORD_VK_17_HAT_DAV_KZP | LN1: FORD_Anzahl_18_FwD_FSJ_DAV_KZP | LO1: FORD_ANT_113c_121_PFK/BFK | LP1: FORD_ANT_113c_122_PK/BK | LQ1: FORD_ANT_113c_123_PK/BK o. | LR1: FORD_PR_131_43b_ | LS1: FORD_PR_14_LuV_ | LT1: FORD_PR_15_HW_ | LU1: FORD_PR_16_KÜCHE_ | LV1: FORD_PR_17_HAT_ | LW1: FORD_PR_18_FwD_FSJ_ | LX1: FORD_EEE_VST | LY1: FORD_PS-PG1_VST | LZ1: FORD_PS-PG2_VST | MA1: FORD_PS-PG3_VST | MB1: FORD_PS-PG4_VST | MC1: FORD_PS-PG5_VST | MD1: FORD_43b_VST | ME1: FORD_U_VST | MF1: FORD_V_VST | MG1: FORD_PS-PG1-5_KZP | MH1: FORD_43b_KZP | MI1: FORD_U_KZP | MJ1: FORD_V_KZP | MK1: VWBUD_GES_PeKo_PROGN | ML1: VWBUD_PeKo_BREUCK | MM1: VWBUD_PeKo_SK-FL_BERUECK | MN1: VWBUD_PROZENT | MO1: VWBUD_BETRAG | MP1: VWBUD_AUFSCHLAG | MQ1: VWBUD_AUFSCHLAG_BETRAG | MR1: VWBUD_N_AUSG_STELLENANT | MS1: VWBUD_PK_JE_VK | MT1: VWBUD_ERGEBNIS | MU1: Bel_letzte24 M_von | MV1: Bel_letzte24 M_bis | MW1: BEL_letze24M_PG1 | MX1: BEL_letze24M_PG2 | MY1: BEL_letze24M_PG3 | MZ1: BEL_letze24M_PG4 | NA1: BEL_letze24M_PG5 | NB1: BEL_letze24M_SUM | NC1: BelTage_letzten12M | ND1: PKL_PERS_IST_131_43b_PFK/BFK | NE1: PKL_AG_Brutto_IST_131_43b_PFK/BFK | NF1: PKL_PERS_IST_14_LuV | NG1: PKL_AG_Brutto_IST_14_LuV | NH1: PKL_PERS_IST_15_HW_Kü_HAT | NI1: PKL_AG_Brutto_IST_15_HW_KÜ_HAT | NJ1: ständige Anwesenh. PFK | NK1: PERS_STICHT_15-17_HW_Kü_HAT | NL1: PERS_PROGN_15-17_HW_Kü_HAT | NM1: GES_PeKo_PROGN_15-17_HW_Kü_HAT | NN1: FORD_PR_PDL/ stellv. PDL_ | NO1: FORD_VK_Pflege/Betreuung_PG 1-5 | NP1: FORD_PR_Pflege/ Betreuung_PG 1-5 | NQ1: FORD_VK_LuV | NR1: FORD_PR_LuV | NS1: FORD_VK_HW_Kü_HAT | NT1: FORD_PR_HW_Kü_HAT
A2: pauschal_B_PH | B2: ='B_PH_Allgemeine Angaben'!L6 -> 0 | C2: ='B_PH_Allgemeine Angaben'!L7 -> 0 | D2: ='B_PH_Allgemeine Angaben'!L4 -> 0 | E2: ='B_PH_Allgemeine Angaben'!D6 -> 0 | F2: ='B_PH_Allgemeine Angaben'!D12 -> 0 | G2: ='B_PH_Allgemeine Angaben'!D14 -> 0 | H2: ='B_PH_Allgemeine Angaben'!D16 -> 0 | I2: ='B_PH_Allgemeine Angaben'!J16 -> 0 | J2: ='B_PH_Allgemeine Angaben'!D18 -> 0 | K2: ='B_PH_Allgemeine Angaben'!J18 -> 0 | L2: ='B_PH_Allgemeine Angaben'!D20 -> 0 | M2: ='B_PH_Allgemeine Angaben'!J20 -> 0 | N2: ='B_PH_Allgemeine Angaben'!D22 -> 0 | O2: ='B_PH_Allgemeine Angaben'!J22 -> 0 | P2: ='B_PH_Allgemeine Angaben'!D26 -> 0 | Q2: ='B_PH_Allgemeine Angaben'!D28 -> 0 | R2: ='B_PH_Allgemeine Angaben'!D30 -> 0 | S2: ='B_PH_Allgemeine Angaben'!J30 -> 0 | T2: ='B_PH_Allgemeine Angaben'!D32 -> 0 | U2: ='B_PH_Allgemeine Angaben'!J32 -> 0 | V2: ='B_PH_Allgemeine Angaben'!D34 -> 0 | W2: ='B_PH_Allgemeine Angaben'!J34 -> 0 | X2: ='B_PH_Allgemeine Angaben'!D36 -> 0 | Y2: ='B_PH_Allgemeine Angaben'!H41 -> 0 | Z2: ='B_PH_Allgemeine Angaben'!H45 -> 0 | AA2: ='B_PH_Allgemeine Angaben'!L47 -> 0 | AB2: ='B_PH_Allgemeine Angaben'!L48 -> 0 | AC2: ='B_PH_Allgemeine Angaben'!H52 -> 0 | AD2: ='B_PH_Allgemeine Angaben'!K52 -> 0 | AE2: ='B_PH_Allgemeine Angaben'!H54 -> 0 | AF2: ='B_PH_Allgemeine Angaben'!K54 -> 0 | AG2: ='B_PH_Allgemeine Angaben'!K64 -> 0 | AH2: ='B_PH_Allgemeine Angaben'!K65 -> 0 | AI2: ='B_PH_Allgemeine Angaben'!K66 -> 0 | AJ2: ='B_PH_Allgemeine Angaben'!K67 -> 0 | AK2: ='B_PH_Allgemeine Angaben'!K68 -> 0 | AL2: ='B_PH_Allgemeine Angaben'!K69 -> 0 | AM2: ='B_PH_Allgemeine Angaben'!K70 -> 0 | AN2: ='B_PH_Allgemeine Angaben'!K72 -> 0 | AQ2: =B_PH_Kalkulation!D7/100 -> 0 | BD2: =B_PH_Kalkulation!H15 -> 0 | BE2: =B_PH_Kalkulation!I15 -> 0 | BF2: =B_PH_Kalkulation!J15 -> 0 | BG2: =B_PH_Kalkulation!K15 -> 0 | BH2: =B_PH_Kalkulation!L15 -> 0 | BI2: =B_PH_Kalkulation!L13 -> 0 | BJ2: =B_PH_Kalkulation!H18 -> 0 | BK2: =B_PH_Kalkulation!I18 -> 0 | BL2: =B_PH_Kalkulation!J18 -> 0 | BM2: =B_PH_Kalkulation!K18 -> 0 | BN2: =B_PH_Kalkulation!L18 -> 0 | BO2: =B_PH_Kalkulation!L17 -> 0 | DJ2: ='B_PH_Allgemeine Angaben'!H56 -> 0 | DK2: ='B_PH_Allgemeine Angaben'!H57 -> 0 | DL2: ='B_PH_Allgemeine Angaben'!H58 -> 0 | DM2: ='B_PH_Allgemeine Angaben'!H59 -> 0 | FD2: =B_PH_Kalkulation!J21 -> 0 | FE2: =B_PH_Kalkulation!J22 -> 0 | FF2: =B_PH_Kalkulation!J23 -> 0 | FH2: =B_PH_Kalkulation!J24 -> 0 | FJ2: =B_PH_Kalkulation!J25 -> 0 | FL2: =B_PH_Kalkulation!J26 -> 0 | FO2: =B_PH_Kalkulation!I24 -> 0 | FP2: =B_PH_Kalkulation!I25 -> 0 | FQ2: =B_PH_Kalkulation!I26 -> 0 | FT2: =B_PH_Kalkulation!J27 -> 0 | FW2: =B_PH_Kalkulation!J28 -> 0 | FX2: =B_PH_Kalkulation!J29 -> 0 | GD2: =B_PH_Kalkulation!J30 -> 0 | GE2: =B_PH_Kalkulation!J31 -> 0 | GF2: =B_PH_Kalkulation!J32 -> 0 | GG2: 0 | GR2: =B_PH_Gesamtkalkulation!D17 -> 0 | GS2: =B_PH_Gesamtkalkulation!D18 -> 0 | GT2: =B_PH_Gesamtkalkulation!D19 -> 0 | GV2: =B_PH_Gesamtkalkulation!D20 -> 0 | GW2: =B_PH_Gesamtkalkulation!D21 -> 0 | GX2: =B_PH_Gesamtkalkulation!D22 -> 0 | HB2: =B_PH_Gesamtkalkulation!D23 -> 0 | HE2: =B_PH_Gesamtkalkulation!D24 -> 0 | HF2: =B_PH_Gesamtkalkulation!D25 -> 0 | HG2: =B_PH_Gesamtkalkulation!D26 -> 0 | HH2: =B_PH_Gesamtkalkulation!D27 -> 0 | HI2: =B_PH_Gesamtkalkulation!D28 -> 0 | HJ2: 0 | IK2: =B_PH_Kalkulation!L36 -> 0 | IL2: =B_PH_Kalkulation!L37 -> 0 | IM2: =B_PH_Kalkulation!L38 -> 0 | IP2: =B_PH_Kalkulation!L39 -> 0 | IQ2: =B_PH_Kalkulation!L40 -> 0 | IR2: =B_PH_Kalkulation!L41 -> 0 | IS2: =B_PH_Kalkulation!L42 -> 0 | IT2: =B_PH_Kalkulation!L43 -> 0 | IU2: =B_PH_Kalkulation!L44 -> 0 | IV2: =B_PH_Kalkulation!L47 -> 0 | IW2: =B_PH_Kalkulation!L48 -> 0 | IX2: =B_PH_Kalkulation!L49 -> 0 | IY2: =B_PH_Kalkulation!L50 -> 0 | JA2: =B_PH_Kalkulation!L51 -> 0 | JB2: =B_PH_Kalkulation!C52 -> 0 | JC2: =B_PH_Kalkulation!L52 -> 0 | JD2: =B_PH_Kalkulation!C53 -> 0 | JE2: =B_PH_Kalkulation!L53 -> 0 | JF2: =B_PH_Kalkulation!L54 -> 0 | JG2: =B_PH_Kalkulation!M36 | JH2: =B_PH_Kalkulation!M37 | JI2: =B_PH_Kalkulation!M38 | JL2: =B_PH_Kalkulation!M39 | JM2: =B_PH_Kalkulation!M40 | JN2: =B_PH_Kalkulation!M41 | JO2: =B_PH_Kalkulation!M42 | JP2: =B_PH_Kalkulation!M43 | JQ2: =B_PH_Kalkulation!M44 -> 0 | JR2: =B_PH_Kalkulation!M47 | JS2: =B_PH_Kalkulation!M48 | JT2: =B_PH_Kalkulation!M49 | JU2: =B_PH_Kalkulation!M50 | JW2: =B_PH_Kalkulation!M51 | JX2: =B_PH_Kalkulation!C52 -> 0 | JY2: =B_PH_Kalkulation!M52 | JZ2: =B_PH_Kalkulation!C53 -> 0 | KA2: =B_PH_Kalkulation!M53 | KB2: =B_PH_Kalkulation!M54 -> 0 | KE2: =B_PH_Ergebnis!F31 -> 0 | KF2: =B_PH_Ergebnis!F32 -> 0 | KG2: =B_PH_Ergebnis!F33 -> 0 | KH2: =B_PH_Ergebnis!F36 -> 0 | KI2: =B_PH_Ergebnis!F37 -> 0 | KJ2: =B_PH_Ergebnis!F38 -> 0 | KK2: =B_PH_Ergebnis!F42 -> 0 | KM2: =B_PH_Ergebnis!F46 -> 0 | KN2: =B_PH_Ergebnis!F48 -> 0 | KO2: =B_PH_Ergebnis!F50 -> 0 | KP2: =B_PH_Ergebnis!F53 -> 0 | KQ2: =B_PH_Ergebnis!H31 -> 0 | KR2: =B_PH_Ergebnis!H32 -> 0 | KS2: =B_PH_Ergebnis!H33 -> 0 | KT2: =B_PH_Ergebnis!H36 -> 0 | KU2: =B_PH_Ergebnis!H37 -> 0 | KV2: =B_PH_Ergebnis!H38 -> 0 | KW2: =B_PH_Ergebnis!H42 -> 0 | KY2: =B_PH_Ergebnis!H46 -> 0 | KZ2: =B_PH_Ergebnis!H48 -> 0 | LA2: =B_PH_Ergebnis!H50 -> 0 | LB2: =B_PH_Ergebnis!H53 -> 0 | LC2: =B_PH_Ergebnis!I31 -> 0 | LD2: =B_PH_Ergebnis!I32 -> 0 | LE2: =B_PH_Ergebnis!I33 -> 0 | LF2: =B_PH_Ergebnis!I36 -> 0 | LG2: =B_PH_Ergebnis!I37 -> 0 | LH2: =B_PH_Ergebnis!I38 -> 0 | LI2: =B_PH_Ergebnis!I42 -> 0 | LK2: =B_PH_Ergebnis!I46 -> 0 | LL2: =B_PH_Ergebnis!I48 -> 0 | LM2: =B_PH_Ergebnis!I50 -> 0 | LN2: =B_PH_Ergebnis!I53 -> 0 | LO2: =B_PH_Ergebnis!J36 -> 0 | LP2: =B_PH_Ergebnis!J37 -> 0 | LQ2: =B_PH_Ergebnis!J38 -> 0 | LR2: =B_PH_Ergebnis!L42 -> 20 | LT2: =B_PH_Ergebnis!L46 | LU2: =B_PH_Ergebnis!L48 | LV2: =B_PH_Ergebnis!L50 | LX2: =B_PH_Ergebnis!F74 | LY2: =B_PH_Ergebnis!F78 | LZ2: =B_PH_Ergebnis!F80 | MA2: =B_PH_Ergebnis!F82 | MB2: =B_PH_Ergebnis!F84 | MC2: =B_PH_Ergebnis!F86 | MD2: =B_PH_Ergebnis!F88 | ME2: =B_PH_Ergebnis!F92 | MF2: =B_PH_Ergebnis!F94 | MG2: =B_PH_Ergebnis!L78 | MH2: =B_PH_Ergebnis!L88 | MI2: =B_PH_Ergebnis!L92 | MJ2: =B_PH_Ergebnis!L94 | MK2: =B_PH_Gesamtkalkulation!D16 | ML2: =IFERROR(B_PH_Gesamtkalkulation!D16-B_PH_Gesamtkalkulation!D23-B_PH_Gesamtkalkulation!D24,0) -> 0 | MM2: =B_PH_Kalkulation!L57 -> 0 | MN2: =B_PH_Kalkulation!L58 -> 0 | MO2: =B_PH_Kalkulation!M58 -> 0 | MP2: =B_PH_Kalkulation!L60 -> 0 | MQ2: =B_PH_Kalkulation!M60 -> 0 | MR2: =B_PH_Kalkulation!J60 -> 0.75 | MS2: =B_PH_Kalkulation!K60 -> 98662 | MT2: =B_PH_Kalkulation!M61 -> 0
A3: Version 19.10.2026 | AQ3: Formel | DQ3: entfernt: B_PH_Berechnung rüE'!C34 | DR3: entfernt: B_PH_Berechnung rüE'!D34 | DS3: entfernt: B_PH_Berechnung rüE'!E34 | DT3: entfernt: B_PH_Berechnung rüE'!C36 | DU3: entfernt: B_PH_Berechnung rüE'!D36 | DV3: entfernt: B_PH_Berechnung rüE'!E36 | DW3: entfernt: B_PH_Berechnung rüE'!C37 | DX3: entfernt: B_PH_Berechnung rüE'!C40 | DY3: entfernt: B_PH_Berechnung rüE'!C42 | DZ3: entfernt: B_PH_Berechnung rüE'!D42 | EA3: entfernt: B_PH_Berechnung rüE'!E42
ML4: Formel
A5: BEL_PG1 | B5: BEL_PG2 | C5: BEL_PG3 | D5: BEL_PG4 | E5: BEL_PG5 | F5: BEL_DAV_KZP_PG1 | G5: BEL_DAV_KZP_PG2 | H5: BEL_DAV_KZP_PG3 | I5: BEL_DAV_KZP_PG4 | J5: BEL_DAV_KZP_PG5 | K5: SV_ANT | L5: bAV_ANT | M5: TV_ Steigerung | N5: PNK_ANT | O5: PNK € | P5: stfr. Sachbez. | Q5: stfr. Sachbez. € | R5: UR_ANT | S5: UR € | T5: PFK/ BFK_VK_ 113c | U5: PK/BK_VK_113c | V5: PK/BK o._VK_113c | W5: PFK/BFK aus ZV (§ 8 Abs. 6/ § 84 Abs. 9) | X5: PK/BK_VK_aus ZV (§ 8 Abs. 6/ § 84 Abs. 9) | Y5: PK/BK o._VK_ aus ZV (§ 8 Abs. 6/ § 84 Abs. 9) | Z5: PDL / stellvertretende PDL_VK | AA5: Qualitätsmanagement_VK | AB5: Hygienemanagement_VK | AC5: HW_PFK/BFK_DAVON_Präsenzkraft_VK | AD5: HW_PK/BK_DAVON_Präsenzkraft_VK | AE5: HW_PK/BK o._DAVON_Präsenzkraft_VK | AF5: VK_EL | AG5: PR_HW | AH5: HW_PFK/BFK_DAVON_Präsenzkraft_VK | AI5: HW_PK/BK_DAVON_Präsenzkraft_VK | AJ5: HW_PK/BK o._DAVON_Präsenzkraft_VK | AK5: PR_Kü | AL5: PR_HAT | AM5: Anzahl_Freiw. Dienste | AN5: PDL / stellvertretende PDL_PK €/VK | AO5: Qualitätsmanagement_PK €/VK | AP5: Hygienemanagement_VK €/VK | AQ5: PFK/BFK_VK €/VK | AR5: PK/BK_VK €/VK | AS5: PK/BK o._VK €/VK | AT5: 43b_PK €/VK | AU5: EL_PK €/VK | AV5: HW_PK €/VK | AW5: Kü_PK €/VK | AX5: HAT_PK €/VK | AY5: Freiw. Dienste_PK €/Stelle | AZ5: SK_UR_Ant. | BA5: Ford._LM_€/BT | BB5: Ford._pfleg. Sachbedarf_€/BT | BC5: Ford._WEB_€/BT | BD5: Ford._VW-Bedarf_€/BT | BE5: Ford._ZVW_€/BT | BF5: Ford._Betreuungsaufw._€/BT | BG5: Ford._Wirt-Bedarf_€/BT | BH5: Ford._S/A/V_€/BT | BI5: Ford._Wartung_€/BT | BJ5: Ford._sonst.Sachbedarf_€/BT | BK5: Ford._FL Kü_€/BT | BL5: Ford._FL Wä_€/BT | BM5: Ford._FL WäKZ_€/BT | BN5: Ford._FL Reinigung_€/BT | BO5: Ford._FL VW_€/BT | BP5: Ford._FL HAT_€/BT | BQ5: Ford._FL sonstige_€/BT | BR5: Ford._FL sonstige_€/BT | BS5: Angebot_LM_€/BT | BT5: Angebot_pfleg. Sachbedarf_€/BT | BU5: Angebot_WEB_€/BT | BV5: Angebot_VW-Bedarf_€/BT | BW5: Angebot_ZVW_€/BT | BX5: Angebot_Betreuungsaufw._€/BT | BY5: Angebot_Wirt-Bedarf_€/BT | BZ5: Angebot_S/A/V_€/BT | CA5: Angebot_Wartung_€/BT | CB5: Angebot_sonst.Sachbedarf_€/BT | CC5: Angebot_FL Kü_€/BT | CD5: Angebot_FL Wä_€/BT | CE5: Angebot_FL WäKZ_€/BT | CF5: Angebot_FL Reinigung_€/BT | CG5: Angebot_FL VW_€/BT | CH5: Angebot_FL HAT_€/BT | CI5: Angebot_FL sonstige_€/BT | CJ5: Angebot_FL sonstige_€/BT | CK5: VWBUD_GES_PeKo_PROGN | CL5: VWBUD_PeKo_BREUCK | CM5: VWBUD_PeKo_SK-FL_BERUECK | CN5: VWBUD_PROZENT | CO5: VWBUD_BETRAG | CP5: VWBUD_AUFSCHLAG | CQ5: VWBUD_AUFSCHLAG_BETRAG | CR5: VWBUD_N_AUSG_STELLENANT | CS5: VWBUD_PK_JE_VK | CT5: VWBUD_ERGEBNIS | CU5: Psatz_VST_PG 1 | CV5: Psatz_VST_PG 2 | CW5: Psatz_VST_PG 3 | CX5: Psatz_VST_PG 4 | CY5: Psatz_VST_PG 5 | CZ5: EEE | DA5: U_VST | DB5: V_VST | DC5: § 43b_VST | DD5: Psatz_KZP_PG 1 bis 5 | DE5: U_KZP | DF5: V_KZP | DG5: § 43b_KZP
A6: =B_PH_Ergebnis!F16 -> 0 | B6: =B_PH_Ergebnis!F17 -> 0 | C6: =B_PH_Ergebnis!F18 -> 0 | D6: =B_PH_Ergebnis!F19 -> 0 | E6: =B_PH_Ergebnis!F20 -> 0 | F6: =B_PH_Ergebnis!I16 -> 0 | G6: =B_PH_Ergebnis!I17 -> 0 | H6: =B_PH_Ergebnis!I18 -> 0 | I6: =B_PH_Ergebnis!I19 -> 0 | J6: =B_PH_Ergebnis!I20 -> 0 | T6: =B_PH_Ergebnis!F36 -> 0 | U6: =B_PH_Ergebnis!F37 -> 0 | V6: =B_PH_Ergebnis!F38 -> 0 | Z6: =B_PH_Ergebnis!F31 -> 0 | AA6: =B_PH_Ergebnis!F32 -> 0 | AB6: =B_PH_Ergebnis!F33 -> 0 | AF6: =B_PH_Ergebnis!F44 -> 0 | AG6: =B_PH_Ergebnis!L46 | AK6: =B_PH_Ergebnis!L48 | AL6: =B_PH_Ergebnis!L50 | AM6: =B_PH_Ergebnis!F53 -> 0 | AN6: =B_PH_Ergebnis!N31 -> 0 | AO6: =B_PH_Ergebnis!N32 -> 0 | AP6: =B_PH_Ergebnis!N33 -> 0 | AQ6: =B_PH_Ergebnis!N36 -> 0 | AR6: =B_PH_Ergebnis!N37 -> 0 | AS6: =B_PH_Ergebnis!N38 -> 0 | AT6: =B_PH_Ergebnis!N42 -> 0 | AU6: =B_PH_Ergebnis!N44 -> 0 | AV6: =B_PH_Ergebnis!N46 -> 0 | AW6: =B_PH_Ergebnis!N48 -> 0 | AX6: =B_PH_Ergebnis!N50 -> 0 | AY6: =B_PH_Ergebnis!N53 -> 0 | BS6: =B_PH_Kalkulation!M36 | BT6: =B_PH_Kalkulation!M37 | BU6: =B_PH_Kalkulation!M38 | BX6: =B_PH_Kalkulation!M39 | BY6: =B_PH_Kalkulation!M40 | BZ6: =B_PH_Kalkulation!M41 | CA6: =B_PH_Kalkulation!M42 | CB6: =B_PH_Kalkulation!M43 | CC6: =B_PH_Kalkulation!M47 | CD6: =B_PH_Kalkulation!M48 | CE6: =B_PH_Kalkulation!M49 | CF6: =B_PH_Kalkulation!M50 | CH6: =B_PH_Kalkulation!M51 | CI6: =B_PH_Kalkulation!M52 | CJ6: =B_PH_Kalkulation!M53 | CK6: =B_PH_Gesamtkalkulation!D16 | CL6: =IFERROR(B_PH_Gesamtkalkulation!D16-B_PH_Gesamtkalkulation!D23-B_PH_Gesamtkalkulation!D24,0) -> 0 | CM6: =B_PH_Kalkulation!L57 -> 0 | CN6: =B_PH_Kalkulation!L58 -> 0 | CO6: =B_PH_Kalkulation!M58 -> 0 | CP6: =B_PH_Kalkulation!L60 -> 0 | CQ6: =B_PH_Kalkulation!M60 -> 0 | CR6: =B_PH_Kalkulation!J60 -> 0.75 | CS6: =B_PH_Kalkulation!K60 -> 98662 | CT6: =B_PH_Kalkulation!M61 -> 0 | CU6: =B_PH_Ergebnis!F78 | CV6: =B_PH_Ergebnis!F80 | CW6: =B_PH_Ergebnis!F82 | CX6: =B_PH_Ergebnis!F84 | CY6: =B_PH_Ergebnis!F86 | CZ6: =B_PH_Ergebnis!F74 | DA6: =B_PH_Ergebnis!F92 | DB6: =B_PH_Ergebnis!F94 | DC6: =B_PH_Ergebnis!F88 | DD6: =B_PH_Ergebnis!L78 | DE6: =B_PH_Ergebnis!L92 | DF6: =B_PH_Ergebnis!L94 | DG6: =B_PH_Ergebnis!L88
CL7: Formel
A8: für Bvgl
A9: Erfassungstag /Änderungstag | B9: Platzzahl | C9: dav_KZP_Plätze | D9: IK KZP | E9: KZP bzw. Art KZP | F9: Auslastung_E | G9: Auslastung KZP | H9: VG_PDL-stellvPDL | I9: VG_QM | J9: VG_HM | K9: VG_PFK/BFK | L9: VG_PK/BK | M9: VG_PK/BK o. | N9: VG_43b | O9: VG_EL | P9: VG_HW | Q9: VG_Küche | R9: VG_HT | S9: VG_ZDL-FSJ | T9: PNK (%) | U9: stfr.Sachbez. (%) | V9: Risiko/Wagnis/Gewinn-PK (%) | W9: Risiko/Wagnis/Gewinn-SK (%) | X9: SK_Lebensmittel BelTag | Y9: SK_pfleg_ Bedarf BelTag | Z9: SK_W/E/B BelTag | AA9: SK_VW-Bedarf BelTag | AB9: SK_Zentr-VW BelTag | AC9: SK_Betreuung BelTag | AD9: SK_Wirt-bedarf BelTag | AE9: SK_S/A/V BelTag | AF9: SK_Wartung BelTag | AG9: SK_Sonstiges BelTag | AH9: FL_Küche BelTag | AI9: FL_Wäscherei BelTag | AJ9: FL_Wäschekennz_BelTag | AK9: FL_Reinigung BelTag | AL9: FL_Zentrale Verwaltung BelTag | AM9: FL_Haustechnik BelTag | AN9: FL_Sonstiges_HW_HT BelTag | AO9: FL_Sonstiges BelTag | AP9: VE_PS_PG1 | AQ9: VE_PS_PG2 | AR9: VE_PS_PG3 | AS9: VE_PS_PG4 | AT9: VE_PS_PG5 | AU9: VE_EEE | AV9: VE_U | AW9: VE_V | AX9: VE_FK | AY9: VE-Beginn | AZ9: VE-Ende | BA9: Verhandlungs-verfahren | BB9: VE_PS_PG1-5_KZP | BC9: VE_U_KZP | BD9: VE_V_KZP | BE9: Auslastung_12_Mon_Erf | BF9: Bel_PG1 | BG9: Bel_PG2 | BH9: Bel_PG3 | BI9: Bel_PG4 | BJ9: Bel_PG5 | BK9: VK_PDL-stellvPDL | BL9: VK_QM | BM9: VK_HM | BN9: VK_PFK/BFK | BO9: VK_PK/BK | BP9: VK_PK/BK_o. | BQ9: ANT_PFK_zu113c(1)3 | BR9: ANT_PK/BK_zu113c(1)2 | BS9: ANT_PK/BK o._zu113c(1)1 | BT9: PR_L/V | BU9: PR_Hauswirtschaft | BV9: PR_Küche | BW9: PR_Haustechnik | BX9: Anz_BFD/FSJ | BY9: unmittelbare Tarifbindung | BZ9: Entlohng nach | CA9: Tarif | CB9: STD_VG_PFK/BFK | CC9: STD_VG_PK/BK | CD9: STD_VG_PK/BK_o. | CE9: STD_VG_einr.ind.Egniveau_Erf | CF9: VK_PFK/BFK_GVWG | CG9: VK_PK/BK_GVWG | CH9: VK_PK/BK_o._GVWG | CI9: GES_VG_PFK/BFK | CJ9: GES_VG_PK/BK | CK9: GES_VG_PK/BK_o. | CL9: VWBUD_PROZENT | CM9: VWBUD_BETRAG | CN9: VWBUD_AUFSCHLAG | CO9: VWBUD_AUFSCHLAG_BETRAG | CP9: VWBUD_N_AUSG_STELLENANT | CQ9: VWBUD_PK_JE_VK | CR9: VWBUD_ERGEBNIS_BelT | CS9: VK_EL | CT9: PLATZHALTER | CU9: PLATZHALTER | CV9: ANT_PFK_zu113c(1)3 VOR | CW9: ANT_PK/BK_zu113c(1)3 VOR | CX9: ANT_PK/BKo._zu113c(1)3 VOR | CY9: VK_PFK/BFK_PG1 | CZ9: VK_PFK/BFK_PG2 | DA9: VK_PFK/BFK_PG3 | DB9: VK_PFK/BFK_PG4 | DC9: VK_PFK/BFK_PG5 | DD9: VK_PK/BK_PG1 | DE9: VK_PK/BK_PG2 | DF9: VK_PK/BK_PG3 | DG9: VK_PK/BK_PG4 | DH9: VK_PK/BK_PG5 | DI9: VK_PK/BK o._PG1 | DJ9: VK_PK/BK o._PG2 | DK9: VK_PK/BK o._PG3 | DL9: VK_PK/BK o._PG4 | DM9: VK_PK/BK o._PG5 | DN9: Veränderung PK (gesamt - inkl. FSJ/BufDi) | DO9: Veränderung drchn PK €/VK (ohne FSJ/BufDi) | DP9: Veränderung SK | DQ9: Veränderung FL | DR9: Gesamtkosten | DS9: Gesamtkosten o. 43 b
A10: =TODAY() -> 46317 | B10: ='B_PH_Allgemeine Angaben'!L47 -> 0 | C10: ='B_PH_Allgemeine Angaben'!L48 -> 0 | D10: ='B_PH_Allgemeine Angaben'!L7 -> 0 | E10: =IF('B_PH_Allgemeine Angaben'!L7>0,"angebundene KZP",IF(AND('B_PH_Allgemeine Angaben'!L7="",'B_PH_Allgemeine Angaben'!L48>0),"integrierte KZP","ohne angebundene / integrierte KZP")) -> ohne angebundene / integrierte KZP | F10: =B_PH_Kalkulation!D7/100 -> 0 | G10: =IF('B_PH_Allgemeine Angaben'!L48=0,0%,80%) -> 0 | H10: =B_PH_Ergebnis!N31 -> 0 | I10: =B_PH_Ergebnis!N32 -> 0 | J10: =B_PH_Ergebnis!N33 -> 0 | K10: =B_PH_Ergebnis!N36 -> 0 | L10: =B_PH_Ergebnis!N37 -> 0 | M10: =B_PH_Ergebnis!N38 -> 0 | N10: =B_PH_Ergebnis!N42 -> 0 | O10: =B_PH_Ergebnis!N44 -> 0 | P10: =B_PH_Ergebnis!N46 -> 0 | Q10: =B_PH_Ergebnis!N48 -> 0 | R10: =B_PH_Ergebnis!N50 -> 0 | S10: =B_PH_Ergebnis!N53 -> 0 | X10: =B_PH_Kalkulation!M36 | Y10: =B_PH_Kalkulation!M37 | Z10: =B_PH_Kalkulation!M38 | AC10: =B_PH_Kalkulation!M39 | AD10: =B_PH_Kalkulation!M40 | AE10: =B_PH_Kalkulation!M41 | AF10: =B_PH_Kalkulation!M42 | AG10: =B_PH_Kalkulation!M43 | AH10: =B_PH_Kalkulation!M47 | AI10: =B_PH_Kalkulation!M48 | AJ10: =B_PH_Kalkulation!M49 | AK10: =B_PH_Kalkulation!M50 | AM10: =B_PH_Kalkulation!M51 | AN10: =B_PH_Kalkulation!M52 | AO10: =B_PH_Kalkulation!M53 | AP10: =B_PH_Gesamtkalkulation!J57 | AQ10: =B_PH_Gesamtkalkulation!L57 -> #VALUE! | AR10: =B_PH_Gesamtkalkulation!N57 -> #VALUE! | AS10: =B_PH_Gesamtkalkulation!P57 -> #VALUE! | AT10: =B_PH_Gesamtkalkulation!R57 -> #VALUE! | AU10: =B_PH_Gesamtkalkulation!J59 -> #VALUE! | AV10: =B_PH_Gesamtkalkulation!T57 -> #VALUE! | AW10: =B_PH_Gesamtkalkulation!V57 -> #VALUE! | AY10: =B_PH_Ergebnis!F11 | AZ10: =B_PH_Ergebnis!I11 -> 0 | BA10: =IF(B_PH_Ergebnis!B99="AOK PLUS","pauschal SAC B AOK",IF(B_PH_Ergebnis!B99="KSV","pauschal SAC B KSV",IF(B_PH_Ergebnis!B99="vdek","pauschal SAC B vdek",0))) -> 0 | BB10: =IF('B_PH_Allgemeine Angaben'!L48>0,B_PH_Gesamtkalkulation!J61,"") | BC10: =IF('B_PH_Allgemeine Angaben'!L48>0,B_PH_Gesamtkalkulation!T61,"") | BD10: =IF('B_PH_Allgemeine Angaben'!L48>0,B_PH_Gesamtkalkulation!V61,"") | BF10: =B_PH_Ergebnis!F16 -> 0 | BG10: =B_PH_Ergebnis!F17 -> 0 | BH10: =B_PH_Ergebnis!F18 -> 0 | BI10: =B_PH_Ergebnis!F19 -> 0 | BJ10: =B_PH_Ergebnis!F20 -> 0 | BK10: =B_PH_Ergebnis!F31 -> 0 | BL10: =B_PH_Ergebnis!F32 -> 0 | BM10: =B_PH_Ergebnis!F33 -> 0 | BN10: =B_PH_Ergebnis!F36 -> 0 | BO10: =B_PH_Ergebnis!F37 -> 0 | BP10: =B_PH_Ergebnis!F38 -> 0 | BQ10: =B_PH_Ergebnis!J36 -> 0 | BR10: =B_PH_Ergebnis!J37 -> 0 | BS10: =B_PH_Ergebnis!J38 -> 0 | BU10: =B_PH_Ergebnis!L46 | BV10: =B_PH_Ergebnis!L48 | BW10: =B_PH_Ergebnis!L50 | BX10: =B_PH_Ergebnis!F53 -> 0 | BY10: ='B_PH_Allgemeine Angaben'!H56 -> 0 | BZ10: ='B_PH_Allgemeine Angaben'!H57 -> 0 | CA10: ='B_PH_Allgemeine Angaben'!H58 -> 0 | CL10: =B_PH_Kalkulation!L58 -> 0 | CM10: =B_PH_Kalkulation!M58 -> 0 | CN10: =B_PH_Kalkulation!L60 -> 0 | CO10: =B_PH_Kalkulation!M60 -> 0 | CP10: =B_PH_Kalkulation!J60 -> 0.75 | CQ10: =B_PH_Kalkulation!K60 -> 98662 | CR10: =B_PH_Kalkulation!M61/B_PH_Gesamtkalkulation!P6 -> #VALUE! | CS10: =B_PH_Ergebnis!F44 -> 0 | CY10: =KAT!N35 -> 0 | CZ10: =KAT!N36 -> 0 | DA10: =KAT!N37 -> 0 | DB10: =KAT!N38 -> 0 | DC10: =KAT!N39 -> 0 | DD10: =KAT!O35 -> 0 | DE10: =KAT!O36 -> 0 | DF10: =KAT!O37 -> 0 | DG10: =KAT!O38 -> 0 | DH10: =KAT!O39 -> 0 | DI10: =KAT!P35 -> 0 | DJ10: =KAT!P36 -> 0 | DK10: =KAT!P37 -> 0 | DL10: =KAT!P38 -> 0 | DM10: =KAT!P39 -> 0 | DN10: =SUMPRODUCT(B_PH_Kalkulation!L21:L32,B_PH_Kalkulation!J21:J32)/SUMPRODUCT(B_PH_Kalkulation!F21:F32,B_PH_Kalkulation!D21:D32)-1 -> #DIV/0! | DO10: =(SUMPRODUCT(B_PH_Kalkulation!L21:L31,B_PH_Kalkulation!J21:J31)/SUM(B_PH_Kalkulation!J21:J31))/(SUMPRODUCT(B_PH_Kalkulation!F21:F31,B_PH_Kalkulation!D21:D31)/SUM(B_PH_Kalkulation!D21:D31))-1 -> #DIV/0! | DP10: =B_PH_Kalkulation!M35 -> 0 | DQ10: =B_PH_Kalkulation!M46 -> 0 | DR10: =B_PH_Gesamtkalkulation!D16+B_PH_Gesamtkalkulation!D30+B_PH_Gesamtkalkulation!D40+B_PH_Gesamtkalkulation!D49 -> #VALUE! | DS10: =DR10-B_PH_Gesamtkalkulation!D23 -> #VALUE!
A11: Version 19.10.2026 | H11: N31 | I11: N32 | J11: N33 | K11: N36 | L11: N37 | M11: N38 | N11: N42 | O11: N44 | P11: N46 | Q11: N48 | R11: N50 | S11: N53 | T11: entfällt bei B | U11: entfällt bei B | V11: entfällt bei B | W11: entfällt bei B | X11: M36 | Y11: M37 | Z11: M38 | AA11: gibt es nicht mehr, VW-Budget | AC11: M39 | AD11: M40 | AE11: M41 | AF11: M42 | AG11: M43 | AH11: M47 | AI11: M48 | AJ11: M49 | AK11: M50 | AL11: =AA11 -> gibt es nicht mehr, VW-Budget | AM11: M51 | AN11: M52 | AO11: M53 | AP11: J57 | AQ11: L57 | AR11: N57 | AS11: P57 | AT11: R57 | AU11: J59 | AV11: T57 | AW11: V57 | AY11: F11 | AZ11: I11 | BA11: Formel | BB11: J61 und Ergänzung Wennfunktion für KZP-Plätze | BC11: T61 und Ergänzung Wennfunktion für KZP-Plätze | BD11: V61 und Ergänzung Wennfunktion für KZP-Plätze | BF11: F16 | BG11: F17 | BH11: F18 | BI11: F19 | BJ11: F20 | BK11: F31 | BL11: F32 | BM11: F33 | BN11: F36 | BO11: F37 | BP11: F38 | BQ11: J36 | BR11: J37 | BS11: J38 | BT11: gibt es nicht mehr, VW-Budget | BU11: L46 | BV11: L48 | BW11: L50 | BX11: F53 | BY11: H56 | BZ11: H57 | CA11: H58 | CB11: entfernt: =WENN(UND('B_PH_Allgemeine Angaben'!H56="nein";'B_PH_Allgemeine Angaben'!H57="rüE");'B_PH_Berechnung rüE'!C34;"") | CC11: entfernt: =WENN(UND('B_PH_Allgemeine Angaben'!H56="nein";'B_PH_Allgemeine Angaben'!H57="rüE");'B_PH_Berechnung rüE'!D34;"") | CD11: entfernt: =WENN(UND('B_PH_Allgemeine Angaben'!H56="nein";'B_PH_Allgemeine Angaben'!H57="rüE");'B_PH_Berechnung rüE'!E34;"") | CE11: entfernt: =WENN(UND('B_PH_Allgemeine Angaben'!H56="nein";'B_PH_Allgemeine Angaben'!H57="rüE");'B_PH_Berechnung rüE'!C40;"") | CF11: entfernt: =WENN(UND('B_PH_Allgemeine Angaben'!H56="nein";'B_PH_Allgemeine Angaben'!H57="rüE");'B_PH_Berechnung rüE'!C36;"") | CG11: entfernt: =WENN(UND('B_PH_Allgemeine Angaben'!H56="nein";'B_PH_Allgemeine Angaben'!H57="rüE");'B_PH_Berechnung rüE'!D36;"") | CH11: entfernt: =WENN(UND('B_PH_Allgemeine Angaben'!H56="nein";'B_PH_Allgemeine Angaben'!H57="rüE");'B_PH_Berechnung rüE'!E36;"") | CI11: entfernt: =WENN(UND('B_PH_Allgemeine Angaben'!H56="nein";'B_PH_Allgemeine Angaben'!H57="rüE");'B_PH_Berechnung rüE'!C42;"") | CJ11: entfernt: =WENN(UND('B_PH_Allgemeine Angaben'!H56="nein";'B_PH_Allgemeine Angaben'!H57="rüE");'B_PH_Berechnung rüE'!D42;"") | CK11: entfernt: =WENN(UND('B_PH_Allgemeine Angaben'!H56="nein";'B_PH_Allgemeine Angaben'!H57="rüE");'B_PH_Berechnung rüE'!E42;"") | CL11: L58 | CM11: M58 | CN11: L60 | CO11: M60 | CP11: J60 | CQ11: K60 | CR11: Formel | CS11: F44 | CV11: seit 2026 nicht mehr relevant | CW11: seit 2026 nicht mehr relevant | CX11: seit 2026 nicht mehr relevant | CY11: N35 | CZ11: N26 | DA11: N37 | DB11: N38 | DC11: N39 | DD11: O35 | DE11: O36 | DF11: O37 | DG11: O38 | DH11: O39 | DI11: P35 | DJ11: P36 | DK11: P37 | DL11: P38 | DM11: P39 | DN11: Formel | DO11: Formel | DP11: M35 | DQ11: M46 | DR11: Formel
A13: Zeile 2 | B13: => Erfassung Vollkalkulation - Prognose | G13: offene Fragen an Bischi: | I13: Art und Auslastung der KZP >>> TESTEN, ob Formel einwandfrei funktioniert | P13: erledigt
A14: Zeile 6 | B14: => Erfassung Folgeverhandlung | G14: Abstimmung mit Astrid 9/26 | I14: Prozent PNK, Risiko? | P14: entfällt
A15: Zeile 10 | B15: => Erfassung Betriebsvergleich | I15: Sachkostenberechnung richtig? (Gesamtbetrag/365/Plätze?) | P15: erledigt
I16: Verhandlungsverfahren als fester Wert (pauschal SAC B), Verhandlungsführerschaft? | P16: erledigt
I17: Auslastung_12_Mon_Erf - gibt es Eintragungen zur Auslastung? | P17: entfällt
I18: Rundung Anteile §113c auf zwei Nachkommastellen? > umgesetzt über Datenüberprüfung | P18: erledigt
I19: Rundung Personalrelationen auf zwei Nachkommastellen? > umgesetzt über Datenüberprüfung | P19: erledigt
I20: Berechnung VW-Budget auf den Belegungstag - Formel testen!! | P20: erledigt
I21: Umrechnungstabelle im Hintergrund bei KAT einbauen, um die VK je QN auf die Pflegegrade aufzuteilen | P21: erledigt

Sheet KAT
A1: Einrichtungsart | B1: Kreuz | C1: Tage/Monat | D1: Öffnungstage | E1: Auslastung | F1: Ja/Nein | G1: Qualifikation | H1: Kostenträger | J1: ja
A2: vollstationäre Pflege | B2: x | C2: 30.42 | D2: 365 | E2: 1 | F2: ja | G2: PFK/BFK | H2: AOK PLUS
A3: Wohnpflegeheim | E3: 0.99 | F3: nein | G3: PK/BK | H3: KSV
A4: Wachkoma | E4: 0.98 | G4: PK/BK o. | H4: vdek | J4: Differenzierung KZP:
A5: 4. Generation | E5: 0.97 | G5: keine Pflege | J5: 1 | K5: = keinen eigenen VV = gleiches IK wie vst. PE
E6: 0.96 | J6: 2 | K6: = eigener VV = eigenes IK
A7: solitär | J7: 3 | K7: = keine KZP
A8: angebunden | J8: =IF('B_PH_Allgemeine Angaben'!L48=0,3,IF(AND('B_PH_Allgemeine Angaben'!L48>0,'B_PH_Allgemeine Angaben'!L6<>'B_PH_Allgemeine Angaben'!L7),2,IF(AND('B_PH_Allgemeine Angaben'!L48>0,'B_PH_Allgemeine Angaben'!L7='B_PH_Allgemeine Angaben'!L6),1))) -> 3 | K8: Prüfergebnis
A11: VK-Umfang für Sonderfunktionen entsprechend RVT
A13: PDL/ stellv. PDL
A14: Plätze von | B14: Plätze bis | C14: VK | D14: VK PDL für PE
A15: 1 | B15: 40 | C15: 0.75 | D15: =IF('B_PH_Allgemeine Angaben'!L47<A16,C15,IF('B_PH_Allgemeine Angaben'!L47<A17,C16,IF('B_PH_Allgemeine Angaben'!L47<A18,C17,C18))) -> 0.75
A16: 41 | B16: 80 | C16: 1
A17: 81 | B17: 150 | C17: 1.25
A18: 151 | B18: < 151 | C18: 2
A20: Qualitätsmanagement | D20: 0.5
A21: Hygienemanagement | D21: 0.25
A24: Mindestpersonalausstattung Pflege und Betreuung entsprechend RVT
A25: PFK/BFK | B25: 0.75 | E25: Prüfwert QN 1-3
A26: PK/BK | B26: 0.7 | E26: =(B_PH_Kalkulation!J25+B_PH_Kalkulation!J26)/(KAT!F40+KAT!H40) -> #DIV/0!
A32: Herleitung der Verteilungsschlüssel (%) für Personalkosten der Pflege/Betreuung in den PG | L32: Abstand PG 1 zu PG 2 (für Ableitung Pflegesatz PG 1 bei Nullbelegung in PG 1) | N32: Berichtspflicht - Verteilung VK je Berufsgruppe und PG auf Basis des Verteilungsschlüssels je PG für Personalkostenbudget Pflege | Q32: Verteilung P-Personalkosten im Gesamtbudget (Berichtspflicht)
B33: Belegung - Prognose | C33: PFK/BFK § 113 c Abs. 1 SGB XI je 1 Heimbewo. | D33: PFK/BFK § 113 c Abs. 1 SGB XI lt. Belegungs-prognose | E33: PK/BK § 113 c Abs. 1 SGB XI je Heimbewo. | F33: PK/BK § 113 c Abs. 1 SGB XI lt. Belegungs-prognose | G33: PK/BK o. § 113 c Abs. 1 SGB XI je Heimbewo. | H33: PK/BK o. § 113 c Abs. 1 SGB XI lt. Belegungs-prognose | I33: Summe § 113 c Abs. 1 SGB XI lt. Belegungs-prognose = Basis für Verteilung | J33: Pflege / Betreuung
J34: Prognose in VK | K34: Prognose in % | L34: Summe § 113 c Abs. 1 SGB XI | M34: Verhältnis PG 1 zu PG 2 | N34: VK - Angebot PFK/BFK | O34: VK - Angebot PFK/BFK | P34: VK - Angebot PK/BK o. | Q34: VK -Verteilung je PG | R34: in %
A35: Pflegegrad 1 | B35: =B_PH_Kalkulation!H15 -> 0 | C35: 0.077 | D35: =C35*B35 -> 0 | E35: 0.0564 | F35: =E35*B35 -> 0 | G35: 0.0872 | H35: =G35*B35 -> 0 | I35: =H35+F35+D35 -> 0 | J35: =I35/I$40*J$40 -> #DIV/0! | K35: =IFERROR(J35/$J$40,0) -> 0 | L35: =G35+E35+C35 -> 0.2206 | M35: =ROUND(L35/L36,4) -> 0.757 | N35: =$N$40*$R35 -> 0 | O35: =$O$40*$R35 -> 0 | P35: =$P$40*$R35 -> 0 | Q35: =IFERROR(I35*$Q$40/$I$40,0) -> 0 | R35: =IFERROR(Q35/$Q$40,0) -> 0
A36: Pflegegrad 2 | B36: =B_PH_Kalkulation!I15 -> 0 | C36: 0.1037 | D36: =C36*B36 -> 0 | E36: 0.0675 | F36: =E36*B36 -> 0 | G36: 0.1202 | H36: =G36*B36 -> 0 | I36: =H36+F36+D36 -> 0 | J36: =I36/I$40*J$40 -> #DIV/0! | K36: =IFERROR(J36/$J$40,0) -> 0 | L36: =G36+E36+C36 -> 0.2914 | N36: =$N$40*$R36 -> 0 | O36: =$O$40*$R36 -> 0 | P36: =$P$40*$R36 -> 0 | Q36: =IFERROR(I36*$Q$40/$I$40,0) -> 0 | R36: =IFERROR(Q36/$Q$40,0) -> 0
A37: Pflegegrad 3 | B37: =B_PH_Kalkulation!J15 -> 0 | C37: 0.1551 | D37: =C37*B37 -> 0 | E37: 0.1074 | F37: =E37*B37 -> 0 | G37: 0.1449 | H37: =G37*B37 -> 0 | I37: =H37+F37+D37 -> 0 | J37: =I37/I$40*J$40 -> #DIV/0! | K37: =IFERROR(J37/$J$40,0) -> 0 | N37: =$N$40*$R37 -> 0 | O37: =$O$40*$R37 -> 0 | P37: =$P$40*$R37 -> 0 | Q37: =IFERROR(I37*$Q$40/$I$40,0) -> 0 | R37: =IFERROR(Q37/$Q$40,0) -> 0
A38: Pflegegrad 4 | B38: =B_PH_Kalkulation!K15 -> 0 | C38: 0.2463 | D38: =C38*B38 -> 0 | E38: 0.1413 | F38: =E38*B38 -> 0 | G38: 0.1627 | H38: =G38*B38 -> 0 | I38: =H38+F38+D38 -> 0 | J38: =I38/I$40*J$40 -> #DIV/0! | K38: =IFERROR(J38/$J$40,0) -> 0 | N38: =$N$40*$R38 -> 0 | O38: =$O$40*$R38 -> 0 | P38: =$P$40*$R38 -> 0 | Q38: =IFERROR(I38*$Q$40/$I$40,0) -> 0 | R38: =IFERROR(Q38/$Q$40,0) -> 0
A39: Pflegegrad 5 | B39: =B_PH_Kalkulation!L15 -> 0 | C39: 0.3842 | D39: =C39*B39 -> 0 | E39: 0.1102 | F39: =E39*B39 -> 0 | G39: 0.1758 | H39: =G39*B39 -> 0 | I39: =H39+F39+D39 -> 0 | J39: =I39/I$40*J$40 -> #DIV/0! | K39: =IFERROR(J39/$J$40,0) -> 0 | N39: =$N$40*$R39 -> 0 | O39: =$O$40*$R39 -> 0 | P39: =$P$40*$R39 -> 0 | Q39: =IFERROR(I39*$Q$40/$I$40,0) -> 0 | R39: =IFERROR(Q39/$Q$40,0) -> 0
A40: Summe: | B40: =SUM(B35:B39) -> 0 | D40: =ROUND(SUM(D35:D39),4) -> 0 | F40: =ROUND(SUM(F35:F39),4) -> 0 | H40: =ROUND(SUM(H35:H39),4) -> 0 | I40: =SUM(I35:I39) -> 0 | J40: =SUM(B_PH_Kalkulation!J24:J26) -> 0 | N40: =D40 -> 0 | O40: =F40 -> 0 | P40: =H40 -> 0 | Q40: =SUM(N40:P40) -> 0 | R40: =SUM(R35:R39) -> 0
N41: =IFERROR(ROUND(N40/D40,4),"") | O41: =IFERROR(ROUND(O40/F40,4),"") | P41: =IFERROR(ROUND(P40/H40,4),"") | Q41: Anteil zu max. § 113 c Abs. 1 SGB XI:
A42: Budget Leitung und Verwaltung (Beschluss PSK vom 12.03.2026)
A44: Einrichtungsleitung (max. Stellenanteil)
A45: Plätze von | B45: Plätze bis | C45: VK | D45: VK für PE
A46: 1 | B46: 40 | C46: 0.75 | D46: =IF('B_PH_Allgemeine Angaben'!L47<A47,C46,IF('B_PH_Allgemeine Angaben'!L47<A48,C47,IF('B_PH_Allgemeine Angaben'!L47<A49,C48,C49))) -> 0.75
A47: 41 | B47: 80 | C47: 1
A48: 81 | B48: 150 | C48: 1.5
A49: 151 | C49: 2
A51: Pauschalen
A53: Anteil Verwaltungsbudget | D53: 0.07
A54: PK je VK Leitung unausgeschöpfte Stellenanteile | D54: 98662 | E54: (gültig für 2027)
...

Sheet B_PH_Hinweise
A1: Hinweise zum vereinfachten Verfahren der Aufforderung zum Abschluss einer Pflegesatzvereinbarung gemäß §§ 84, 85 SGB XI sowie von Vereinbarungen nach § 75 SGB XII für vollstationäre Pflegeeinrichtungen und für Kurzzeitpflegeeinrichtungen im Sinne § 1 Abs. 7 dieses Rahmenvertrages
A3: Aus Gründen der besseren Lesbarkeit wird auf die gleichzeitige Verwendung männlicher und weiblicher Sprachformen verzichtet. Sämtliche Personenbezeichnungen gelten gleichwohl für alle Geschlechter.
A4: Inhaltsverzeichnis
A5: 1. Allgemeine Hinweise
A6: 2. Aufforderungsunterlagen
A7: 2.1. Allgemeine Angaben
A8: 2.2.Kalkulation
A9: 2.3.Bewohnervertretung
A10: 2.4. Ergebnis
A11: 2.5. Gesamtkalkulation
A13: 1. Allgemeine Hinweise Dieses Antragsverfahren kann von vollstationären Pflegeeinrichtungen und Kurzzeitpflegeeinrichtungen im Sinne des § 1 Abs. 7 des Rahmenvertrages zur Kurzzeitpflege gemäß § 75 Abs. 1 SGB XI im Freistaat Sachsen (in Kraft ab 1. Juli 2026) genutzt werden, die - gemäß dem 2. Nachtrag zum Rahmenvertrag zur vollstationären Pflege (in Kraft ab 1. Januar 2026) mindestens eine Vollverhandlung durchgeführt haben, - deren aktuell gültige Pflegesatzvereinbarung ausgelaufen ist und - die seit der Vorverhandlung keine Kapazitätsänderung vorgenommen haben. Grundlagen sind der Rahmenvertrag nach § 75 Abs. 1 SGB XI zur vollstationären Pflege, der 2. Nachtrag zum Rahmenvertrag zur vollstationären Pflege, der Beschluss 2 / 2026 der Pflegesatzkommission und der Rahmenvertrag nach § 75 Abs.1 SGB XI zur Kurzzeitpflege im Freistaat Sachsen. Es sind außerdem die Anforderungen nach dem SächsWTG und der SächsWTVO zu beachten. | H13: zurück
A14: Das vereinfachte Verfahren kann grundsätzlich nur einmal angewendet werden. Ungeachtet dessen erklären sich die Kostenträger bereit, auch über ein weiteres vereinfachtes Verfahren zu verhandeln, sofern hiermit eine entsprechende Laufzeitverlängerung der Pflegesatzvereinbarung verbunden wird. Bis Mitte 2027 werden die Verfahrensbeteiligten einen Vorschlag für die Ausgestaltung und Voraussetzungen eines solchen weiteren vereinfachten Verfahrens erarbeiten.
A15: Basis ist die Ergebniskalkulation zur aktuell gültigen Pflegesatzvereinbarung. Es handelt sich um eine pauschale Herangehensweise, die nicht alle individuellen Veränderungen der Pflegeeinrichtung seit Abschluss der gültigen Pflegesatzvereinbarung berücksichtigt. Die vollständig ausgefüllten Antragsunterlagen sind gemäß § 85 Abs. 2 und Abs. 3 SGB XI den Leistungsträgern oder deren Arbeitsgemeinschaften, auf die im Jahr vor Beginn der Pflegesatzverhandlungen mehr als fünf vom Hundert der Berechnungstage der Pflegeeinrichtung entfallen, spätestens sechs Wochen vor dem beantragten Vereinbarungszeitraum durch den Träger der Pflegeeinrichtung zuzusenden (siehe Adressverzeichnis). Zwischen dem Antragsdatum und dem Laufzeitbeginn können maximal 4 Monate liegen. Sofern der KSV Sachsen nicht bereits Vertragspartei ist, erhält er immer eine Kopie der Allgemeinen Angaben und der Kalkulation. Werden eingereichte Antragsunterlagen korrigiert bzw. ergänzt, müssen die aktualisierten Antragsunterlagen rechtzeitig, in der Regel 14 Tage vor dem Verhandlungstermin, den beteiligten Vertragsparteien vorliegen.
A16: Für jede vollstationäre Pflegeeinrichtung mit einem separaten Versorgungsvertrag nach § 72 SGB XI ist eine gesonderte Aufforderung einzureichen. Sofern auch eine Pflegesatzvereinbarung für Kurzzeitpflege im Sinne § 1 Abs. 7 des Rahmenvertrages abgeschlossen werden soll, sind diese Plätze in der Antragstellung der vollstationären Pflegeeinrichtung mit umfasst und bedürfen keiner separaten Antragstellung. Die Antragsunterlagen und die Stellungnahme der Bewohnervertretung sind rechtsverbindlich zu unterzeichnen. Die Antragsunterlagen sind im Excel-Format und die Unterschriftenseiten (Kalkulation und Bewohnervertretung) im pdf-Format per E-Mail an die zuständigen Vertragsparteien zu übermitteln.
A18: 2. Aufforderungsunterlagen Die Aufforderungsunterlagen enthalten Formeln, so dass sich die beantragten Pflegesätze und Entgelte errechnen. Es sind ausschließlich die gelben Felder auszufüllen. | H18: zurück
A20: 2.1. Mappe Allgemeine Angaben Für jede Pflegeeinrichtung muss zwingend ein leeres Antragsformular verwendet werden. Bereits befüllte Formulare führen bei einer nachträglichen Änderung der Art der Einrichtung zu fehlerhaften Verknüpfungen. Die Platzzahl bestimmt sich nach dem Versorgungsvertrag. Wenn eine Pflegeeinrichtung die Vergütung für die Kurzzeitpflege aus dem vollstationären Antrag ableiten lässt, ist die Platzzahl insgesamt einzutragen und die Platzzahl der Kurzzeitpflege als DAVONposition anzugeben. Beispiel: Vollstationärer Versorgungsvertrag: 40 Plätze davon Kurzzeitpflege (kein eigenes IK für die Kurzzeitpflege): 5 Plätze Gesamtplätze 40, davon 5 Kurzzeitpflegeplätze Beispiel: vollstationärer Versorgungsvertrag: 40 Plätze Kurzzeitpflege (mit eigenem IK für die Kurzzeitpflege): 5 Plätze Gesamtplatzzahl 45, davon 5 Kurzzeitpflegeplätze | H20: zurück
A21: Die eingestreuten Plätze in einer vollstationären Pflegeeinrichtungen nach § 43 SGB XI (siehe § 1 Abs. 8 Rahmenvertrag Kurzzeitpflege) bleiben davon unberührt. Der Vereinbarungszeitraum umfasst regelmäßig mindestens 12 Monate. Die Pflegeeinrichtung muss auswählen, ob sie unmittelbar an einen Tarif / eine AVR gebunden ist, sich an ein Tarifwerk anlehnt oder nach dem regional üblichen Entgelt entlohnt. In Abhängigkeit der getroffenen Aussage stehen differenzierte Steigerungsraten für die Kalkulation zur Verfügung. Die Parteien der Pflegesatzvereinbarung sind gemäß § 85 Abs. 2 SGB XI zu ermitteln und ihr Anteil an den Berechnungstagen der Pflegeeinrichtung entsprechend anzugeben. Der Anteil der Bewohner, die ergänzende Leistungen der Sozialhilfe erhalten, ist zusätzlich als Davonposition auszuweisen.
A23: 2.2. Mappe Kalkulation Auslastungsgrad vollstationäre Pflegeeinrichtung 96 % bis 100 % Der abgeleitete Pflegesatz und die Entgelte der Kurzzeitpflegeplätze werden mit einem Auslastungsgrad von 80 % kalkuliert. jährliche Öffnungstage 365 Tage Im Übrigen bildet der linke Teil der Tabelle den Sachstand der aktuell gültigen Pflegesatzvereinbarung ab. Im rechten Teil der Tabelle wird die Forderung der Pflegeeinrichtung dargestellt. Pflegebedürftige in der Einrichtung Die Pflegeeinrichtung trägt die Belegung mit Pflegebedürftigen nach den 5 Pflegegraden entsprechend der aktuell gültigen Pflegesatzvereinbarung ein. Eine Änderung für die prognostische Belegung ist nicht möglich. Die Belegung muss der Platzzahl im Versorgungsvertrag entsprechen. Auch wenn eine Pflegeeinrichtung bei einzelnen Pflegegraden eine Nullbelegung angibt, wird für diesen Pflegegrad ein Personalanteilswert Pflege / Betreuung und ein Pflegesatz ermittelt. | H23: zurück
A24: Personalausstattung der Pflegeeinrichtung Grundlage für die Ermittlung der beantragten Personalausstattung ist das prospektiv in der Einrichtung beschäftigte Personal. Eine Vollkraft wird mit 40 Stunden / Woche kalkuliert. Alle folgenden Angaben umfassen ggf. immer auch die Kurzzeitpflege. Für die Sonderfunktionen PDL / stellvertretende PDL, Qualitätsmanagement (QM) und Hygienemanagement (HM) übernimmt die Pflegeeinrichtung die Angaben aus der aktuell gültigen Pflegesatzvereinbarung. Der Stellenanteil von PDL / stellvertretender PDL bestimmt sich nach der Einrichtungsgröße • bis 40 Plätze → bis zu 0,75 VK • 41 bis 80 Plätze → bis zu 1,00 VK • 81 bis 150 Plätze → bis zu 1,25 VK • ab 151 Plätze → bis zu 2,00 VK Qualitätsmanagement (QM) Für das Qualitätsmanagement kann zusätzlich bis zu 0,50 VK vereinbart werden. Hygienemanagement (HM) Für das Hygienemanagement kann zusätzlich bis zu 0,25 VK vereinbart werden. Sofern für die Sonderfunktionen die Maximalwerte entsprechend dem 2. Nachtrag zum Rahmenvertrag zur vollstationären Pflege noch nicht erreicht, aber vorgehalten werden oder die Pflegeeinrichtung erstmals Personal dafür vorhält, kann der Wert in der Prognose angepasst werden. Das gilt auch für den Fall, dass die Pflegeeinrichtung den Stellenumfang für die Sonderfunktionen reduzieren möchte.
A25: Für den Funktionsbereich Pflege / Betreuung werden die Anteilswerte für die Pflege- und Betreuungsfachkräfte, die Pflege- und Betreuungskräfte mit mindestens einjähriger Ausbildung und für die Pflege- und Betreuungskräfte ohne einjährige Ausbildung aus der aktuell gültigen Pflegesatzvereinbarung übernommen. Eine Erhöhung der Anteilswerte ist im vereinfachten Verfahren nicht möglich, auch nicht, wenn noch keine 100 % gemäß § 113c Abs. 1 SGB XI vereinbart sind. Eine Reduzierung ist möglich. Dabei muss die Mindestpersonalausstattung entsprechend dem 2. Nachtrag zum Rahmenvertrag zur vollstationären Pflege eingehalten sein. • mindestens 75 % der höchstens zu vereinbarenden personellen Ausstattung gemäß § 113c Abs. 1 Nr. 3 SGB XI für Fachkräfte Pflege und Betreuung • mindestens 70 % der Gesamtsumme aus der höchstens zu vereinbarenden personellen Ausstattung für Hilfskräfte mit und ohne Ausbildung gemäß § 113c Abs. 1 Nr. 1 und 2 SGB XI Für die Einrichtungsleitung kann gemäß Beschluss 2 / 2026 der PSK (gültig ab 1. Juli 2026) ein Stellenanteil von • bis 40 Plätze → bis zu 0,75 VK • 41 bis 80 Plätze → bis zu 1,00 VK • 81 bis 150 Plätze → bis zu 1,50 VK • ab 151 Plätze → bis zu 2,00 VK vereinbart werden. Weiteres Personal für Leitung / Verwaltung wird aus dem Verwaltungsbudget finanziert. Schöpft eine Einrichtung die VK-Zahl der Einrichtungsleitung entsprechend der Platzzahl nicht aus, kann das Verwaltungsbudget erhöht werden (Budgetaufschlag).
A26: Aus der aktuell gültigen Pflegesatzvereinbarung kann der Wert zur Zeit mehrheitlich noch nicht übertragen werden. Die Einrichtungsleitung war in der Personalrelation Leitung / Verwaltung enthalten. Allerdings liegen den Verhandlungspartnern der bisherige Stellenanteil und die berücksichtigten Personalkosten in der Regel vor. In den Bereichen zusätzliche Betreuung nach § 43b SGB XI, Hauswirtschaft, Küche und Haustechnik werden die Personalrelationen unverändert aus der aktuell gültigen Pflegesatzvereinbarung übernommen. Die Stellen für Freiwillige Dienste / FSJ sind ebenfalls der aktuell gültigen Pflegesatzvereinbarung zu entnehmen. Eine prospektive Veränderung ist möglich. Entsprechende Hinweise (Fehlermeldungen) sind zu beachten.
A27: Personalkosten Die Personalkosten werden aus der aktuell gültigen Pflegesatzvereinbarung, unter Beachtung der Hinweise zur Einrichtungsleitung, übernommen. Die Angaben der Personalkosten Prognose sind abhängig von der Wahl der Entlohnung (AVR / Tarif, Tarifanlehner, regional übliches Entgelt) in der Mappe Allgemeine Angaben. Die Steigerung der Personalkosten wird für alle Funktionsbereiche in der Mappe Kalkulation eingetragen. Die bisher geeinten Personalkosten können in den Funktionsbereichen:
E28: Tarifgebundene Einrichtungen / Tarifanlehner | F28: Regional übliches Entgelt
B29: Pflege / Betreuung | E29: um maximal 5 % | F29: um maximal 3 %
B30: zusätzliche Betreuung und Aktivierung nach § 43 b SGB XI | E30: um maximal 5 % | F30: um maximal 3 %
B31: Einrichtungsleitung | E31: um maximal 5 % | F31: um maximal 3,42 %
B32: Hauswirtschaft | E32: um maximal 5 % | F32: um maximal 3 %
B33: Küche | E33: um maximal 5 % | F33: um maximal 3 %
B34: Haustechnik | E34: um maximal 5 % | F34: um maximal 3 %
B35: Freiwillige Dienste / FSJ | E35: um maximal 4 % | F35: um maximal 4 %
A37: gesteigert werden. Für Freiwillige Dienste und FSJ sind im Antrag Netto-Personalkosten darzustellen. Für die Sonderfunktionen Qualitätsmanagement (QM) und Hygienemanagement (HM) sind die Auswahloptionen davon abhängig, ob bereits Personal vereinbart ist. Bitte beachten Sie ggf. rote Hinweise. Sofern bisher kein Personal für die Sonderfunktionen Qualitätsmanagement (QM) und / oder Hygienemanagement (HM) vereinbart ist, muss für eine erstmalige Vereinbarung in der Prognose eine Qualifikation aus den Beschäftigungsgruppen Pflege- und Betreuungsfachkräfte, Pflege- und Betreuungskräfte mit mindestens einjähriger Ausbildung oder Pflege- und Betreuungskräfte ohne einjährige Ausbildung angegeben werden. Gemäß dieser Auswahl werden die der Qualifikation entsprechenden durchschnittlichen Personalkosten berücksichtigt. Wenn als Qualifikation „keine Pflege“ oder eine Beschäftigungsgruppe gewählt wird, für die kein Anteilswert und damit keine Personalkosten hinterlegt sind, erscheint ein Hinweis und es erfolgt keine Berechnung. Eine individuelle Vereinbarung von Personalkosten ist im vereinfachten Verfahren nicht möglich.
A38: Ist bereits Personal für eine oder beide Sonderfunktionen vereinbart, kann entsprechend der Qualifikation aus den drei Beschäftigungsgruppen oder „keine Pflege“ gewählt werden. Der Stellenanteil kann innerhalb der rahmenverträglichen Bestimmungen unter Beachtung der Vorhaltung in der Pflegeeinrichtung geändert werden. Die dafür bisher vereinbarten Personalkosten werden im ersten Schritt übernommen. Im zweiten Schritt können sie durch die Auswahl der Qualifikation angepasst oder bei Auswahl „keine Pflege“ prozentual gesteigert werden. Wenn eine Beschäftigungsgruppe gewählt wird, für die kein Anteilswert und damit keine Personalkosten hinterlegt sind, erscheint ein Hinweis und es erfolgt keine Berechnung. Das regionale Entlohnungsniveau für Pflege / Betreuung und zusätzliche Betreuung nach § 43b SGB XI im Rahmen der Veröffentlichung nach § 82c Abs. 5 SGB XI (Stand 30.09.2026) für das regional übliche Entgelt beträgt:
B39: Regional übliches Entlohnungsniveau je Beschäftigtengruppe gemäß § 4 Absatz 3 der Richtlinien des GKV-SV nach § 82c Absatz 4 SGB XI in Sachsen (Stand 30.9.2026)
B40: Pflege- und Betreuungskräfte ohne mindestens einjährige Berufsausbildung | F40: 20,88 € / h
B41: Pflege- und Betreuungskräfte mit mindestens einjähriger Berufsausbildung | F41: 22,52 € / h
B42: Fachkräfte in den Bereichen Pflege und Betreuung mit mindestens dreijähriger Berufsausbildung | F42: 27,18 € / h
B44: Regionale Durchschnittswerte der tarifvertraglich oder in kirchlichen Arbeitsrechtsregelungen vereinbarten variablen pflegetypischen Zuschläge auf den Stundenlohn (Grundgehalt) gemäß § 5 Absatz 2 der Richtlinien des GKV-SV nach § 82c Absatz 4 SGB XI in Sachsen (Stand 30.9.2026)
B45: Nachtzuschläge für eine Tätigkeit in der Nacht, mindestens im Zeitraum zwischen 23 und 6 Uhr | F45: 0.23
B46: Sonntagszuschläge für eine Tätigkeit an Sonntagen im Zeitraum zwischen 0 und 24 Uhr | F46: 0.3
B47: Feiertagszuschläge für eine Tätigkeit an gesetzlichen Feiertagen im Zeitraum zwischen 0 und 24 Uhr (mit Freizeitausgleich) | F47: 0.35
...

Sheet B_PH_Allgemeine Angaben
A1: Vereinfachtes Verfahren der Aufforderung zum Abschluss einer Pflegesatzvereinbarung gemäß § 84, 85 SGB XI - Vollstationäre Pflegeeinrichtungen und für Kurzzeitpflegeeinrichtungen im Sinne § 1 Abs. 7 dieses Rahmenvertrages
A2: Allgemeine Angaben
A3: =IF('B_PH_Allgemeine Angaben'!D12>0,CONCATENATE(D12,", ",'B_PH_Allgemeine Angaben'!D16," ",'B_PH_Allgemeine Angaben'!J16),"")
A4: =IF(L6>0,"IK "&TEXT(L6,"000 000 000"),"") | K4: Antrag vom:
A5: 46314
B6: Art der Einrichtung: | K6: Institutionskennzeichen (IK):
E7: =IF(D6>0,IF(D6="Wohnpflegeheim","WPH","")) -> FALSE | F7: =IF(D6="4. Generation","4.","") | K7: IK KZP:
B10: Allgemeine Angaben zur Pflegeeinrichtung und zum Träger
D11: =IF(AND(D6=0,D12<>0),"bitte wählen Sie noch die Art der Einrichtung aus","")
B12: Pflegeeinrichtung:
D13: Name der Einrichtung
D15: Straße
D17: PLZ | J17: Ort
D19: Telefon | J19: Fax
D21: E-Mail | J21: Web-Adresse
D23: Einrichtungsleitung | J23: PDL
B26: In Trägerschaft von:
D27: Name des Trägers
D29: Straße
D31: PLZ | J31: Ort
D33: Telefon | J33: Fax
D35: E-Mail | J35: Web-Adresse
D37: Ansprechpartner/ Funktion
B39: Zugehörigkeit zu einer Vereinigung von Trägern von stationären Pflegeeinrichtungen im Land
G41: Wenn ja, welche?
B43: Hiermit erteilen wir o.g. Vereinigung Verhandlungsmandat
B45: Zulassungsdatum der Pflegeeinrichtung: | K45: =DATEDIF(H45,H52,"m") -> 0
K46: =IF(AND(H45="",H52<>""),"Bitte Erfassung des Zulassungsdatums!","")
B47: Platzzahl der Pflegeeinrichtung entsprechend des Versorgungsvertrages:
