Workbook
Name _Hlk233720930: B_KZP_Hinweise!$A$29

Sheet B_KZP_Versionsinfo
A2: Erläuterung der Änderungen gegenüber der Vorversion (Änderungshistorie ab 18.06.2026)
A5: Datum der Änderung | B5: Tabellenblatt | C5: Zeile/Spalte | D5: Erläuterung der Änderung | E5: Hinweise für die Anwender
A6: 46297 | B6: Gesamtdokument | D6: Neugestaltung der Antragsunterlagen auf Basis des Antrages B_PH
A7: 06.10.2026/ 07.10.2026 | B7: B_KZP_Kalkulation | C7: O26, O21 und O22:R31 | D7: O26: Text enfernt (alt: "- Personalkostensteigerungen - (nicht für Funktionsbereich Pflege, Betreuung, zusätzliche Betreuung notwendig)") O21: Text ersetzt (alt: " - die veränderte Personalausstattung -") Zellen verbunden
A8: 46304 | B8: KAT | C8: H30:K38 | D8: Steigerungen entsprechend Beschluss PSK vom 08.10.2026 angepasst
C9: diverse Zellen | D9: Textfarbe in grau geändert (zur Kennzeichnung nicht verwendeter Inhalte)
B10: B_KZP_Allgemeine Angaben | C10: N58 | D10: Formel durch "0" ersetzt (um das aktivieren des Blattes B_PH_Berechnung rüE zu verhindern) (alt: =WENN(UND(H55<>"ja";H56="rüE");1;0))
C11: J58 | D11: Formel angepasst
B12: B_KZP_Kalkulation | C12: L27 | D12: Prüfung Mindetslohn entfernt
C13: Spalte M | D13: Hinweistexte bei Überschreitung der max. Steigerungen angepasst
C14: J26 (& J27 analog) | D14: Formel angepasst (alt: =WENNFEHLER($L$16/I26;"")) - Kalkulation funktioniert nun auch, falls kein L&V oder HW/K/HAT vereinbart ist
B15: B_KZP_Berechnung rüE | D15: Blatt ausgeblendet
A16: 46307 | B16: B_KZP_Kalkulation | C16: B7, D8 | D16: "Auslastung" bzw. "Auslastungsgrad" durch "Auslastungsquote" ersetzt
A17: 46311 | B17: B_KZP_Allgemeine Angaben | C17: H45, H51 | D17: Angaben werden nun in rot angezeigt, wenn Vereinbarungsbeginn kleiner oder gleich Zulassungsdatum
B18: B_KZP_Kalkulation | C18: D7 | D18: Angaben nur größer gleich 73 möglich; Hinweistext entsprechend angepasst
C19: D8 | D19: Hinweistext angepasst; Neueröffnungsfall entfernt
B20: B_KZP_Bewohnervertretung | D20: Begriff "Bewohnerfürsprecher" durch "Bewohnersprecher" ersetzt
A21: 46314 | B21: B_PH_Hinweise | D21: Blatt Hinweise eingefügt
B22: Verknüpfungstabelle | C22: Verknüpfung BV in Zeile 8 komplett eingearbeitet
B23: B_PH_Ergebnis | C23: B73 gelb eingefärbt, Schutz aufgehoben | D23: damit Eintragung Verhandlungsführer ermöglicht wird
B24: B_KZP_Kalkulation | C24: H-N72 gesperrt und Link entfernt | D24: kein Absprung mehr zum Blatt B_PH_Berechnung rüE

Sheet Verknüpfungstabelle
A1: für Kalk Progn
A4: für Kalk Ist
A7: für Bvgl
A8: Erfassungstag /Änderungstag | B8: Platzzahl | C8: dav_KZP_Plätze | D8: IK KZP | E8: KZP bzw. Art KZP | F8: Auslastung_E | G8: Auslastung KZP | H8: VG_PDL-stellvPDL | I8: VG_QM | J8: VG_HM | K8: VG_PFK/BFK | L8: VG_PK/BK | M8: VG_PK/BK o. | N8: VG_43b | O8: VG_EL | P8: VG_HW | Q8: VG_Küche | R8: VG_HT | S8: VG_ZDL-FSJ | T8: PNK (%) | U8: stfr.Sachbez. (%) | V8: Risiko/Wagnis/Gewinn-PK (%) | W8: Risiko/Wagnis/Gewinn-SK (%) | X8: SK_Lebensmittel BelTag | Y8: SK_pfleg_ Bedarf BelTag | Z8: SK_W/E/B BelTag | AA8: SK_VW-Bedarf BelTag | AB8: SK_Zentr-VW BelTag | AC8: SK_Betreuung BelTag | AD8: SK_Wirt-bedarf BelTag | AE8: SK_S/A/V BelTag | AF8: SK_Wartung BelTag | AG8: SK_Sonstiges BelTag | AH8: FL_Küche BelTag | AI8: FL_Wäscherei BelTag | AJ8: FL_Wäschekennz_BelTag | AK8: FL_Reinigung BelTag | AL8: FL_Zentrale Verwaltung BelTag | AM8: FL_Haustechnik BelTag | AN8: FL_Sonstiges_HW_HT BelTag | AO8: FL_Sonstiges BelTag | AP8: VE_PS_PG1 | AQ8: VE_PS_PG2 | AR8: VE_PS_PG3 | AS8: VE_PS_PG4 | AT8: VE_PS_PG5 | AU8: VE_EEE | AV8: VE_U | AW8: VE_V | AX8: VE_FK | AY8: VE-Beginn | AZ8: VE-Ende | BA8: Verhandlungs-verfahren | BB8: VE_PS_PG1-5_KZP | BC8: VE_U_KZP | BD8: VE_V_KZP | BE8: Auslastung_12_Mon_Erf | BF8: Bel_PG1 | BG8: Bel_PG2 | BH8: Bel_PG3 | BI8: Bel_PG4 | BJ8: Bel_PG5 | BK8: VK_PDL-stellvPDL | BL8: VK_QM | BM8: VK_HM | BN8: VK_PFK/BFK | BO8: VK_PK/BK | BP8: VK_PK/BK_o. | BQ8: ANT_PFK_zu113c(1)3 | BR8: ANT_PK/BK_zu113c(1)2 | BS8: ANT_PK/BK o._zu113c(1)1 | BT8: PR_L/V | BU8: PR_Hauswirtschaft | BV8: PR_Küche | BW8: PR_Haustechnik | BX8: Anz_BFD/FSJ | BY8: unmittelbare Tarifbindung | BZ8: Entlohng nach | CA8: Tarif | CB8: STD_VG_PFK/BFK | CC8: STD_VG_PK/BK | CD8: STD_VG_PK/BK_o. | CE8: STD_VG_einr.ind.Egniveau_Erf | CF8: VK_PFK/BFK_GVWG | CG8: VK_PK/BK_GVWG | CH8: VK_PK/BK_o._GVWG | CI8: GES_VG_PFK/BFK | CJ8: GES_VG_PK/BK | CK8: GES_VG_PK/BK_o. | CL8: VWBUD_PROZENT | CM8: VWBUD_BETRAG | CN8: VWBUD_AUFSCHLAG | CO8: VWBUD_AUFSCHLAG_BETRAG | CP8: VWBUD_N_AUSG_STELLENANT | CQ8: VWBUD_PK_JE_VK | CR8: VWBUD_ERGEBNIS_BelT | CS8: VK_EL | CT8: PLATZHALTER | CU8: PLATZHALTER | CV8: ANT_PFK_zu113c(1)3 VOR | CW8: ANT_PK/BK_zu113c(1)3 VOR | CX8: ANT_PK/BKo._zu113c(1)3 VOR | CY8: VK_PFK/BFK_PG1 | CZ8: VK_PFK/BFK_PG2 | DA8: VK_PFK/BFK_PG3 | DB8: VK_PFK/BFK_PG4 | DC8: VK_PFK/BFK_PG5 | DD8: VK_PK/BK_PG1 | DE8: VK_PK/BK_PG2 | DF8: VK_PK/BK_PG3 | DG8: VK_PK/BK_PG4 | DH8: VK_PK/BK_PG5 | DI8: VK_PK/BK o._PG1 | DJ8: VK_PK/BK o._PG2 | DK8: VK_PK/BK o._PG3 | DL8: VK_PK/BK o._PG4 | DM8: VK_PK/BK o._PG5 | DN8: Veränderung PK-Budget (gesamt - inkl. FSJ/BufDi) | DO8: Veränderung drchn PK €/VK (ohne FSJ/BufDi) | DP8: Veränderung SK | DQ8: Veränderung FL | DR8: Gesamtkosten | DS8: Gesamtkosten o. 43 b | DT8: VG_Pflege/Betreuung | DU8: VG_Leitung/Verwaltung | DV8: VG_HW, Kü, HAT | DW8: PR_PDL/stellv. PDL | DX8: PR_Pflege / Betreuung | DY8: PR_HW, Kü, HAT
A9: =TODAY() -> 46321 | B9: ='B_KZP_Allgemeine Angaben'!L47 -> 0 | C9: ='B_KZP_Allgemeine Angaben'!L47 -> 0 | D9: ='B_KZP_Allgemeine Angaben'!L6 -> 0 | E9: solitär | F9: =B_KZP_Kalkulation!D7/100 -> 0 | G9: =B_KZP_Kalkulation!D7/100 -> 0 | H9: =B_KZP_Kalkulation!L22 -> 0 | N9: =B_KZP_Kalkulation!L25 -> 0 | S9: =B_KZP_Kalkulation!L30 -> 0 | X9: =B_KZP_Kalkulation!M34 | Y9: =B_KZP_Kalkulation!M35 | Z9: =B_KZP_Kalkulation!M36 | AA9: =B_KZP_Kalkulation!M37 | AB9: =B_KZP_Kalkulation!M38 | AC9: =B_KZP_Kalkulation!M39 | AD9: =B_KZP_Kalkulation!M40 | AE9: =B_KZP_Kalkulation!M41 | AF9: =B_KZP_Kalkulation!M42 | AG9: =B_KZP_Kalkulation!M43 | AH9: =B_KZP_Kalkulation!M47 | AI9: =B_KZP_Kalkulation!M48 | AK9: =B_KZP_Kalkulation!M49 | AL9: =B_KZP_Kalkulation!M51 | AM9: =B_KZP_Kalkulation!M50 | AN9: =B_KZP_Kalkulation!M52 | AO9: =B_KZP_Kalkulation!M53 | AP9: =B_KZP_Ergebnis!F60 | AQ9: =B_KZP_Ergebnis!F60 | AR9: =B_KZP_Ergebnis!F60 | AS9: =B_KZP_Ergebnis!F60 | AT9: =B_KZP_Ergebnis!F60 | AV9: =B_KZP_Ergebnis!F66 | AW9: =B_KZP_Ergebnis!F68 | AY9: =B_KZP_Ergebnis!F11 | AZ9: =B_KZP_Ergebnis!I11 -> 0 | BA9: =IF(B_KZP_Ergebnis!B73="AOK PLUS","pauschal SAC B AOK",IF(B_KZP_Ergebnis!B73="KSV","pauschal SAC B KSV",IF(B_KZP_Ergebnis!B73="vdek","pauschal SAC B vdek",0))) -> 0 | BB9: =B_KZP_Ergebnis!F60 | BC9: =B_KZP_Ergebnis!F66 | BD9: =B_KZP_Ergebnis!F68 | BF9: =B_KZP_Ergebnis!F16 -> 0 | BG9: =B_KZP_Ergebnis!F17 -> 0 | BH9: =B_KZP_Ergebnis!F18 -> 0 | BI9: =B_KZP_Ergebnis!F19 -> 0 | BJ9: =B_KZP_Ergebnis!F20 -> 0 | BT9: =B_KZP_Ergebnis!I34 -> 0 | BX9: =B_KZP_Ergebnis!F39 -> 0 | BY9: ='B_KZP_Allgemeine Angaben'!H55 -> 0 | BZ9: ='B_KZP_Allgemeine Angaben'!H56 -> 0 | CA9: ='B_KZP_Allgemeine Angaben'!H57 -> 0 | DN9: =B_KZP_Gesamtkalkulation!D13/SUMPRODUCT(B_KZP_Kalkulation!D23:D30,B_KZP_Kalkulation!F23:F30)-1 -> #DIV/0! | DO9: =(B_KZP_Gesamtkalkulation!D13-B_KZP_Gesamtkalkulation!D19)/SUMPRODUCT(B_KZP_Kalkulation!D23:D29,B_KZP_Kalkulation!F23:F29)-1 -> #DIV/0! | DP9: =(B_KZP_Kalkulation!L44/B_KZP_Kalkulation!F44-1) -> #DIV/0! | DQ9: =B_KZP_Kalkulation!L54/B_KZP_Kalkulation!F54-1 -> #DIV/0! | DR9: =B_KZP_Gesamtkalkulation!D13+B_KZP_Gesamtkalkulation!D21+B_KZP_Gesamtkalkulation!D33 -> 0 | DS9: =DR9-B_KZP_Gesamtkalkulation!D16 -> 0 | DT9: =B_KZP_Kalkulation!L23 -> 0 | DU9: =B_KZP_Kalkulation!L26 -> 0 | DV9: =B_KZP_Kalkulation!L27 -> 0 | DW9: =B_KZP_Ergebnis!I28 | DX9: =B_KZP_Ergebnis!I30 -> #DIV/0! | DY9: =B_KZP_Ergebnis!I36 -> 0
I10: entfällt | J10: entfällt | K10: entfällt | L10: entfällt | M10: entfällt | O10: entfällt | P10: entfällt | Q10: entfällt | R10: entfällt | T10: enfällt | U10: entfällt | V10: entfällt | W10: entfällt | AA10: gibt es für die KZP- jedoch nicht mehr für vst. (VW-Budget) | AB10: gibt es für die KZP- jedoch nicht mehr für vst. (VW-Budget) | AJ10: entfällt in KZP | AL10: gibt es für die KZP- jedoch nicht mehr für vst. (VW-Budget) | AU10: entfällt | AX10: entfällt | BE10: entfällt | BK10: entfällt | BL10: entfällt | BM10: entfällt | BN10: entfällt | BO10: entfällt | BP10: entfällt | BQ10: entfällt | BR10: entfällt | BS10: entfällt | BT10: gibt es im PH nicht mehr, VW-Budget | BU10: entfällt | BV10: entfällt | BW10: entfällt | CB10: entfernt: ='B_KZP_Berechnung rüE'!C35 | CC10: entfernt: ='B_KZP_Berechnung rüE'!D35 | CD10: entfernt: ='B_KZP_Berechnung rüE'!E35 | CE10: entfernt: ='B_KZP_Berechnung rüE'!C41 | CF10: entfernt: ='B_KZP_Berechnung rüE'!C37 | CG10: entfernt: ='B_KZP_Berechnung rüE'!D37 | CH10: entfernt: ='B_KZP_Berechnung rüE'!E37 | CI10: entfernt: ='B_KZP_Berechnung rüE'!C43 | CJ10: entfernt: ='B_KZP_Berechnung rüE'!D43 | CK10: entfernt: ='B_KZP_Berechnung rüE'!E43 | CL10: entfällt | CM10: entfällt | CN10: entfällt | CO10: entfällt | CP10: entfällt | CQ10: entfällt | CR10: entfällt | CS10: entfällt | CV10: nicht mehr relevant | CY10: Berichtspflicht für KZP generell nicht relevant
B11: Frage 1 | C11: im Bvgl. gleiche Platzzahl von KZP erfasst? JA | BK11: in KZP PR (Spalte DV) | BN11: in KZP zusammengefasst PR (Spalte DW) | BT11: aber gibt es in KZP weiterhin | BU11: für KZP Zusammenfassung zu einer PR siehe Spalte DY
B12: Frage 2 | C12: der Antrag differenziert nicht nach solitär noch nach angebunden, diese müsste manuell erfasst werden
B13: Frage 3 | C13: soll die Auslastung v. der KZP in F und gleichzeitig in G im Antrag und im Bvgl. In Spalte IB und IC gleich erfasst werden? Oder reicht im Antrag Spalte F und im BVgl. Spalte IB? JA
B14: Frage 4 | C14: soll die U + V doppelt im Bvgl. Erfasst werden in Spalte JR + JS (wäre Spalte AV,AW im Antrag) und dann im BVgl. In Spalte JY + JZ (im Antrag = BC + BD) - JA und zusätzlich PG1-5 = jeweils gleicher Psatz für KZP
B15: Abstimmung mit Astrid 17.09.2026

Sheet KAT
A1: Einrichtungsart | B1: Kreuz | C1: Tage/Monat | D1: Öffnungstage | E1: Auslastung | F1: Ja/Nein | G1: Qualifikation | H1: Kostenträger
B2: x | C2: 30.42 | D2: 365 | E2: 1 | F2: ja | G2: PFK/BFK | H2: AOK PLUS
E3: 0.78 | F3: nein | G3: PK/BK | H3: KSV
E4: 0.73 | G4: PK/BK o. | H4: vdek
E5: 0.7 | G5: keine Pflege
D8: CheckMonate | E8: =IF('B_KZP_Allgemeine Angaben'!H45="",0,DATEDIF('B_KZP_Allgemeine Angaben'!H45,'B_KZP_Allgemeine Angaben'!H51,"m")) -> 0
A10: Personalmenge lt. RV | C10: check
A11: PDL | B11: 20 | C11: =ROUND('B_KZP_Allgemeine Angaben'!$L$47/B11,4) -> 0
A12: Pflege/Betreuung | B12: 1.7 | C12: =ROUND('B_KZP_Allgemeine Angaben'!$L$47/B12,4) -> 0
A13: Leitung | B13: 15 | C13: =ROUND('B_KZP_Allgemeine Angaben'!$L$47/B13,4) -> 0
A14: Hawi, Kü, HAT | B14: 4.5 | C14: =ROUND('B_KZP_Allgemeine Angaben'!$L$47/B14,4) -> 0
A15: 43b | B15: 20 | C15: =ROUND('B_KZP_Allgemeine Angaben'!$L$47/B15,4) -> 0
A19: sv-freie Zuschläge
A20: Funktionsbereich | B20: Einrichtungsformen - sv-freie Zuschläge | D20: Funktionsbereich | E20: Einrichtungsformen -Steigerung PK | G20: % Ansatz für sv-freie Zuschläge für:
B21: KZP | E21: KZP | G21: Pflege/ Betreuung, zusätzliche Betreuung entspr. PSK Beschluss 19.05.2022
A22: Pflege&Betreuung | B22: 0.085 | D22: HW | E22: 0.0515 | G22: LuV/HW/Kü, HAT - kein Veto in AG VM 08.06.2022
A23: zusätzliche Betreung § 43 b SGB XI | B23: 0.0415 | D23: Kü | E23: 0.0515 | G23: Entscheidung UAG und Kostenträger 21.11.2024 (Pflege,Betreuung,43b, HW,Kü;HAT) für KZP - LuV bleibt - bei TP bleiben alle Werte
A24: LuV | B24: 0.02 | D24: HAT | E24: 0.041
A27: SV-Beiträge | B27: 2026 | F27: Steigerungsraten
A28: (in%) | B28: Gesamt | C28: AG | D28: AN | L28: Im Antrag:
A29: KV | B29: =14.6%+3.1% -> 0.177 | C29: =B29/2 -> 0.0885 | D29: =C29 -> 0.0885 | I29: rüE alt | J29: rüE | K29: Tarifbindung/Tarifanlehnung | L29: =IF(OR('B_KZP_Allgemeine Angaben'!$H$55="ja",'B_KZP_Allgemeine Angaben'!H56<>"rüE"),KAT!K29,KAT!J29) -> Tarifbindung/Tarifanlehnung
A30: RV | B30: =C30*2 -> 0.186 | C30: 0.093 | D30: =C30 -> 0.093 | F30: Pflege/ Betreuung | H30: max. bis | J30: 0.03 | K30: 0.05 | L30: =INDEX(I30:K30,MATCH($L$29,I$29:$K$29,0)) -> 0.05
A31: AV | B31: =C31*2 -> 0.026 | C31: 0.013 | D31: =C31 -> 0.013 | F31: Einrichtungsleitung: | H31: max. bis | J31: 0.0342 | K31: 0.05 | L31: =INDEX(I31:K31,MATCH($L$29,I$29:$K$29,0)) -> 0.05
A32: PV* mit Kd. | B32: =3.4%+0.2% -> 0.036 | C32: =1.2%+0.1% -> 0.013 | D32: =2.2%+0.1% -> 0.023 | F32: Hauswirtschaft/ Küche/ Haustechnik: | H32: max. bis | J32: 0.03 | K32: 0.05 | L32: =INDEX(I32:K32,MATCH($L$29,I$29:$K$29,0)) -> 0.05
A33: Gesamt * | C33: =(C32+C31+C30+C29) -> 0.2075
A34: U2 | B34: 100% Erstatt. | C34: 0.0044
A35: U1 | B35: 50% Erstatt. | C35: 0.0215 | F35: Freiwillige Dienste/FSJ Einsatz: | H35: max. bis | J35: 0.04 | K35: 0.04 | L35: =INDEX(I35:K35,MATCH($L$29,I$29:$K$29,0)) -> 0.04
A36: Insolvenzgeld | C36: 0.0015
A37: Gesamt *+U2+Insolvenzgeld | C37: =(C33+C34+C36) -> 0.2134 | F37: Sachkosten | H37: max | J37: 0.03 | K37: =J37 -> 0.03 | L37: =INDEX(I37:K37,MATCH($L$29,I$29:$K$29,0)) -> 0.03
A38: Gesamt *+U1+U2+Insolvenzgeld | C38: =C37+C35 -> 0.2349 | F38: Fremdleistung | H38: max | J38: 0.05 | K38: 0.05 | L38: =INDEX(I38:K38,MATCH($L$29,I$29:$K$29,0)) -> 0.05
A40: Regional übliches Entgelt / allgemeiner Mindestlohn
E41: Stand 30.09.2026
A42: rüE | E42: 24.02
A43: rüE Pflege- und Betreuungsfachkräfte mit mind. dreijähriger Berufsausbildung | E43: 27.18
A44: rüE Pflege- und Betreuungskräfte mit mind. einjähriger berufsausbildung | E44: 22.52
A45: rüE Pflege- und Betreuungskräfte ohne mind. einjähriger berufsausbildung | E45: 20.88
E46: gültig ab 01.01.2027
A47: allgemeiner Mindestlohn | E47: 14.6
A50: *Berechnungsgrundlagen Mindestlohn für LAUFZEIT für Arbeitnehmer, die nicht in der Grundpflege tätig sind, HAUSWIRTSCHAFT/ KÜCHE / HAUSTECHNIK
A51: Stundenlohn: | B51: =E47 -> 14.6
...

Sheet B_KZP_Hinweise
A1: Hinweise zum vereinfachten Verfahren der Aufforderung zum Abschluss einer Pflegesatzvereinbarung gemäß §§ 84, 85 SGB XI sowie von Vereinbarungen nach § 75 SGB XII für Kurzzeitpflegeeinrichtungen im Sinne § 1 Abs. 6 des Rahmenvertrages
A4: Aus Gründen der besseren Lesbarkeit wird auf die gleichzeitige Verwendung männlicher und weiblicher Sprachformen verzichtet. Sämtliche Personenbezeichnungen gelten gleichwohl für alle Geschlechter.
A6: Inhaltsverzeichnis
A7: 1. Allgemeine Hinweise
A8: 2. Aufforderungsunterlagen
A9: 2.1. Allgemeine Angaben
A10: 2.2. Kalkulation
A11: 2.3. Bewohnervertretung
A12: 2.4. Ergebnis
A13: 2.5. Gesamtkalkulation
A15: 1. Allgemeine Hinweise Dieses Antragsverfahren kann von Kurzzeitpflegeeinrichtungen im Sinne des § 1 Abs. 6 des Rahmenvertrages zur Kurzzeitpflege gemäß § 75 Abs. 1 SGB XI im Freistaat Sachsen (in Kraft ab 1. Juli 2026) genutzt werden, • deren aktuell gültige Pflegesatzvereinbarung ausgelaufen ist und • die seit der Vorverhandlung keine Kapazitätsänderung vorgenommen haben. Grundlage ist der Rahmenvertrag nach § 75 Abs.1 SGB XI zur Kurzzeitpflege im Freistaat Sachsen. Es sind außerdem die Anforderungen nach dem SächsWTG und der SächsWTVO zu beachten. Das vereinfachte Verfahren kann grundsätzlich nur einmal angewendet werden. Ungeachtet dessen erklären sich die Kostenträger bereit, auch über ein weiteres vereinfachtes Verfahren zu verhandeln, sofern hiermit eine entsprechende Laufzeitverlängerung der Pflegesatzvereinbarung verbunden wird. Bis Mitte 2027 werden die Verfahrensbeteiligten einen Vorschlag für die Ausgestaltung und Voraussetzungen eines solchen weiteren vereinfachten Verfahrens erarbeiten. Basis ist die Ergebniskalkulation zur aktuell gültigen Pflegesatzvereinbarung. Es handelt sich um eine pauschale Herangehensweise, die nicht alle individuellen Veränderungen der Pflegeeinrichtung seit Abschluss der gültigen Pflegesatzvereinbarung berücksichtigt. Die vollständig ausgefüllten Antragsunterlagen sind gemäß § 85 Abs. 2 und Abs. 3 SGB XI den Leistungsträgern oder deren Arbeitsgemeinschaften, auf die im Jahr vor Beginn der Pflegesatzverhandlungen mehr als fünf vom Hundert der Berechnungstage der Pflegeeinrichtung entfallen, spätestens sechs Wochen vor dem beantragten Vereinbarungszeitraum durch den Träger der Pflegeeinrichtung zuzusenden (siehe Adressverzeichnis). Zwischen dem Antragsdatum und dem Laufzeitbeginn können maximal 4 Monate liegen. | H15: zurück
A16: Sofern der KSV Sachsen nicht bereits Vertragspartei ist, erhält er immer eine Kopie der Allgemeinen Angaben und der Kalkulation. Werden eingereichte Antragsunterlagen korrigiert bzw. ergänzt, müssen die aktualisierten Antragsunterlagen rechtzeitig, in der Regel 14 Tage vor dem Verhandlungstermin, den beteiligten Vertragsparteien vorliegen. Für jede Kurzzeitpflegeeinrichtung im Sinne § 1 Abs. 6 des Rahmenvertrages mit einem separaten Versorgungsvertrag nach § 72 SGB XI ist eine gesonderte Aufforderung einzureichen. Die Antragsunterlagen und die Stellungnahme der Bewohnervertretung sind rechtsverbindlich zu unterzeichnen. Die Antragsunterlagen sind im Excel-Format und die Unterschriftenseiten (Kalkulation und Bewohnervertretung) im pdf-Format per E-Mail an die zuständigen Vertragsparteien zu übermitteln.
A18: 2. Aufforderungsunterlagen Die Aufforderungsunterlagen enthalten Formeln, so dass sich die beantragten Pflegesätze und Entgelte errechnen. Es sind ausschließlich die gelben Felder auszufüllen. | H18: zurück
A20: 2.1. Mappe Allgemeine Angaben Für jede Pflegeeinrichtung muss zwingend ein leeres Antragsformular verwendet werden. Die Platzzahl bestimmt sich nach dem Versorgungsvertrag. Der Vereinbarungszeitraum umfasst regelmäßig mindestens 12 Monate. Die Pflegeeinrichtung muss auswählen, ob sie unmittelbar an einen Tarif / eine AVR gebunden ist, sich an ein Tarifwerk anlehnt oder nach dem regional üblichen Entgelt entlohnt. In Abhängigkeit der getroffenen Aussage stehen differenzierte Steigerungsraten für die Kalkulation zur Verfügung. Die Parteien der Pflegesatzvereinbarung sind gemäß § 85 Abs. 2 SGB XI zu ermitteln und ihr Anteil an den Berechnungstagen der Pflegeeinrichtung entsprechend anzugeben. Der Anteil der Bewohner, die ergänzende Leistungen der Sozialhilfe erhalten, ist zusätzlich als Davonposition auszuweisen. | H20: zurück
A22: 2.2. Mappe Kalkulation Auslastungsquote Die Auslastungsquote der Kurzzeitpflegeeinrichtung orientiert sich an der tatsächlichen Auslastung der letzten zwei Jahre, mindestens aber 78 %. In diesem Rahmen kann eine Abweichung von 5 % unter der tatsächlichen Auslastung der letzten zwei Jahre kalkuliert werden. Abweichend hiervon gilt für das zweite Jahr der Zulassung eine Auslastungsquote von 73 % unabhängig von der tatsächlichen Auslastungsquote. Neu zugelassene Kurzzeitpflegeeinrichtungen können das vereinfachte Verfahren nicht nutzen. Belegungstage Bei bestehenden Kurzzeitpflegeeinrichtungen sind die Belegungstage für 24 Monate insgesamt zu ermitteln. Der Beginn des Belegungszeitraumes darf nicht mehr als 30 Monate vor Laufzeitbeginn liegen. Kann auf Grund einer kürzeren Dauer nach der Zulassung dieser Umfang noch nicht erreicht werden, verkürzt sich die Angabe des Belegungszeitraums entsprechend. jährliche Öffnungstage 365 Tage Im Übrigen bildet der linke Teil der Tabelle den Sachstand der aktuell gültigen Pflegesatzvereinbarung ab. Im rechten Teil der Tabelle wird die Forderung der Pflegeeinrichtung dargestellt. Pflegebedürftige in der Einrichtung Die Kurzzeitpflegeeinrichtung kann entsprechend der aktuell gültigen Pflegesatzvereinbarung Pflegebedürftige in allen Pflegegraden oder nur in einigen Pflegegraden angeben. Die Belegung muss der Platzzahl im Versorgungsvertrag entsprechen. | H22: zurück
A23: Es werden pflegegradunabhängig eine Personalmenge, Personalrelationen und ein Pflegesatz ermittelt. Eine Änderung der prognostischen Belegung ist nicht möglich.
A24: Personalausstattung der Pflegeeinrichtung Grundlage für die Ermittlung der beantragten Personalausstattung ist das prospektiv in der Einrichtung beschäftigte Personal. Eine Vollkraft wird mit 40 Stunden / Woche kalkuliert. Die Personalrelation für PDL und stellvertretende PDL beträgt bis 1 zu 20. Der Stellenanteil wird aus der bisherigen Personalrelation Pflege herausgelöst. Die Mitarbeiter Pflege und die Mitarbeiter Betreuung bilden einen gemeinsamen Funktionsbereich. Die summierten Stellenanteile für PDL, stellvertretende PDL, die Mitarbeiter Pflege und die Mitarbeiter Betreuung entsprechen der aktuell gültigen Pflegesatzvereinbarung. Eine Reduzierung ist möglich. Die Mitarbeiter der zusätzlichen Betreuung und Aktivierung nach § 43b SGB XI bilden einen separaten Funktionsbereich. Der gemeinsame Funktionsbereich Hauswirtschaft / Küche / Haustechnik wird aus den bisherigen einzelnen Stellenanteilen zusammengefasst. Eine Reduzierung ist möglich. Die Stellen für Freiwillige Dienste / FSJ sind ebenfalls der aktuell gültigen Pflegesatzvereinbarung zu entnehmen. Eine prospektive Veränderung ist möglich. Entsprechende Hinweise (Fehlermeldungen) sind zu beachten.
A25: Personalkosten Die Personalkosten werden aus der aktuell gültigen Pflegesatzvereinbarung übernommen. Die Angaben der Personalkosten Prognose sind abhängig von der Wahl der Entlohnung (AVR / Tarif, Tarifanlehner, regional übliches Entgelt) in der Mappe Allgemeine Angaben. Aus den bisher vereinbarten Personalkosten Pflege und Betreuung werden die gewichteten Personalkosten für den gemeinsamen Funktionsbereich Pflege / Betreuung ermittelt. Aus den bisher vereinbarten Personalkosten Küche, Hauswirtschaft und Haustechnik werden die gewichteten Personalkosten für den gemeinsamen Funktionsbereich Hauswirtschaft / Küche / Haustechnik ermittelt. Die Steigerung der Personalkosten wird für alle Funktionsbereiche in der Mappe Kalkulation eingetragen. Die bisher geeinten Personalkosten können in den Funktionsbereichen:
E26: Tarifgebundene Einrichtungen / Tarifanlehner | F26: Regional übliches Entgelt
B27: Pflege / Betreuung | E27: um maximal 5 % | F27: um maximal 3 %
B28: zusätzliche Betreuung und Aktivierung nach § 43 b SGB XI | E28: um maximal 5 % | F28: um maximal 3 %
B29: Leitung / Verwaltung | E29: um maximal 5 % | F29: um maximal 3,42 %
B30: Hauswirtschaft / Küche / Haustechnik | E30: um maximal 5 % | F30: um maximal 3 %
B31: Freiwillige Dienste / FSJ | E31: um maximal 4 % | F31: um maximal 4 %
A33: gesteigert werden. Für Freiwillige Dienste und FSJ sind im Antrag Netto-Personalkosten darzustellen. Das regionale Entlohnungsniveau für Pflege / Betreuung und zusätzliche Betreuung nach § 43b SGB XI im Rahmen der Veröffentlichung nach § 82c Abs. 5 SGB XI (Stand 30.09.2026) für das regional übliche Entgelt beträgt:
B35: Regional übliches Entlohnungsniveau je Beschäftigtengruppe gemäß § 4 Absatz 3 der Richtlinien des GKV-SV nach § 82c Absatz 4 SGB XI in Sachsen (Stand 30.9.2026)
B36: Pflege- und Betreuungskräfte ohne mindestens einjährige Berufsausbildung | F36: 20,88 € / h
B37: Pflege- und Betreuungskräfte mit mindestens einjähriger Berufsausbildung | F37: 22,52 € / h
B38: Fachkräfte in den Bereichen Pflege und Betreuung mit mindestens dreijähriger Berufsausbildung | F38: 27,18 € / h
B40: Regionale Durchschnittswerte der tarifvertraglich oder in kirchlichen Arbeitsrechtsregelungen vereinbarten variablen pflegetypischen Zuschläge auf den Stundenlohn (Grundgehalt) gemäß § 5 Absatz 2 der Richtlinien des GKV-SV nach § 82c Absatz 4 SGB XI in Sachsen (Stand 30.9.2026)
B41: Nachtzuschläge für eine Tätigkeit in der Nacht, mindestens im Zeitraum zwischen 23 und 6 Uhr | F41: 0.23
B42: Sonntagszuschläge für eine Tätigkeit anSonntagen im Zeitraum zwischen 0 und 24 Uhr | F42: 0.3
B43: Feiertagszuschläge für eine Tätigkeit an gesetzlichen Feiertagen im Zeitraum zwischen 0 und 24 Uhr (mit Freizeitausgleich) | F43: 0.35
B44: Feiertagszuschläge für eine Tätigkeit an gesetzlichen Feiertagen im Zeitraum zwischen 0 und 24 Uhr (ohne Freizeitausgleich) | F44: 1.33
A46: Die Personalkosten von PDL / stellvertretender PDL bleiben bei der Ermittlung des regional üblichen Entlohnungsniveaus unberücksichtigt. Sachkosten Die Sachkosten können in allen Positionen pauschal um maximal 3,0 % bezogen auf die aktuell geeinten Werte gesteigert werden. Fremdleistungen Die Fremdleistungen können in allen Positionen pauschal um maximal 5,0 % bezogen auf die aktuell geeinten Werte gesteigert werden. Die Richtigkeit der Angaben der Pflegeeinrichtung ist mit Unterschrift zu bestätigen.
A48: 2.3. Mappe Bewohnervertretung Vollstationäre Pflegeeinrichtungen haben gemäß § 85 Abs. 3 SGB XI zum Zeitpunkt der Antragstellung eine Stellungnahme der Bewohnervertretung beizufügen. | H48: zurück
A50: 2.4. Mappe Ergebnis Bis zur Ausfertigung der Pflegesatzvereinbarung erhält die Pflegeeinrichtung nach abgeschlossener Pflegesatzverhandlung ein von der Kostenträgerseite unterzeichnetes Ergebnis. Ausbildungsvergütung gemäß § 82a SGB XI Sofern die Pflegeeinrichtung eine Vereinbarung zur Ausbildungsvergütung gemäß § 82a SGB XI abgeschlossen hat, erhöht sich der jeweilige Pflegesatz um diesen Betrag. | H50: zurück
A52: 2.5. Mappe Gesamtkalkulation Die Gesamtkalkulation fasst die vorangegangenen Angaben zur Ermittlung der Entgeltbestandteile zusammen. Hier kann die Pflegeeinrichtung keine Änderungen vornehmen. Ggf. sind Korrekturen auf den vorhergehenden Seiten erforderlich. | H52: zurück

Sheet B_KZP_Allgemeine Angaben
A1: Vereinfachtes Verfahren der Aufforderung zum Abschluss einer Pflegesatzvereinbarung gemäß § 84, 85 SGB XI - Kurzzeitpflegeeinrichtungen
A2: Allgemeine Angaben
A3: =IF('B_KZP_Allgemeine Angaben'!D12>0,CONCATENATE(D12,", ",'B_KZP_Allgemeine Angaben'!D16," ",'B_KZP_Allgemeine Angaben'!J16),"")
A4: =IF(L6>0,"IK "&TEXT(L6,"000 000 000"),"") | K4: Antrag vom:
A5: 46314
B6: Art der Einrichtung: | D6: Kurzzeitpflege | K6: Institutionskennzeichen (IK):
B10: Allgemeine Angaben zur Pflegeeinrichtung und zum Träger
B12: Pflegeeinrichtung:
D13: Name der Einrichtung
D15: Straße
D17: PLZ | J17: Ort
D19: Telefon | J19: Fax
D21: E-Mail | J21: Web-Adresse
D23: Einrichtungsleitung | J23: PDL
B26: In Trägerschaft von:
D27: Name des Trägers
D29: Straße
D31: PLZ | J31: Ort
D33: Telefon | J33: Fax
D35: E-Mail | J35: Web-Adresse
D37: Ansprechpartner/ Funktion
B39: Zugehörigkeit zu einer Vereinigung von Trägern von stationären Pflegeeinrichtungen im Land
G41: Wenn ja, welche?
B43: Hiermit erteilen wir o.g. Vereinigung Verhandlungsmandat
B45: Zulassungsdatum der Pflegeeinrichtung: | K45: =DATEDIF(H45,H51,"m") -> 0
K46: =IF(AND(H45="",H51<>""),"Bitte Erfassung des Zulassungsdatums!","")
B47: Platzzahl der Pflegeeinrichtung entsprechend des Versorgungsvertrages:
B49: Pflegeeinrichtungskonzeption Stand:
B51: Vereinbarungszeitraum prospektiv: | F51: von | J51: bis | M51: =IFERROR(DATEDIF(H51,K51,"m")+1,0) -> 1
M52: =IF(H51<DATEVALUE("01.01.2027"),1,2) -> 1
B53: letzter Vereinbarungszeitraum: | F53: von | J53: bis
J54: =IF(K53>H51,"Vereinbarungsbeginn liegt vor dem Ende der Vorvereinbarung.","")
B55: unmittelbare Bindung Tarif / AVR:
B56: Entlohnung nach:
B57: Welcher Tarif / AVR:
B58: Fassung vom: | J58: =IF(AND(H57="",H56<>"rüE"),"Bitte Angaben zum Tarif / AVR vornehmen.","") -> Bitte Angaben zum Tarif / AVR vornehmen. | N58: 0
B60: Parteien der Pflegesatzvereinbarung (gem. § 85 Abs. 2 SGB XI)
C62: Pflegekassen:
C63: AOK PLUS | H63: Anteil in %
C64: vdek | H64: Anteil in %
...

Sheet B_KZP_Kalkulation
A1: ='B_KZP_Allgemeine Angaben'!A1:N1 -> Vereinfachtes Verfahren der Aufforderung zum Abschluss einer Pflegesatzvereinbarung gemäß § 84, 85 SGB XI - Kurzzeitpflegeeinrichtungen
A2: Kalkulation
B4: Einrichtung: | C4: ='B_KZP_Allgemeine Angaben'!D12 -> 0 | N4: Institutionskennzeichen: | P4: =IFERROR(TEXT('B_KZP_Allgemeine Angaben'!L6,"000 000 000"),"") -> 000 000 000
B5: PLZ Ort: | C5: =IF('B_KZP_Allgemeine Angaben'!D16>0,CONCATENATE('B_KZP_Allgemeine Angaben'!D16," ",'B_KZP_Allgemeine Angaben'!J16),"") | N5: Antrag vom: | P5: =IFERROR('B_KZP_Allgemeine Angaben'!L4,"") -> 0
B7: kalkulatorische Auslastungsquote: | H7: jährliche Öffnungstage: | I7: 365 | K7: Art der Einrichtung: | L7: =IF('B_KZP_Allgemeine Angaben'!D6>0,'B_KZP_Allgemeine Angaben'!D6,"") -> Kurzzeitpflege
D8: =IF('B_KZP_Allgemeine Angaben'!H45="","",IF(KAT!E8<12,"",IF(AND(KAT!E8>=12,KAT!E8<24),"Auslastungsquote bitte mit "&TEXT(KAT!E4,"0 %")&" angeben","Auslastungsquote kann mit 5 % unter der tatsächlichen Auslastung der letzten 24 Monate, mindestens jedoch mit "&TEXT(KAT!E3,"0 %")&" angegeben werden")))
B9: ="Belegungstage letzte "&TEXT(IF('B_KZP_Allgemeine Angaben'!K45-3>24,24,'B_KZP_Allgemeine Angaben'!K45-3),"0")&" Kalendermonate:" -> Belegungstage letzte -3 Kalendermonate:
B10: ="Auslastung letzte "&TEXT(IF('B_KZP_Allgemeine Angaben'!K45-3>24,24,'B_KZP_Allgemeine Angaben'!K45-3),"0")&" Kalendermonate:" -> Auslastung letzte -3 Kalendermonate: | D10: =D9/IF('B_KZP_Allgemeine Angaben'!K45-3>24,24,'B_KZP_Allgemeine Angaben'!K45-3)*12/('B_KZP_Allgemeine Angaben'!L47*365) -> #DIV/0!
B12: Verhandelte Kostenkalkulation der letzten Pflegesatzvereinbarung: | H12: Forderung:
B14: Laufzeit: | C14: vom: | D14: ='B_KZP_Allgemeine Angaben'!H53 -> 0 | E14: bis: | F14: ='B_KZP_Allgemeine Angaben'!K53 -> 0 | H14: Laufzeit: | I14: vom: | J14: =IF('B_KZP_Allgemeine Angaben'!H51=0,"",'B_KZP_Allgemeine Angaben'!H51) | K14: bis: | L14: =IF('B_KZP_Allgemeine Angaben'!K51=0,0,'B_KZP_Allgemeine Angaben'!K51) -> 0
B16: Belegung gesamt: | E16: gesamt: | F16: =SUM(B18:F18) -> 0 | H16: Belegung gesamt: | K16: gesamt: | L16: =SUM(H18:L18) -> 0
B17: Pflegegrad 1 | C17: Pflegegrad 2 | D17: Pflegegrad 3 | E17: Pflegegrad 4 | F17: Pflegegrad 5 | H17: Pflegegrad 1 | I17: Pflegegrad 2 | J17: Pflegegrad 3 | K17: Pflegegrad 4 | L17: Pflegegrad 5
H18: =B18 -> 0 | I18: =C18 -> 0 | J18: =D18 -> 0 | K18: =E18 -> 0 | L18: =F18 -> 0
B19: =IF(F16<>'B_KZP_Allgemeine Angaben'!L47,"Prognose entspricht nicht Platzzahl!","")
O20: Begründungen für:
B21: Personalausstattung: | C21: Personalrelation | D21: Stellen | E21: Personalkosten: | F21: €/VK bzw. €/Stelle | H21: Personalausstattung: | I21: Personalrelation | J21: Stellen | K21: Personalkosten: | L21: €/VK bzw. €/Stelle | M21: Steigerungsrate | O21: - Personalkostensteigerungen -
H22: PDL/stellv. PDL | I22: =IFERROR(L16/J22,"") | K22: =IF(J22>KAT!C11,"(max. "&TEXT(KAT!C11,"0,0000")&" VK)","PDL/stellv. PDL") -> PDL/stellv. PDL | L22: =IF(J22>0,IF('B_KZP_Allgemeine Angaben'!N58=1,'B_KZP_Berechnung rüE'!J16,L23),0) -> 0
B23: Pflege / Betreuung | D23: =IFERROR($F$16/C23,0) -> 0 | H23: Pflege / Betreuung | I23: =L16/J23 -> #DIV/0! | J23: =IF(J24<>0,MIN(J24,D23+D24-J22),D23+D24-J22) -> 0 | K23: Pflege / Betreuung | L23: =IF('B_KZP_Allgemeine Angaben'!$N$58=1,'B_KZP_Berechnung rüE'!J19,KAT!F67*(1+M23)) -> 0
B24: Betreuung | D24: =IFERROR($F$16/C24,0) -> 0 | H24: abweichende Stellen Pflege / Betreuung
B25: zusätzliche Betreuung und Aktivierung nach § 43 b SGB XI | C25: 20 | D25: =IFERROR($F$16/C25,0) -> 0 | E25: zusätzliche Betreuung und Aktivierung nach § 43 b SGB XI: | H25: zusätzliche Betreuung und Aktivierung nach § 43 b SGB XI | I25: 20 | J25: =IFERROR($L$16/I25,"") -> 0 | K25: zusätzliche Betreuung und Aktivierung nach § 43 b SGB XI | L25: =IF('B_KZP_Allgemeine Angaben'!$N$58=1,'B_KZP_Berechnung rüE'!J25,F25*(1+M25)) -> 0
B26: Leitung / Verwaltung | D26: =IFERROR($F$16/C26,0) -> 0 | E26: =B26 -> Leitung / Verwaltung | H26: Leitung / Verwaltung | I26: =C26 -> 0 | J26: =IFERROR($L$16/I26,0) -> 0 | K26: Leitung / Verwaltung | L26: =IF(F26=0,0,F26*M26+F26) -> 0
B27: Hauswirtschaft | D27: =IFERROR($F$16/C27,0) -> 0 | E27: =B27 -> Hauswirtschaft | H27: Hauswirtschaft/ Küche/ Haustechnik | I27: =IF(J28<>"",MAX(KAT!E74,'B_KZP_Allgemeine Angaben'!L47/J28),KAT!E74) -> 0 | J27: =IFERROR($L$16/I27,0) -> 0 | K27: =H27 -> Hauswirtschaft/ Küche/ Haustechnik | L27: =IF(KAT!F74=0,0,KAT!F74*M27+KAT!F74) -> 0
B28: Küche | D28: =IFERROR($F$16/C28,0) -> 0 | E28: =B28 -> Küche | H28: abweichende Stellen HW/ Kü/ HT
B29: Haustechnik | D29: =IFERROR($F$16/C29,0) -> 0 | E29: =B29 -> Haustechnik
B30: Freiwillige Dienste/ FSJ Einsatz | E30: =B30 -> Freiwillige Dienste/ FSJ Einsatz | H30: Freiwillige Dienste/FSJ Einsatz | K30: =H30 -> Freiwillige Dienste/FSJ Einsatz | L30: =IF(OR(F30=0,J30=0),0,F30*M30+F30) -> 0 | T30: B1 - Grundsatz:
T31: Die Belegung, die PR für Pflege, Betreuung und sonstige Mitarbeiter, die FKQ Pflege sind für die Prognose veränderbar im Rahmen der Wirtschaftlichkeit und der rahmenvertraglichen Vorgaben. Die restliche Personalausstattung bleibt unverändert. Die Sachkosten, die Fremdleistungen sowie die Beförderungsvergütungen werden auf Basis der geeinten Werte prognostisch um x% gesteigert. Die Personalkosten werden für Mitarbeiter Pflege/Betreuung nach GVWG umgestellt. Die Personalkosten in den Funktionsbereichen LuV, HW, Kü, HAT werden auf Basis der geeinten Personalkosten um x% gesteigert aber mindestens um x% auf den Mindestlohn
B33: Sachaufwendungen | F33: € gesamt | H33: Sachaufwendungen | L33: € gesamt | O33: - Sachkostensteigerungen -
B34: 2.1. | C34: Lebensmittel | H34: 2.1. | I34: Lebensmittel | L34: =IF($M$33<>0,F34*(100%+$M$33),F34) -> 0 | M34: =(IFERROR(L34/B_KZP_Gesamtkalkulation!$K$6,""))
B35: 2.2. | C35: pflegerischer Sachbedarf | H35: 2.2. | I35: pflegerischer Sachbedarf | L35: =IF($M$33<>0,F35*(100%+$M$33),F35) -> 0 | M35: =(IFERROR(L35/B_KZP_Gesamtkalkulation!$K$6,"")) | T35: Herleitung der Personalkosten
B36: 2.3. | C36: Wasser, Energie, Brennstoffe | H36: 2.3. | I36: Wasser, Energie, Brennstoffe | L36: =IF($M$33<>0,F36*(100%+$M$33),F36) -> 0 | M36: =(IFERROR(L36/B_KZP_Gesamtkalkulation!$K$6,""))
B37: 2.4. | C37: Verwaltungsbedarf | H37: 2.4. | I37: Verwaltungsbedarf | L37: =IF($M$33<>0,F37*(100%+$M$33),F37) -> 0 | M37: =(IFERROR(L37/B_KZP_Gesamtkalkulation!$K$6,""))
B38: 2.5. | C38: Zentrale Verwaltungsdienste | H38: 2.5. | I38: Zentrale Verwaltungsdienste | L38: =IF($M$33<>0,F38*(100%+$M$33),F38) -> 0 | M38: =(IFERROR(L38/B_KZP_Gesamtkalkulation!$K$6,""))
B39: 2.6. | C39: Betreuungsaufwand | H39: 2.6. | I39: Betreuungsaufwand | L39: =IF($M$33<>0,F39*(100%+$M$33),F39) -> 0 | M39: =(IFERROR(L39/B_KZP_Gesamtkalkulation!$K$6,"")) | T39: => für Leitung/Verwaltung, HW, Kü, HAT = pauschale Steigerung der bisher geeinten PK um x% aber mindestens um x% auf den Mindestlohn
B40: 2.7. | C40: Wirtschaftsbedarf | H40: 2.7. | I40: Wirtschaftsbedarf | L40: =IF($M$33<>0,F40*(100%+$M$33),F40) -> 0 | M40: =(IFERROR(L40/B_KZP_Gesamtkalkulation!$K$6,"")) | T40: => sonstige Stellen = pauschale Steigerung der bisher geeinten PK um x%
B41: 2.8. | C41: Steuern/Abgaben/Versicherungen | H41: 2.8. | I41: Steuern/Abgaben/Versicherungen | L41: =IF($M$33<>0,F41*(100%+$M$33),F41) -> 0 | M41: =(IFERROR(L41/B_KZP_Gesamtkalkulation!$K$6,""))
B42: 2.9. | C42: Wartung (keine Instandhaltung) | H42: 2.9. | I42: Wartung (keine Instandhaltung) | L42: =IF($M$33<>0,F42*(100%+$M$33),F42) -> 0 | M42: =(IFERROR(L42/B_KZP_Gesamtkalkulation!$K$6,"")) | T42: Berechnung der progn. PK auf Basis der geeinten PK
B43: 2.10. | C43: sonstige Aufwendungen | H43: 2.10. | I43: sonstige Aufwendungen | L43: =IF($M$33<>0,F43*(100%+$M$33),F43) -> 0 | M43: =(IFERROR(L43/B_KZP_Gesamtkalkulation!$K$6,"")) | T43: bisher geeinten Personalkosten => | W43: pauschale Herleitung der Prognose
C44: Gesamtsumme: | F44: =SUM(F34:F43) -> 0 | I44: Gesamtsumme: | L44: =SUM(L34:L43) -> 0 | M44: =SUM(M34:M43) -> 0 | U44: 0 | V44: => | W44: 0
U45: unter Mindestlohn =>
B46: Fremdleistungen/ Leistungen des Trägers | F46: € gesamt | H46: Fremdleistungen/ Leistungen des Trägers | L46: € gesamt | O46: - Fremdleistungen - | U46: unter Mindestlohn => | W46: Mindestlohn +x %
...

Sheet B_KZP_Berechnung rüE
A1: ='B_KZP_Allgemeine Angaben'!A1:A1 -> Vereinfachtes Verfahren der Aufforderung zum Abschluss einer Pflegesatzvereinbarung gemäß § 84, 85 SGB XI - Kurzzeitpflegeeinrichtungen | N1: SPERREN UND AUSBLENDEN
B2: Berechnung
B4: Einrichtung: | C4: ='B_KZP_Allgemeine Angaben'!D12 -> 0 | I4: =B_KZP_Kalkulation!N4 -> Institutionskennzeichen: | K4: ='B_KZP_Allgemeine Angaben'!L6 -> 0
B5: PLZ Ort: | C5: =IF('B_KZP_Allgemeine Angaben'!D16>0,CONCATENATE('B_KZP_Allgemeine Angaben'!D16," ",'B_KZP_Allgemeine Angaben'!J16),"") | I5: =B_KZP_Kalkulation!N5 -> Antrag vom: | K5: =_xlfn.SINGLE('B_KZP_Allgemeine Angaben'!L4) -> 0
B8: =IF('B_KZP_Allgemeine Angaben'!N58=0,"Inhalte dieses Blattes nur bei Entlohnung nach regional üblichem Entgelt relevant.","") -> Inhalte dieses Blattes nur bei Entlohnung nach regional üblichem Entgelt relevant.
B12: Funktionsbereich | C12: VK | D12: regional übliches Entgeltniveau | E12: gesteigert bis max. 10% | F12: inkl. variable pflegetypische Zuschläge | G12: Entgeltniveau inkl. variabler pflegetypischer Zuschläge pro Jahr/VK | H12: inkl. SV-Beiträge | I12: inkl. PNK | J12: inkl. Zuschlag nach § 32 RV | N12: Hilfsspalten
H13: 0.2134 | I13: 0.02 | J13: 0.02
N14: PFK/BFK | O14: PK/BK | P14: PK/BK o. | Q14: Register
B15: Pflege und Betreuung ohne PDL / stellv. PDL | E15: 0.08 | F15: =KAT!B22 -> 0.085 | N15: =C37 -> 0 | O15: =D37 -> 0 | P15: =E37 -> 0 | Q15: VK
B16: Pflege-/Betreuungsfachkraft, mind.3 Jahre Berufsausbildung | F16: =ROUND(IFERROR(E16*(100%+$F$15),0),2) -> 0 | G16: =ROUND(IFERROR(F16*40*13/3*12,0),2) -> 0 | H16: =(E16*40*13/3*12*$H$13)+G16 -> 0 | I16: =H16*(100%+$I$13) -> 0 | J16: =I16*(100%+$J$13) -> 0
B17: Pflege-/Betreuungshilfskraft, mind. 1 Jahr Berufsausbildung | E17: =ROUND(IFERROR(D17*(100%+$E$15),0),2) -> 0 | F17: =ROUND(IFERROR(E17*(100%+$F$15),0),2) -> 0 | G17: =ROUND(IFERROR(F17*40*13/3*12,0),2) -> 0 | H17: =(E17*40*13/3*12*$H$13)+G17 -> 0 | I17: =H17*(100%+$I$13) -> 0 | J17: =I17*(100%+$J$13) -> 0
B18: Pflege-/Betreuungshilfskraft, ohne mind. 1 Jahr Berufsausbildung | E18: =ROUND(IFERROR(D18*(100%+$E$15),0),2) -> 0 | F18: =ROUND(IFERROR(E18*(100%+$F$15),0),2) -> 0 | G18: =ROUND(IFERROR(F18*40*13/3*12,0),2) -> 0 | H18: =(E18*40*13/3*12*$H$13)+G18 -> 0 | I18: =H18*(100%+$I$13) -> 0 | J18: =I18*(100%+$J$13) -> 0 | N18: =(ROUND(E16*(100%+F15),2)+(E16*$H$13))*(100%+$I$13)*(100%+$J$13)*40*13/3*12*C16 -> 0 | O18: =(ROUND(E17*(100%+F15),2)+(E17*$H$13))*(100%+$I$13)*(100%+$J$13)*C17*40*13/3*12 -> 0 | P18: =(ROUND(E18*(100%+F15),2)+(E18*$H$13))*(100%+$I$13)*(100%+$J$13)*40*13/3*12*C18 -> 0 | Q18: Pflge & Betreuung - Personalkosten gesamt
B19: Gesamt Pflege und Betreuung ohne PDL / stellv. PDL: | E19: =IF(C18<0,"Fehler",ROUND(IFERROR(((E18*C18+C17*E17+E16*C16)/C19),0),2)) -> 0 | F19: =ROUND(IFERROR(E19*(100%+$F$21),0),2) -> 0 | G19: =ROUND(IFERROR(F19*40*13/3*12,0),2) -> 0 | H19: =(E19*40*13/3*12*$H$13)+G19 -> 0 | I19: =H19*(100%+$I$13) -> 0 | J19: =I19*(100%+$J$13) -> 0
N20: =(ROUND(E22*(100%+F21),2)+(E22*$H$13))*(100%+$I$13)*(100%+$J$13)*C22*40*13/3*12 -> 0 | O20: =(ROUND(E23*(100%+F21),2)+(E23*$H$13))*(100%+$I$13)*(100%+$J$13)*40*13/3*12*C23 -> 0 | P20: =(ROUND(E24*(100%+F21),2)+(E24*$H$13))*(100%+$I$13)*(100%+$J$13)*40*13/3*12*C24 -> 0 | Q20: zusätzliche Betreuung - Personalkosten gesamt
B21: zusätzliche Betreuung | F21: =KAT!B23 -> 0.0415 | N21: =SUM(N17:N20) -> 0 | O21: =SUM(O17:O20) -> 0 | P21: =SUM(P17:P20) -> 0 | Q21: Personalkosten gesamt
B22: Pflege-/Betreuungsfachkraft, mind.3 Jahre Berufsausbildung | E22: =ROUND(IFERROR(D22*(100%+$E$21),0),2) -> 0 | N22: =N21/N15 -> #DIV/0! | O22: =O21/O15 -> #DIV/0! | P22: =P21/P15 -> #DIV/0! | Q22: Personalkosten in €/VK
B23: Pflege-/Betreuungshilfskraft, mind. 1 Jahr Berufsausbildung | E23: =ROUND(IFERROR(D23*(100%+$E$21),0),2) -> 0
B24: Pflege-/Betreuungshilfskraft, ohne mind. 1 Jahr Berufsausbildung | C24: =C25-C22-C23 -> 0 | E24: =ROUND(IFERROR(D24*(100%+$E$21),0),2) -> 0
B25: Gesamt § 43 b SGB XI: | C25: =IFERROR(B_KZP_Kalkulation!J25,0) -> 0 | E25: =IF(C24<0,"Fehler",ROUND(IFERROR(((E24*C24+C23*E23+E22*C22)/C25),0),2)) -> 0 | F25: =ROUND(IFERROR(E25*(100%+$F$21),0),2) -> 0 | G25: =ROUND(IFERROR(F25*40*13/3*12,0),2) -> 0 | H25: =(E25*40*13/3*12*$H$13)+G25 -> 0 | I25: =H25*(100%+$I$13) -> 0 | J25: =I25*(100%+$J$13) -> 0
B28: Entlohnung der Pflege-/Betreuungsmitarbeiter entsprechend der Vorgaben
B30: Beschäftigungsgruppe | C30: PFK/BFK | D30: PK/BK | E30: PK/BK o.
C31: mind. 3 Jahre Berufsausbildung | D31: mind. 1 Jahr Berufsausbildung | E31: mind. ohne 1 Jahr Berufsausbildung
B33: fixe, regelm. Entlohnung je VK | C33: =IFERROR(((E22*C22+C16*E16)*40*13/3)/SUM(C16,C22),0) -> 0 | D33: =IFERROR(((E23*C23+E17*C17)*40*13/3)/SUM(C17,C23),0) -> 0 | E33: =IFERROR(((C18*E18+E24*C24)*40*13/3)/SUM(C18,C24),0) -> 0
B34: mtl. Arbeitszeit (40 h/Woche) | C34: =40*13/3 -> 173.33333 | D34: =40*13/3 -> 173.33333 | E34: =40*13/3 -> 173.33333
B35: arbeitszeitnormierter Std.lohn | C35: =C33/C34 -> 0 | D35: =D33/D34 -> 0 | E35: =E33/E34 -> 0
B37: VK | C37: =C16+C22 -> 0 | D37: =C17+C23 -> 0 | E37: =C18+C24 -> 0
B38: VK alle Beschäftigungsgruppen | C38: =IFERROR(SUM(C37:E37),0) -> 0
B39: Anteil je Beschäftigungsgruppe | C39: =IFERROR(C37/C38,0) -> 0 | D39: =IFERROR(D37/C38,0) -> 0 | E39: =IFERROR(E37/C38,0) -> 0
B41: einrichtungsindividuelles Entgeltniveau | C41: =IFERROR(C39*C35+D35*D39+E35*E39,0) -> 0 | F41: =IF(C41>KAT!$E$42*110%,"Forderung liegt mehr als 10% über dem regional üblichen Entgelt.","")
N42: STD_VG_PFK | O42: STD_VH_PHK_mit ausbildung | P42: STD_VG_PHK_ohne Ausbildung | Q42: STD_VG_einr. ind. Egniveau | R42: VK_PFK | S42: VK_PHK_mit ausbildung | T42: VK_PHK_ohne Ausbildung | U42: GES_VG_PFK | V42: GES_VG_PHK_mit Ausbildung | W42: GES_VG_PHK_ohne Ausbildung
B43: Gesamtbruttopersonalkosten je Jahr | C43: =IFERROR(N22,0) -> 0 | D43: =IFERROR(O22,0) -> 0 | E43: =IFERROR(P22,0) -> 0 | N43: =C35 -> 0 | O43: =D35 -> 0 | P43: =E35 -> 0 | Q43: =C41 -> 0 | R43: =C37 -> 0 | S43: =D37 -> 0 | T43: =E37 -> 0 | U43: =C43 -> 0 | V43: =D43 -> 0 | W43: =E43 -> 0
D46: gehe weiter zu B_KZP_Bewohnervertretung

Sheet B_KZP_Bewohnervertretung
A1: Stellungnahme der Bewohnervertretung gem. § 85 (3) SGB XI
A3: ='B_KZP_Allgemeine Angaben'!A3
A4: ='B_KZP_Allgemeine Angaben'!A4:N4
B6: Bewohnervertretung | L6: Bewohnersprecher *
B8: * Im Sinne der besseren Lesbarkeit wurde stellvertretend für beide Geschlechtsformen durchgehend nur die männliche Form verwendet.
B10: a) | C10: Schriftliche Stellungnahme liegt vor
F12: Ja
F13: weitere Angaben unter c) oder als Anlage erforderlich
F15: Nein
F16: weitere Angaben unter b) erforderlich
B18: b) | C18: Begründung für Nichtvorlage der schriftlichen Stellungnahme
F20: Gelegenheit zur Stellungnahme wurde eingeräumt,
F21: Bewohnervertretung oder Bewohnersprecher haben diese nicht wahrgenommen
F24: Bewohnervertretung oder Bewohnersprecher nicht vorhanden,
F25: (schriftliche Mitteilung des Trägers der Einrichtung an die zuständige Behörde beifügen)
B29: c) | C29: Einbeziehung der Bewohnervertretung / des Bewohnersprechers:
B31: Der vorliegende Antrag auf Abschluss einer neuen Pflegesatzvereinbarung, die zu einer Erhöhung der
B32: Entgelte für Pflege, Unterkunft und Verpflegung in Kurzzeitpflegeeinrichtungen nach § 42 SGB XI
B33: führen kann, wurde uns vom Einrichtungsträger vorgelegt und erläutert. Die dem Antrag zugrunde
B34: liegenden Einzelpositionen, der Umlagemaßstab sowie die Antragsbegründung wurden
B35: ausführlich dargestellt und auf die Möglichkeit an der Pflegesatzverhandlung teilzunehmen hingewiesen.
B37: Stellungnahme der Bewohnervertretung / des Bewohnersprechers:
B63: Ort, Datum | K63: Unterschrift des Vorsitzenden der Bewohnervertretung
K64: oder des Bewohnersprechers
B66: gehe weiter zu B_KZP_Ergebnis

Sheet B_KZP_Ergebnis
A1: ='B_KZP_Allgemeine Angaben'!A1:N1 -> Vereinfachtes Verfahren der Aufforderung zum Abschluss einer Pflegesatzvereinbarung gemäß § 84, 85 SGB XI - Kurzzeitpflegeeinrichtungen
A2: ERGEBNIS
L3: Antrag vom: | N3: ='B_KZP_Allgemeine Angaben'!L4 -> 0
B5: Pflegeeinrichtung | F5: Trägerdaten
B6: =IF('B_KZP_Allgemeine Angaben'!D12<>0,'B_KZP_Allgemeine Angaben'!D12,"") | F6: =IF('B_KZP_Allgemeine Angaben'!D26<>0,'B_KZP_Allgemeine Angaben'!D26,"")
B7: =IF('B_KZP_Allgemeine Angaben'!D14<>0,'B_KZP_Allgemeine Angaben'!D14,"") | F7: =IF('B_KZP_Allgemeine Angaben'!D28<>0,'B_KZP_Allgemeine Angaben'!D28,"")
B8: =IF('B_KZP_Allgemeine Angaben'!D16<>0,'B_KZP_Allgemeine Angaben'!D16&" "&'B_KZP_Allgemeine Angaben'!J16,"") | F8: =IF('B_KZP_Allgemeine Angaben'!D30<>0,'B_KZP_Allgemeine Angaben'!D30&" "&'B_KZP_Allgemeine Angaben'!J30,"")
B9: ='B_KZP_Allgemeine Angaben'!K6 -> Institutionskennzeichen (IK): | C9: ='B_KZP_Allgemeine Angaben'!L6 -> 0
B11: Vereinbarungszeitraum: | F11: =IF('B_KZP_Allgemeine Angaben'!H51>0,'B_KZP_Allgemeine Angaben'!H51,"") | H11: bis: | I11: =IFERROR('B_KZP_Allgemeine Angaben'!K51,"") -> 0
B14: Belegung:
B16: Pflegegrad 1: | F16: =B_KZP_Kalkulation!H18 -> 0
B17: Pflegegrad 2: | F17: =B_KZP_Kalkulation!I18 -> 0
B18: Pflegegrad 3: | F18: =B_KZP_Kalkulation!J18 -> 0
B19: Pflegegrad 4: | F19: =B_KZP_Kalkulation!K18 -> 0
B20: Pflegegrad 5: | F20: =B_KZP_Kalkulation!L18 -> 0
B22: Gesamt: | F22: =B_KZP_Kalkulation!L16 -> 0
B24: Personelle Ausstattung / Personalkosten der Pflegeeinrichtung:
F26: Vollkräfte | I26: Personal-relation | J26: Personal-kosten je VK
B28: PDL / stellvertretende PDL | F28: =IF(B_KZP_Kalkulation!J22>0,B_KZP_Kalkulation!J22,0) -> 0 | H28: 1: | I28: =B_KZP_Kalkulation!I22 | J28: =IF(B_KZP_Kalkulation!L22>0,B_KZP_Kalkulation!L22,0) -> 0 | L28: =IF(AND(F28>0,J28=0),"Bitte Angaben prüfen!","")
B30: Pflege / Betreuung | F30: =IF(B_KZP_Kalkulation!J23>0,B_KZP_Kalkulation!J23,0) -> 0 | H30: 1: | I30: =B_KZP_Kalkulation!I23 -> #DIV/0! | J30: =IF(B_KZP_Kalkulation!L23>0,B_KZP_Kalkulation!L23,0) -> 0 | L30: =IF(AND(F30>0,J30=0),"Bitte Angaben prüfen!","")
B32: Zusätzliche Betreuung und Aktivierung nach § 43 b SGB XI | F32: =IF(B_KZP_Kalkulation!J25>0,B_KZP_Kalkulation!J25,0) -> 0 | H32: 1: | I32: =B_KZP_Kalkulation!I25 -> 20 | J32: =IF(B_KZP_Kalkulation!L25>0,B_KZP_Kalkulation!L25,0) -> 0 | L32: =IF(AND(F32>0,J32=0),"Angaben prüfen!","")
B34: Leitung / Verwaltung | F34: =IF(B_KZP_Kalkulation!J26>0,B_KZP_Kalkulation!J26,0) -> 0 | H34: 1: | I34: =B_KZP_Kalkulation!I26 -> 0 | J34: =IF(B_KZP_Kalkulation!L26>0,B_KZP_Kalkulation!L26,0) -> 0 | L34: =IF(AND(F34>0,J34=0),"Angaben prüfen!","")
B36: Hauswirtschaft / Küche / Haustechnik | F36: =IF(B_KZP_Kalkulation!J27>0,B_KZP_Kalkulation!J27,0) -> 0 | H36: 1: | I36: =B_KZP_Kalkulation!I27 -> 0 | J36: =IF(B_KZP_Kalkulation!L27>0,B_KZP_Kalkulation!L27,0) -> 0 | L36: =IF(AND(F36>0,J36=0),"Angaben prüfen!","")
F38: Anzahl: | J38: Kosten je Stelle
B39: Einsatzstellen Freiwillige Dienste / FSJ | F39: =IF(B_KZP_Kalkulation!J30>0,B_KZP_Kalkulation!J30,0) -> 0 | J39: =IF(B_KZP_Kalkulation!L30>0,B_KZP_Kalkulation!L30,0) -> 0 | L39: =IF(AND(F39>0,J39=0),"Angaben prüfen!","")
B41: Sachaufwendungen (gesamt): | I41: Fremdleistungen / Leistungen des Trägers (gesamt):
B43: 2.1. Lebensmittel | F43: =B_KZP_Gesamtkalkulation!D22 -> 0 | I43: 3.1. Küche | L43: =B_KZP_Gesamtkalkulation!D34 -> 0
B44: 2.2. pflegerischer Sachbedarf | F44: =B_KZP_Gesamtkalkulation!D23 -> 0 | I44: 3.2. Wäscherei | L44: =B_KZP_Gesamtkalkulation!D35 -> 0
B45: 2.3. Wasser, Energie, Brennstoffe | F45: =B_KZP_Gesamtkalkulation!D24 -> 0 | I45: 3.3. Wäschekennzeichnung | L45: =B_KZP_Gesamtkalkulation!D36 -> 0
B46: 2.4. Verwaltungsbedarf | F46: =B_KZP_Gesamtkalkulation!D25 -> 0 | I46: 3.4. Reinigung | L46: =B_KZP_Gesamtkalkulation!D37 -> 0
B47: 2.5. Zentrale Verwaltungsdienste | F47: =B_KZP_Gesamtkalkulation!D26 -> 0 | I47: 3.5. Haustechnik | L47: =B_KZP_Gesamtkalkulation!D38 -> 0
B48: 2.6. Betreuungsaufwand | F48: =B_KZP_Gesamtkalkulation!D27 -> 0 | I48: ="3.6. "&IF(B_KZP_Kalkulation!C52<>"",B_KZP_Kalkulation!C52,"") -> 3.6. | L48: =B_KZP_Gesamtkalkulation!D39 -> 0
B49: 2.7. Wirtschaftsbedarf | F49: =B_KZP_Gesamtkalkulation!D28 -> 0 | I49: ="3.7. "&IF(B_KZP_Kalkulation!C53<>"",B_KZP_Kalkulation!C53,"") -> 3.7. | L49: =B_KZP_Gesamtkalkulation!D40 -> 0
B50: 2.8. Steuern/Abgaben/Versicherungen | F50: =B_KZP_Gesamtkalkulation!D29 -> 0
B51: 2.9. Wartung (keine Instandhaltung) | F51: =B_KZP_Gesamtkalkulation!D30 -> 0
B52: 2.10. sonstige Aufwendungen | F52: =B_KZP_Gesamtkalkulation!D31 -> 0
B54: Gesamt: | F54: =B_KZP_Gesamtkalkulation!D21 -> 0 | I54: Gesamt: | L54: =B_KZP_Gesamtkalkulation!D33 -> 0
B56: Pflegesatz und Entgelte
B58: Pflegesatz:
B60: Pflegegrad 1 bis 5: | F60: =IFERROR(B_KZP_Gesamtkalkulation!H46,"") | H60: € / Tag
...

Sheet B_KZP_Gesamtkalkulation
A1: ='B_KZP_Allgemeine Angaben'!A1 -> Vereinfachtes Verfahren der Aufforderung zum Abschluss einer Pflegesatzvereinbarung gemäß § 84, 85 SGB XI - Kurzzeitpflegeeinrichtungen
A2: Gesamtkalkulation
A3: ='B_KZP_Allgemeine Angaben'!A3
E5: GELBER TEIL | I5: Öffnungstage | J5: Auslastung | K5: Divisor | L5: Tage/Monat
C6: Gesamtplätze: | D6: =IF('B_KZP_Allgemeine Angaben'!L47>0,'B_KZP_Allgemeine Angaben'!L47,0) -> 0 | E6: WIRD AUS- | I6: =B_KZP_Kalkulation!I7 -> 365 | J6: =IF(B_KZP_Kalkulation!D7>0,B_KZP_Kalkulation!D7,"") | K6: =IFERROR(I6*J6*'B_KZP_Allgemeine Angaben'!L47/100,"") | L6: =IFERROR(ROUND(I6/12,2),"") -> 30.42
E8: GEBLENDET | I8: § 43b: | J8: 100 | K8: =IFERROR('B_KZP_Allgemeine Angaben'!L47*I6*J8/100,"") -> 0
G11: Aufwendungen für Leistungen im Pflegegrad 1 bis 5 | H11: Aufwendungen für Leistungen im Pflegegrad 1 bis 5 | I11: Aufwendungen für die Unterkunft | J11: Aufwendungen für die Verpflegung | K11: Aufwendungen für § 43b SGB XI | M11: Aufwendungen für die Unterkunft | N11: Aufwendungen für die Verpflegung | O11: Aufwendungen für § 43b SGB XI
D12: Gesamtaufwendungen | E12: Plausi Ges. | F12: ANT am PS | G12: Gesamt in € | H12: €/Tag | I12: €/Tag | J12: €/Tag | K12: €/Tag | M12: Gesamt in € | N12: Gesamt in € | O12: Gesamt in €
B13: 1. | C13: Personalaufwendungen | D13: =SUM(D14:D19) -> 0 | E13: =G13+M13+O13 -> 0 | G13: =SUM(G14:G19) -> 0 | H13: =SUM(H14:H19) -> #VALUE! | I13: =SUM(I17:I19) -> #VALUE! | K13: =SUM(K16) -> #DIV/0! | M13: =SUM(M17:M19) -> 0 | O13: =SUM(O16) -> 0
B14: 1.1. | C14: =B_KZP_Kalkulation!H22 -> PDL/stellv. PDL | D14: =B_KZP_Kalkulation!L22*B_KZP_Kalkulation!J22 -> 0 | E14: =G14+M14+N14+O14 -> 0 | F14: 1 | G14: =D14*F14 -> 0 | H14: =G14/$K$6 -> #VALUE!
B15: 1.2. | C15: =B_KZP_Kalkulation!H23 -> Pflege / Betreuung | D15: =B_KZP_Kalkulation!L23*B_KZP_Kalkulation!J23 -> 0 | E15: =G15+M15+N15+O15 -> 0 | F15: 1 | G15: =D15*F15 -> 0 | H15: =G15/$K$6 -> #VALUE!
B16: 1.3. | C16: =B_KZP_Kalkulation!H25 -> zusätzliche Betreuung und Aktivierung nach § 43 b SGB XI | D16: =B_KZP_Kalkulation!L25*B_KZP_Kalkulation!J25 -> 0 | E16: =G16+M16+N16+O16 -> 0 | K16: =D16/$K$8 -> #DIV/0! | O16: =D16 -> 0
B17: 1.4. | C17: =B_KZP_Kalkulation!H26 -> Leitung / Verwaltung | D17: =B_KZP_Kalkulation!L26*B_KZP_Kalkulation!J26 -> 0 | E17: =G17+M17+N17+O17 -> 0 | F17: 0.5 | G17: =D17*F17 -> 0 | H17: =G17/$K$6 -> #VALUE! | I17: =M17/$K$6 -> #VALUE! | M17: =D17*F17 -> 0
B18: 1.5. | C18: =B_KZP_Kalkulation!H27 -> Hauswirtschaft/ Küche/ Haustechnik | D18: =B_KZP_Kalkulation!L27*B_KZP_Kalkulation!J27 -> 0 | E18: =G18+M18+N18+O18 -> 0 | F18: 0.5 | G18: =D18*F18 -> 0 | H18: =G18/$K$6 -> #VALUE! | I18: =M18/$K$6 -> #VALUE! | M18: =D18*F18 -> 0
B19: 1.6. | C19: =B_KZP_Kalkulation!H30 -> Freiwillige Dienste/FSJ Einsatz | D19: =B_KZP_Kalkulation!L30*B_KZP_Kalkulation!J30 -> 0 | E19: =G19+M19+N19+O19 -> 0 | F19: 0.5 | G19: =D19*F19 -> 0 | H19: =G19/$K$6 -> #VALUE! | I19: =M19/$K$6 -> #VALUE! | M19: =D19*F19 -> 0
B21: 2. | C21: Sachaufwendungen | D21: =SUM(D22:D31) -> 0 | E21: =G21+M21+N21+O21 -> 0 | G21: =SUM(G23:G31) -> 0 | H21: =SUM(H23:H31) -> #VALUE! | I21: =SUM(I23:I31) -> #VALUE! | J21: =J22 -> #VALUE! | M21: =SUM(M22:M31) -> 0 | N21: =SUM(N22:N31) -> 0
B22: 2.1 | C22: =B_KZP_Kalkulation!I34 -> Lebensmittel | D22: =B_KZP_Kalkulation!L34 -> 0 | E22: =G22+M22+N22+O22 -> 0 | J22: =N22/$K$6 -> #VALUE! | N22: =D22 -> 0
B23: 2.2 | C23: =B_KZP_Kalkulation!I35 -> pflegerischer Sachbedarf | D23: =B_KZP_Kalkulation!L35 -> 0 | E23: =G23+M23+N23+O23 -> 0 | F23: 1 | G23: =D23*F23 -> 0 | H23: =G23/$K$6 -> #VALUE! | I23: =M23/$K$6 -> #VALUE!
B24: 2.3 | C24: =B_KZP_Kalkulation!I36 -> Wasser, Energie, Brennstoffe | D24: =B_KZP_Kalkulation!L36 -> 0 | E24: =G24+M24+N24+O24 -> 0 | F24: 0.5 | G24: =D24*F24 -> 0 | H24: =G24/$K$6 -> #VALUE! | I24: =M24/$K$6 -> #VALUE! | M24: =D24*F24 -> 0
B25: 2.4 | C25: =B_KZP_Kalkulation!I37 -> Verwaltungsbedarf | D25: =B_KZP_Kalkulation!L37 -> 0 | E25: =G25+M25+N25+O25 -> 0 | F25: 0.5 | G25: =D25*F25 -> 0 | H25: =G25/$K$6 -> #VALUE! | I25: =M25/$K$6 -> #VALUE! | M25: =D25*F25 -> 0
B26: 2.5 | C26: =B_KZP_Kalkulation!I38 -> Zentrale Verwaltungsdienste | D26: =B_KZP_Kalkulation!L38 -> 0 | E26: =G26+M26+N26+O26 -> 0 | F26: 0.5 | G26: =D26*F26 -> 0 | H26: =G26/$K$6 -> #VALUE! | I26: =M26/$K$6 -> #VALUE! | M26: =D26*F26 -> 0
B27: 2.6 | C27: =B_KZP_Kalkulation!I39 -> Betreuungsaufwand | D27: =B_KZP_Kalkulation!L39 -> 0 | E27: =G27+M27+N27+O27 -> 0 | F27: 1 | G27: =D27*F27 -> 0 | H27: =G27/$K$6 -> #VALUE! | I27: =M27/$K$6 -> #VALUE!
B28: 2.7 | C28: =B_KZP_Kalkulation!I40 -> Wirtschaftsbedarf | D28: =B_KZP_Kalkulation!L40 -> 0 | E28: =G28+M28+N28+O28 -> 0 | F28: 0.5 | G28: =D28*F28 -> 0 | H28: =G28/$K$6 -> #VALUE! | I28: =M28/$K$6 -> #VALUE! | M28: =D28*F28 -> 0
B29: 2.8 | C29: =B_KZP_Kalkulation!I41 -> Steuern/Abgaben/Versicherungen | D29: =B_KZP_Kalkulation!L41 -> 0 | E29: =G29+M29+N29+O29 -> 0 | F29: 0.5 | G29: =D29*F29 -> 0 | H29: =G29/$K$6 -> #VALUE! | I29: =M29/$K$6 -> #VALUE! | M29: =D29*F29 -> 0
B30: 2.9 | C30: =B_KZP_Kalkulation!I42 -> Wartung (keine Instandhaltung) | D30: =B_KZP_Kalkulation!L42 -> 0 | E30: =G30+M30+N30+O30 -> 0 | F30: 0.5 | G30: =D30*F30 -> 0 | H30: =G30/$K$6 -> #VALUE! | I30: =M30/$K$6 -> #VALUE! | M30: =D30*F30 -> 0
B31: 2.10 | C31: =B_KZP_Kalkulation!I43 -> sonstige Aufwendungen | D31: =B_KZP_Kalkulation!L43 -> 0 | E31: =G31+M31+N31+O31 -> 0 | F31: 0.5 | G31: =D31*F31 -> 0 | H31: =G31/$K$6 -> #VALUE! | I31: =M31/$K$6 -> #VALUE! | M31: =D31*F31 -> 0
B33: 3. | C33: Fremdleistungen / Trägerleistungen | D33: =SUM(D34:D40) -> 0 | E33: =G33+M33+N33 -> 0 | G33: =SUM(G34:G40) -> 0 | H33: =SUM(H34:H40) -> #VALUE! | I33: =SUM(I34:I40) -> #VALUE! | M33: =SUM(M34:M40) -> 0
B34: 3.1 | C34: =B_KZP_Kalkulation!C47 -> Küche | D34: =B_KZP_Kalkulation!L47 -> 0 | E34: =G34+M34+N34+O34 -> 0 | F34: 0.5 | G34: =D34*F34 -> 0 | H34: =G34/$K$6 -> #VALUE! | I34: =M34/$K$6 -> #VALUE! | M34: =D34*F34 -> 0
B35: 3.2 | C35: =B_KZP_Kalkulation!C48 -> Wäscherei | D35: =B_KZP_Kalkulation!L48 -> 0 | E35: =G35+M35+N35+O35 -> 0 | F35: 0.5 | G35: =D35*F35 -> 0 | H35: =G35/$K$6 -> #VALUE! | I35: =M35/$K$6 -> #VALUE! | M35: =D35*F35 -> 0
B36: 3.3 | C36: =B_KZP_Kalkulation!C49 -> Reinigung | D36: =B_KZP_Kalkulation!L49 -> 0 | E36: =G36+M36+N36+O36 -> 0 | F36: 0.5 | G36: =D36*F36 -> 0 | H36: =G36/$K$6 -> #VALUE! | I36: =M36/$K$6 -> #VALUE! | M36: =D36*F36 -> 0
B37: 3.4 | C37: =B_KZP_Kalkulation!C50 -> Haustechnik | D37: =B_KZP_Kalkulation!L50 -> 0 | E37: =G37+M37+N37+O37 -> 0 | F37: 0.5 | G37: =D37*F37 -> 0 | H37: =G37/$K$6 -> #VALUE! | I37: =M37/$K$6 -> #VALUE! | M37: =D37*F37 -> 0
B38: 3.5 | C38: =B_KZP_Kalkulation!C51 -> Verwaltung | D38: =B_KZP_Kalkulation!L51 -> 0 | E38: =G38+M38+N38+O38 -> 0 | F38: 0.5 | G38: =D38*F38 -> 0 | H38: =G38/$K$6 -> #VALUE! | I38: =M38/$K$6 -> #VALUE! | M38: =D38*F38 -> 0
B39: 3.6 | C39: =IF(B_KZP_Kalkulation!C52<>"",B_KZP_Kalkulation!C52,"") | D39: =B_KZP_Kalkulation!L52 -> 0 | E39: =G39+M39+N39+O39 -> 0 | F39: 0.5 | G39: =D39*F39 -> 0 | H39: =G39/$K$6 -> #VALUE! | I39: =M39/$K$6 -> #VALUE! | M39: =D39*F39 -> 0
B40: 3.7 | C40: =IF(B_KZP_Kalkulation!C53<>"",B_KZP_Kalkulation!C53,"") | D40: =B_KZP_Kalkulation!L53 -> 0 | E40: =G40+M40+N40+O40 -> 0 | F40: 0.5 | G40: =D40*F40 -> 0 | H40: =G40/$K$6 -> #VALUE! | I40: =M40/$K$6 -> #VALUE! | M40: =D40*F40 -> 0
H44: Pflegegrad 1 bis 5
H45: Pflege | I45: Unterkunft | J45: Verpflegung | K45: § 43b SGB XI
D46: errechnete Pflegesätze (€ / Tag): | H46: =ROUND(H33+H21+H13,2) -> #VALUE! | I46: =ROUND(I33+I21+I13,2) -> #VALUE! | J46: =ROUND(J21,2) -> #VALUE! | K46: =ROUND(K13,2) -> #DIV/0!

Sheet Adressverzeichnis
A1: Adressverzeichnis der Parteien der Pflegesatzvereinbarung gem. § 85 Abs. 2 SGB XI sowie von Vergütungen nach § 75 SGB XII
A5: AOK PLUS - Die Gesundheitskasse für Sachsen und Thüringen
A6: Geschäftsbereich Gesundheitspartner
A7: Bereich Pflege/HKP | E7: =IF('B_KZP_Allgemeine Angaben'!K63>5,"x","")
A8: Fachbereich Vertrags- und Qualitätsmanagement SAC
A9: Müllerstraße 41 | G9: pflegesatzverhandlungen_sachsen@plus.aok.de
A10: 09113 Chemnitz
A12: IKK classic | E12: =IF('B_KZP_Allgemeine Angaben'!K66>5,"x","") | G12: pflegeverhandlungen-sachsen@ikk-classic.de
A13: Postfach 10 02 51
A14: 01072 Dresden
A16: Knappschaft | E16: =IF('B_KZP_Allgemeine Angaben'!K67>5,"x","") | G16: vertrag.chemnitz@kbs.de
A17: Regionaldirektion Chemnitz
A18: Jagdschänkenstraße 50
A19: 09117 Chemnitz
A21: Kommunaler Sozialverband Sachsen | E21: =IF('B_KZP_Allgemeine Angaben'!K71>5,"x","") | G21: vereinbarungen-pflege@ksv-sachsen.de
A22: Humboldtstraße 18
A23: 04105 Leipzig
A25: Arbeitsgemeinschaft Betriebskrankenkassen
A27: BKK-Landesverband Mitte | E27: =IF('B_KZP_Allgemeine Angaben'!K65>5,"x","") | G27: Pflege-SN@bkkmitte.de
A28: Landesrepräsentanz Sachsen
A29: Dr.-Külz-Ring 12
A30: 01219 Dresden
A32: Arbeitsgemeinschaft Ersatzkassen
A34: vdek - Landesvertretung Sachsen | E34: =IF('B_KZP_Allgemeine Angaben'!K64>5,"x","") | G34: verguetung-pflege.sac@vdek.com
A35: Glacisstr. 4
A36: 01099 Dresden
G37: und
A39: BARMER | E39: =IF('B_KZP_Allgemeine Angaben'!K64>5,"x","") | G39: pflegesatzverhandlungen_sachsen@barmer.de
A40: Landesvertretung Sachsen
A41: Postfach 12 03 65
A42: 01004 Dresden
A44: Mitglieder:
A45: Techniker Krankenkasse
A46: Barmer
A47: DAK-Gesundheit
A48: Kaufmännische Krankenkasse - KKH
A49: Handelskrankenkasse (hkk)
A50: HEK - Hanseatische Krankenkasse
A53: Verband der Privaten Kranken- | E53: =IF('B_KZP_Allgemeine Angaben'!K68>5,"x","") | G53: pflege@pkv.de
A54: versicherung e.V.
...
