Workbook
Name divisor: 'Belegung_wö. Arbeitszeit'!$E$18
Name eeadivisor: Gesamtkalkulation!#REF!
Name pnk: Personalaufwendungen!$I$44
Name risiko: Personalaufwendungen!$I$48

Sheet VERSIONSINFO
A2: Erläuterung der Änderungen gegenüber der Vorversion (Änderungshistorie) nach 21.5.2026
A5: Datum der Änderung | B5: Tabellenblatt | C5: Zeile/Spalte | D5: Erläuterung der Änderung | E5: Hinweise für die Anwender
A6: 46185 | D6: gemäß RV KZP ab.1.7.26, Orientierung an Antrag vollstationär, Eckwerte auf KAT
A7: 46196 | B7: Allgemeine Angaben | C7: K66 | D7: bisher: =WENN(UND(H50>0;K65<5);"Mappe 'Allgemeine Angaben' und Mappe 'Forderung' an den KSV senden!";"") | E7: Beteiligung als Vertragspartner, nur bei über 5%
D8: neu: =WENN(UND(H50>0;K65<5,001);"Mappe 'Allgemeine Angaben' und Mappe 'Forderung' an den KSV senden!";"")
C9: K44 | D9: =WENN(H44=H50;0;WENN(UND(H44>0;L4>0);DATEDIF(H44;L4;"m");"")) | E9: Berechnung Differenz in Monaten zwischen VV-Beginn und Antragsdatum, gleichzeitig wird wird bei Neueinrichtungen VV+ LZ-Beginn gleich das Ergebnis auf 0 gesetzt (bisher wurde das Ergebnis nicht korrekt für diese Fälle ausgerechnet)
D10: bedingt formatiert als Plausifeld
C11: alte Version K45 - wird durch Formel in K44 abgelöst | D11: Differenz zw. VV-Beginn und LZ-Beginn berechnet | E11: ( Daten von 24 Monaten sind erst, ab 30 M zw. Antrag und VV-Beginn vorhanden - Berücksichtigung Antragstellungszeitraum)
B12: Sachaufwendungen | C12: H30;J30;L30 | D12: Summe korrigiert je von Zeile 20 bis 29
B13: Belegung_wö. Arbeitszeit | C13: C17 | D13: =WENN(UND('Allgemeine Angaben'!K44>0;ODER(C14="";C15=""));"Bitte Belegungszeitraum vollständig angeben";"") | E13: Formel passt, in Allgemeinen Angaben muss
C14: C18 | D14: neu =WENN(UND(ODER('Allgemeine Angaben'!K44=30;'Allgemeine Angaben'!K44>30);'Belegung_wö. Arbeitszeit'!C16<24);"Belegung für letzten 24 Kalendermonate angeben.";"") | E14: sofern zw. VV-Beginn und Antragstellung 30 und mehr Monate liegen, sind IST Belegungen für 24 Monate anzugeben
A15: 24./25.06.206 | B15: KAT | C15: A35:L51 | D15: Tabellen und Formeln für Plausibilitätsprüfung für TAB Forderung
B16: Forderung | C16: P31:P59 | D16: 3. Prüfung - Prüfkriterien, Links, Bewertungsergebnis aus TAB KAT (A35:L51) mit Anzeige ja, nein, leer und der Anzeige der entsprechenden Links verformelt
B17: Verknüpfungstabelle | C17: eingefügt, Bezüge zu den Inhalten des Antrages hergestellt
B18: Personalaufwendungen | C18: Formel für Berechnung PK €/VK/J inkl. PNK, stfreie % + UR in J15, J17; J19 hinterlegt, Schriftfarbe identisch mit Füllfarbe, somit nicht sichtbar
A19: 46199 | B19: KAT | C19: F39 | D19: Formel passt nicht ganz zu den Hinweisen aber zum RV: =WENN(UND(ODER('Belegung_wö. Arbeitszeit'!C30=0;'Belegung_wö. Arbeitszeit'!C16<>24);KAT!G35>29,99);1;0) | E19: LE muss BT für 24 M angeben, sofern zw. LZ-Beginn und VV-Beginn 30 M liegen, wenn LE eine Neueinrichtung ist, kann er keine BT angeben und wenn zw. LZ-Beginn und dem VV-Beginn keine 30 M liegen,gibt der LE für einen kürzeren Zeitraum die BT angeben (mind. Abstand zw. VV + LZ-Beginn = 19 M)
B20: Belegung_wö. Arbeitszeit | C20: C18 | D20: bisher =WENN(UND(ODER('Allgemeine Angaben'!K44=30;'Allgemeine Angaben'!K44>30);'Belegung_wö. Arbeitszeit'!C16<24);"Belegung für letzten 24 Kalendermonate angeben.";"") | E20: LE soll 24 M angeben, wenn zw. LZ-Beginn und VV-Beginn 30 M und mehr liegen, Korrektur der bish. Formel, damit ein BT-Zeitraum über 24 M nicht möglich ist!
D21: neu: =WENN(UND(ODER('Allgemeine Angaben'!K44=30;'Allgemeine Angaben'!K44>30);'Belegung_wö. Arbeitszeit'!C16<>24);"Belegung für letzten 24 Kalendermonate angeben.";"")
C22: C19 | D22: =WENN(DATEDIF(C14;'Allgemeine Angaben'!H50;"m")>30;"Belegungsbeginn darf nicht mehr als 30 Monate vor Laufzeitbeginn liegen";"") // bedingt formatiert als Plausi-Feld | E22: zw. BT IST - Beginn und LZ-Beginn dürfen nicht mehr als 30 M liegen
B23: Allgemeine Angaben | C23: K44 | D23: =WENN(H44=H50;0;WENN(UND(H44>0;L4>0);DATEDIF(H44;H50;"m");"")) | E23: Formel korrigiert, Abstand zw. LZ- und VV-Beginn
A24: 46202 | B24: Personalkostenaufstellung | C24: B216 | D24: bisher: =B214+B190 | E24: Ist-PK gesamt für 43b korr. - bisher ohne 1.3.1
D25: neu: B214+B190+B165
C26: C216 | D26: bisher: =WENNFEHLER(SUMME(C193:C213;C170:C189;)/B216;0)
D27: neu: =WENNFEHLER(SUMME(C193:C213;C170:C189;C159:C164)/B216;0)
C28: D216 | D28: bisher: =D214+D190
D29: neu: =D214+D190+D165
C30: C154 | D30: Bisher: =WENNFEHLER(SUMME(C150:C150;C112:C149;#BEZUG!;C78:C108;C38:C69)/(B154-SUMME(B70:B74));0)
D31: neu: =WENNFEHLER(SUMME(C112:C150;C78:C108;C38:C69)/(B154-SUMME(B70:B74));0)
C32: M154 | D32: bisher: =WENNFEHLER(SUMME(M150:M150;M112:M149;#BEZUG!;M78:M108;M38:M69)/($H$154-SUMME($H$70:$H$74));0)
D33: neu: =WENNFEHLER(SUMME(M112:M150;M78:M108;M38:M69)/($H$154-SUMME($H$70:$H$74));0)
C34: N154 | D34: bisher: =WENNFEHLER(SUMME(N150:N150;N112:N149;#BEZUG!;N78:N108;N38:N69)/($H$154-SUMME($H$70:$H$74));0)
D35: neu: =WENNFEHLER(SUMME(N112:N150;N78:N108;N38:N69)/($H$154-SUMME($H$70:$H$74));0)
C36: O154 | D36: bisher: =WENNFEHLER(SUMME(O150:O150;O112:O149;#BEZUG!;O78:O108;O38:O69)/($H$154-SUMME($H$70:$H$74));0)
D37: neu: =WENNFEHLER(SUMME(O112:O150;O78:O108;O38:O69)/($H$154-SUMME($H$70:$H$74));0)
C38: P154 | D38: bisher =WENNFEHLER(SUMME(P150:P150;P112:P149;#BEZUG!;P78:P108;P38:P69)/($H$154-SUMME($H$70:$H$74));0)
D39: neu =WENNFEHLER(SUMME(P112:P150;P78:P108;P38:P69)/($H$154-SUMME($H$70:$H$74));0)
C40: Q154 | D40: bisher =WENNFEHLER(SUMME(Q150:Q150;Q112:Q149;#BEZUG!;Q78:Q108;Q38:Q69)/($H$154-SUMME($H$70:$H$74));0)
D41: neu =WENNFEHLER(SUMME(Q112:Q150;Q78:Q108;Q38:Q69)/($H$154-SUMME($H$70:$H$74));0)
C42: R154 | D42: bisher =WENNFEHLER(SUMME(R150:R150;R112:R149;#BEZUG!;R78:R108;R38:R69)/($H$154-SUMME($H$70:$H$74));0)
D43: neu =WENNFEHLER(SUMME(R112:R150;R78:R108;R38:R69)/($H$154-SUMME($H$70:$H$74));0)
...

Sheet KAT
A1: Einrichtungsart | B1: Kreuz | C1: Tage/Monat | D1: Öffnungstage | E1: Auslastung (%) | F1: Ja/Nein
B2: x | C2: 30.42 | D2: 365 | E2: 100 | F2: nein
A3: Kurzzeitpflege | E3: 78 | F3: ja
E4: 73
E5: 70
D7: CheckMonate | E7: =IF('Allgemeine Angaben'!H44="",0,DATEDIF('Allgemeine Angaben'!H44,'Allgemeine Angaben'!H50,"m")) -> 0
A11: Personalmenge lt. RV | C11: check
A12: PDL | B12: 20 | C12: =ROUND('Allgemeine Angaben'!L46/KAT!B12,4) -> 0
A13: Pflege/Betreuung | B13: 1.7 | C13: =ROUND('Allgemeine Angaben'!L46/KAT!B13,4) -> 0
A14: Leitung | B14: 15 | C14: =ROUND('Allgemeine Angaben'!L46/KAT!B14,4) -> 0
A15: Hawi, Kü, HAT | B15: 4.5 | C15: =ROUND('Allgemeine Angaben'!L46/KAT!B15,4) -> 0
A16: 43b | B16: 20 | C16: =ROUND('Allgemeine Angaben'!L46/KAT!B16,4) -> 0
A20: Beschäftigungsgruppen nach GVWG
C21: ja | D21: Tarif/AVR maßgebend
A22: PDL | C22: nein | D22: regional übliches Entgelt
A23: stellv. PDL
A24: PFK/BFK
A25: PK/BK
A26: PK/BK o.
A31: Hinweisfeld
A32: nein | B32: Felder mit Hinweisen und Fehlermeldungen werden blau (="ja") bzw. weiß (="nein") hinterlegt
I33: Beachte Link - richtige Stelle // Schutz mit Astrid (Link funktioniert nicht richtig in vst.)
A35: Plausi-Berechnungen für TAB Forderung | E35: Zeitraum VV zu LZ-Beginn in M: | G35: =E7 -> 0 | H35: Weitere Hilfsspalten für bedingte Formatierung je Plausi-Punkt | I35: Ergebnis - für bedingte Formatierung (Nr. 1 bis …)
A36: Hauptbedingung | C36: Teilbedingung | F36: Ergebnis | G36: Erläuterung: | I36: Abbildung in TAB Ford. * und Plausikriterium und
C37: PDL/stellv. PDL | D37: Pflege/Betreuung | E37: 43b | F37: check | G37: Bedingung erfüllt, Ergebnis =0; Bedingung nicht erfüllt, Ergebnis = 1, Ausnahme bei Anlagen Tarif/AVR = wenn reg. Übl. En =Ergebnis LEER; Abbildung des Ergebnis je Bedingung im TAB Forderung mit ja/ nein | H37: => je nach Ergebnis werden die Zellen in TAB Ford. Formatiert | I37: Ergebnistext ohne, Link ohne | J37: Ergebnistext ohne, Link ohne | K37: Ergebnistext, Link ohne | L37: Ergebnistext, Link
A38: Angabe VV-Beginn | F38: =IF('Allgemeine Angaben'!H44="",1,0) -> 1 | H38: =IF(G51=0,1,IF(F38=0,3,IF(F38=1,4))) -> 1 | I38: 1 = Antrag leer | K38: 3 = Q4 = 0 (erfüllt) | L38: 4 = Q4= 1 (nicht erfüllt)
A39: Belegung Ist (24 KM) | F39: =IF(AND(OR('Belegung_wö. Arbeitszeit'!C30=0,'Belegung_wö. Arbeitszeit'!C16<>24),KAT!G35>29.99),1,0) -> 0 | G39: Pflichtangabe, sofern Zeitraum zw. LZ-Beginn u. VV Beginn mind. 30 M umfasst! Sofern zw. LZ-Beginn und VV-Beginn weniger als 30 M liegen, gibt der LE einen kürzeren BT-Zeitraum mit BT an // Bedingung analog RV (2. Version siehe H58) | H39: =IF(G51=0,1,IF(G35<19,2,IF(F39=0,3,IF(F39=1,4)))) -> 1 | I39: 1 = Antrag leer | J39: 2 = Zeit zw. VV+Antragsdatum < 19 M | K39: 3 = Q4 = 0 (erfüllt) | L39: 4 = Q4= 1 (nicht erfüllt) | M39: Beispiel: | N39: für die Wahl Zeitraumes von 19 Monaten zwischen LZ-Beginn und VV-Beginn
A40: Belegung Stichtag | B40: keine Pflicht bei Neueinrichtungen | F40: =IF(OR('Allgemeine Angaben'!H44='Allgemeine Angaben'!H50,'Belegung_wö. Arbeitszeit'!D30>0),0,1) -> 0 | G40: Pflichtangabe für alle LE außer für 1. Verhandlung einer Neueinrichtung | H40: =IF(G51=0,1,IF('Allgemeine Angaben'!H44='Allgemeine Angaben'!H50,2,IF(KAT!F40=0,3,IF(KAT!F40=1,4)))) -> 1 | I40: 1 = Antrag leer | J40: 2 = VV = LZ-Beginn | K40: 3 = Q5 = 0 (erfüllt) | L40: 4 = Q5= 1 (nicht erfüllt) | M40: 45658 | O40: Antrag
A41: Personalkosten (Ist) | C41: =IF(Personalkostenaufstellung!B33=0,1,0) -> 1 | D41: =IF(Personalkostenaufstellung!B154=0,1,0) -> 1 | E41: =IF(Personalkostenaufstellung!B216=0,1,0) -> 1 | F41: =IF(AND(G35>18.99,SUM(C41:E41)>0),1,0) -> 0 | G41: Pflichtangabe, sofern Zeitraum zw. LZ-Beginn u. VV Beginn mind. 19 M umfasst! | H41: =IF(G51=0,1,IF(G35<19,2,IF(F41=0,3,IF(F41=1,4)))) -> 1 | I41: 1 = Antrag leer | J41: 2 = Zeit zw. VV+Antragsdatum < 19 M | K41: 3 = Q4 = 0 (erfüllt) | L41: 4 = Q4= 1 (nicht erfüllt) | M41: 45778 | N41: =DATEDIF(M40,M41,"m") -> 4 | O41: LZ
A42: VK Ford. PDL / stellv. PDL> als RV bzw. PDL/stellv. PDL = 0 VK | F42: =IF(OR(Personalkostenaufstellung!H33>KAT!C12,Personalkostenaufstellung!H33=0),1,0) -> 1 | H42: =IF(G51=0,1,IF(F42=0,3,IF(F42=1,4))) -> 1 | I42: 1 = Antrag leer | K42: 3 = Q4 = 0 (erfüllt) | L42: 4 = Q4= 1 (nicht erfüllt) | M42: 45200 | N42: =DATEDIF(M42,M40,"m") -> 15 | O42: Ist-Zeitraum ab
A43: VK 43b <> 1 : 20 | F43: =IF(Personalkostenaufstellung!H216<>KAT!C16,1,0) -> 0 | H43: =IF(G51=0,1,IF(F43=0,3,IF(F43=1,4))) -> 1 | I43: 1 = Antrag leer | K43: 3 = Q4 = 0 (erfüllt) | L43: 4 = Q4= 1 (nicht erfüllt) | M43: 45200 | N43: frühestens | O43: VV - Beginn | P43: =DATEDIF(M43,M41,"m") -> 19 | Q43: M zw. VV + LZ Beginn
A44: ständige Anwesenheit einer PFK (24 h) | F44: =IF(Personalaufwendungen!H24="",1,0) -> 1 | H44: =IF(G51=0,1,IF(F44=0,3,IF(F44=1,4))) -> 1 | I44: 1 = Antrag leer | K44: 3 = Q4 = 0 (erfüllt) | L44: 4 = Q4= 1 (nicht erfüllt)
A45: VK-Angaben zum Stichtag | B45: keine Pflicht bei Neueinrichtungen | C45: =IF(OR('Allgemeine Angaben'!H44='Allgemeine Angaben'!H50,Personalaufwendungen!G12>0),0,1) -> 0 | D45: =IF(OR('Allgemeine Angaben'!H44='Allgemeine Angaben'!H50,Personalaufwendungen!G22>0),0,1) -> 0 | E45: =IF(OR('Allgemeine Angaben'!H44='Allgemeine Angaben'!H50,Personalaufwendungen!G27>0),0,1) -> 0 | F45: =IF(SUM(C45:E45)>0,1,0) -> 0 | G45: Pflichtangabe für alle LE außer für 1. Verhandlung einer Neueinrichtung | H45: =IF(G51=0,1,IF('Allgemeine Angaben'!H44='Allgemeine Angaben'!H50,2,IF(KAT!F45=0,3,IF(KAT!F45=1,4)))) -> 1 | I45: 1 = Antrag leer | J45: 2 = VV = LZ-Beginn | K45: 3 = Q5 = 0 (erfüllt) | L45: 4 = Q5= 1 (nicht erfüllt)
A46: Sachkosten Ist | F46: =IF(AND(G35>18.99,Sachaufwendungen!H30=0),1,0) -> 0 | G46: Pflichtangabe, sofern Zeitraum zw. LZ-Beginn u. VV Beginn mind. 19 M umfasst! | H46: =IF(G51=0,1,IF(G35<19,2,IF(F46=0,3,IF(F46=1,4)))) -> 1 | I46: 1 = Antrag leer | J46: 2 = Zeit zw. VV+Antragsdatum < 19 M | K46: 3 = Q4 = 0 (erfüllt) | L46: 4 = Q4= 1 (nicht erfüllt)
A47: Anlagen zum Tarif/AVR | F47: =IF(AND(Personalkostenaufstellung!M13="regional übliches Entgelt",Personalkostenaufstellung!M12="nein"),"",IF(AND(OR(Personalkostenaufstellung!M13="Tarif/AVR maßgebend",Personalkostenaufstellung!M12="ja"),Personalkostenaufstellung!P15=""),1,0)) -> 0 | G47: => Bedingung gilt für Tarifbinder und Anlehner, bei reg. Übl. En = Ergebnis LEER | H47: =IF(G51=0,1,IF(F47="",2,IF(KAT!F47=0,3,IF(KAT!F47=1,4)))) -> 1 | I47: 1 = Antrag leer | J47: 2 = LE zahlt reg. übl. EN | K47: 3 = Q5 = 0 (erfüllt) | L47: 4 = Q5= 1 (nicht erfüllt)
A48: Gesamt - Check | F48: =IF(SUM(F38:F47)>0,1,0) -> 1 | G48: sobald eine Bedingung nicht erfüllt ist, werden die Pflegesätze, U+ V, 43 b nicht errechnet!
A49: Hinweis - für Bedingung - Belegung Ist; PK Ist und SK Ist: für Neueinrichtungen und "neuere Einrichtungen" sind dies keine "Pflichtbedingungen" | G49: Hilfsfeld für Formatierung - im TAB Ford.keine Anzeige der Plausifelder bei leeren Antrag (Antragsdatum + LZ-Beginn + Platzzahl leer + VV-Beginn) = Ergebnis 0,ansonsten 1 | H49: Prüfung BT-Angabe
A50: desh. Regelanpassung unter folgender Betrachtung: Ist-Zeit (ab ...) TAB Belegung bis 15 M vor Antragstellung und | H50: 1. Version - entsprechend Hinweistext
A51: Antragstellung max. 4 M vor LZ-Beginn, somit Ist- Zahlen Pflicht, wenn zw. VV und LZ-Beginn mindestens 19 M liegen | G51: =IF(AND('Allgemeine Angaben'!L6="",'Allgemeine Angaben'!H44="",'Allgemeine Angaben'!L46="",'Allgemeine Angaben'!H50=""),0,1) -> 0 | I51: Antrag - Datum (max. 4 M vor LZ-Beginn) | J51: VV-Beginn | K51: LZ-Beginn | L51: Diff. Zw. VV und LZ-Beginn | M51: 4 M vor LZ Beginn | N51: BT-Beginn (max. 30 M vor LZ-Beginn) | O51: BT-Ende
H52: 1. Jahr | I52: 45536 | J52: 45658 | K52: 45658 | L52: =DATEDIF(J52,K52,"m") -> 0 | N52: =IF(J52=K52,"",IF(EDATE(K52,-30)<J52,J52,IF(EDATE(K52,-30)>29.99,EDATE(K52,-30)))) | O52: =IF(J52=K52,"",IF(L52<30,(EDATE(K52,-4)-1),EDATE(N52,24)-1)) | P52: VV = LZ
...

Sheet Verknüpfungstabelle
A4: Verhandlungsart - stat | B4: IK_E | C4: IK_KZP | D4: Antragsdatum | E4: E_Art | F4: Name_E | G4: Straße_E | H4: PLZ_E | I4: Ort_E | J4: TEL_E | K4: Fax_E | L4: EMail_E | M4: Web_E | N4: Einrichtungsleitung | O4: PDL | P4: Name_T | Q4: Straße_T | R4: PLZ_T | S4: Ort_T | T4: Tel_T | U4: Fax_T | V4: EMail_T | W4: Web_T | X4: AP_Funktion | Y4: Verband | Z4: Zulassungsdatum | AA4: Platzzahl | AB4: dav_KZP_Plätze | AC4: LFZ_ab | AD4: LFZ_bis | AE4: letzte_LFZ_ab | AF4: letzte_LFZ_bis | AG4: ANT_AOK | AH4: ANT_vdek | AI4: ANT_BKK | AJ4: ANT_IKK | AK4: ANT_KBS | AL4: ANT_PKV | AM4: ANT_Sonstige_SVT | AN4: dav_SHT | AO4: Ausbildungsbetrieb | AP4: 132g | AQ4: Auslastung_E | AR4: BEL_letze12M_PG1 | AS4: BEL_letze12M_PG2 | AT4: BEL_letze12M_PG3 | AU4: BEL_letze12M_PG4 | AV4: BEL_letze12M_PG5 | AW4: BEL_letze12M_SUM | AX4: BEL_STICHTAG_PG1 | AY4: BEL_STICHTAG_PG2 | AZ4: BEL_STICHTAG_PG3 | BA4: BEL_STICHTAG_PG4 | BB4: BEL_STICHTAG_PG5 | BC4: BEL_STICHTAG_SUM | BD4: BEL_PROG_PG1 | BE4: BEL_PROG_PG2 | BF4: BEL_PROG_PG3 | BG4: BEL_PROG_PG4 | BH4: BEL_PROG_PG5 | BI4: BEL_PROG_SUM | BJ4: BEL_PROG_DAV_KZP_PG1 | BK4: BEL_PROG_DAV_KZP_PG2 | BL4: BEL_PROG_DAV_KZP_PG3 | BM4: BEL_PROG_DAV_KZP_PG4 | BN4: BEL_PROG_DAV_KZP_PG5 | BO4: BEL_PROG_DAV_KZP_SUM | BP4: wö_AZ_je_VK | BQ4: letzte12M_PKL_von | BR4: letzte12M_PKL_bis | BS4: PKL_PERS_IST_111_PDL-stellvPDL | BT4: PKL_AG_Brutto_IST_111_PDL-stellvPDL | BU4: PKL_PERS_IST_112_QM | BV4: PKL_AG_Brutto_IST_112_QM | BW4: PKL_PERS_IST_113_HM | BX4: PKL_AG_Brutto_IST_113_HM | BY4: PKL_PERS_IST_121_PFK/BFK | BZ4: PKL_AG_Brutto_IST_121_PFK/BFK | CA4: PKL_PERS_IST_121_PFK/BFK_DAV_PRÄSK | CB4: PKL_PERS_IST_122_PK/BK | CC4: PKL_AG_Brutto_IST_121_PK/BK | CD4: PKL_PERS_IST_122_PK/BK_DAV_PRÄSK | CE4: PKL_PERS_IST_123_PK/BK o. | CF4: PKL_AG_Brutto_IST_123_PK/BK o. | CG4: PKL_PERS_IST_123_PK/BK o._DAV_PRÄSK | CH4: PKL_PERS_IST_12_SUM | CI4: PKL_AG_Brutto_IST_12_SUM | CJ4: PKL_IST_121_PFK/BFK_ANT_113c | CK4: PKL_IST_122_PK/BKANT_113c | CL4: PKL_IST_123_PK/BK o.113c | CM4: PKL_PERS_IST_131_43b_PK/BK | CN4: PKL_AG_Brutto_IST_131_43b_PK/BK | CO4: PKL_PERS_IST_132_43b_PK/BK o. | CP4: PKL_AG_Brutto_IST_132_43b_PK/BK o. | CQ4: PKL_PERS_IST_13_43b_SUM | CR4: PKL_AG_Brutto_IST_13_43b_SUM | CS4: PKL_PERS_IST_14_EL | CT4: PKL_AG_Brutto_IST_14_EL | CU4: PKL_PERS_IST_15_HW | CV4: PKL_AG_Brutto_IST_15_HW | CW4: PKL_PERS_IST_15_HW_DAV_PräsK_PFK/BFK | CX4: PKL_PERS_IST_15_HW_DAV_PräsK_PK/BK | CY4: PKL_PERS_IST_15_HW_DAV_PräsK_PK/BK o. | CZ4: PKL_PERS_IST_16_KÜCHE | DA4: PKL_AG_Brutto_IST_16_KÜCHE | DB4: PKL_PERS_IST_17_HAT | DC4: PKL_AG_Brutto_IST_17_HAT | DD4: PKL_PERS_IST_18_FwD | DE4: PKL_AG_Brutto_IST_18_FwD | DF4: PKL_PERS_IST_18_FSJ | DG4: PKL_AG_Brutto_IST_18_FSJ | DH4: PKL_PERS_IST_18_SONS_SUM | DI4: PKL_AG_Brutto_IST_18_SONS_SUM | DJ4: UNMITT_TARIFBIND | DK4: ENTLOHNUNG_NACH | DL4: TARIF_AVR | DM4: TARIF_FASSG_VOM | DN4: FORD_SV_ANT | DO4: FORD_bAV_ANT | DP4: FORD_SV_ANT_GfB | DQ4: FORD_GVWG_STD_LOHN_PFK/BFK | DR4: FORD_GVWG_STD_LOHN_PK/BK | DS4: FORD_GVWG_STD_LOHN_PK/BK o. | DT4: FORD_GVWG_VK_PFK/BFK | DU4: FORD_GVWG_VK_PK/BK | DV4: FORD_GVWG_VK_PK/BK o. | DW4: FORD_GVWG_VK_SUM | DX4: FORD_GVWG_REG | DY4: FORD_GVWG_GES_BRUTTO_PFK/BFK | DZ4: FORD_GVWG_GES_BRUTTO_PK/BK | EA4: FORD_GVWG_GES_BRUTTO_PK/BK o. | EB4: PERS_STICHT_111_PDL-stellvPDL | EC4: PERS_STICHT_112_QM | ED4: PERS_STICHT_113_HM | EE4: PERS_STICHT_11_SUM | EF4: PERS_STICHT_121_PFK/BFK | EG4: PERS_STICHT_121_PFK/BFK_DAV_PRÄSK | EH4: PERS_STICHT_122_PK/BK | EI4: PERS_STICHT_122_PK/BK_DAV_PRÄSK | EJ4: PERS_STICHT_123_PK/BK o. | EK4: PERS_STICHT_123_PK/BK o._DAV_PRÄSK | EL4: PERS_STICHT_12_SUM | EM4: ANT_113c_STICHT_121_PFK/BFK | EN4: ANT_113c_STICHT_122_PK/BK | EO4: ANT_113c_STICHT_123_PK/BK o. | EP4: PERS_STICHT_131_43b_PK/BK | EQ4: PERS_STICHT_132_43b_PK/BK o. | ER4: PERS_STICHT_13_43b_SUM | ES4: PERS_STICHT_14_LuV_LTG | ET4: PERS_STICHT_14_LuV_VW | EU4: PERS_STICHT_14_LuV_EL | EV4: PERS_STICHT_15_HW | EW4: PERS_STICHT_15_HW_DAV_PRÄSK_PFK/BFK | EX4: PERS_STICHT_15_HW_DAV_PRÄSK_PK/BK | EY4: PERS_STICHT_15_HW_DAV_PRÄSK_PK/BK o. | EZ4: PERS_STICHT_16_KÜCHE | FA4: PERS_STICHT_17_HAT | FB4: PERS_STICHT_18_FwD | FC4: PERS_STICHT_18_FSJ | FD4: PERS_PROGN_111_PDL-stellvPDL | FE4: PERS_PROGN_112_QM | FF4: PERS_PROGN_113_HM | FG4: PERS_PROGN_11_SUM | FH4: PERS_PROGN_121_PFK/BFK | FI4: PERS_PROGN_121_PFK/BFK_DAV_PRÄSK | FJ4: PERS_PROGN_122_PK/BK | FK4: PERS_PROGN_122_PK/BK_DAV_PRÄSK | FL4: PERS_PROGN_123_PK/BK o. | FM4: PERS_PROGN_123_PK/BK o._DAV_PRÄSK | FN4: PERS_PROGN_12_SUM | FO4: ANT_113c_PROGN_121_PFK/BFK | FP4: ANT_113c_PROGN_122_PK/BK | FQ4: ANT_113c_PROGN_123_PK/BK o. | FR4: PERS_PROGN_131_43b_PK/BK | FS4: PERS_PROGN_132_43b_PK/BK o. | FT4: PERS_PROGN_13_43b_SUM | FU4: PERS_PROGN_14_LuV_LTG | FV4: PERS_PROGN_14_LuV_VW | FW4: PERS_PROGN_14_EL | FX4: PERS_PROGN_15_HW | FY4: PERS_PROGN_15_HW_DAV_PRÄSK_PFK/BFK | FZ4: PERS_PROGN_15_HW_DAV_PRÄSK_PK/BK | GA4: PERS_PROGN_15_HW_DAV_PRÄSK_PK/BK o. | GB4: PERS_PROGN_15_HW_SUM | GC4: ANT_PROGN_PRÄSK_15_HW | GD4: PERS_PROGN_16_KÜCHE | GE4: PERS_PROGN_17_HAT | GF4: PERS_PROGN_18_FwD | GG4: PERS_PROGN_18_FSJ | GH4: PNK_PROGN_BG | GI4: PNK_PROGN_AUSGL | GJ4: PNK_PROGN_FORTB | GK4: PNK_PROGN_ARB-GES-SCHUTZ | GL4: PNK_PROGN_PROZ | GM4: PNK_PROGN_SUM | GN4: stfr_Sachbez_PROGN_PROZ | GO4: stfr_Sachbez_PROGN | GP4: UR_PROGN_PROZ | GQ4: UR_PROGN | GR4: GES-PeKo_PROGN_111_PDL-stellvPDL | GS4: GES_PeKo_PROGN_112_QM | GT4: GES_PeKo_PROGN_113_HM | GU4: GES_PeKo_PROGN_11_SUM | GV4: GES_PeKo_PROGN_121_PFK/BFK | GW4: GES_PeKo_PROGN_122_PK/BK | GX4: GES_PeKo_PROGN_123_PK/BK o. | GY4: GES_PeKo_PROGN_12_SUM | GZ4: GES_PeKo_PROGN_131_43b_PK/BK | HA4: GES_PeKo_PROGN_132_43b_PK/BK o. | HB4: GES_PeKo_PROGN_13_43b_SUM | HC4: GES_PeKo_PROGN_14_LuV_LTG | HD4: GES_PeKo_PROGN_14_LuV_VW | HE4: GES_PeKo_PROGN_14_EL | HF4: GES_PeKo_PROGN_15_HW_SUM | HG4: GES_PeKo_PROGN_16_KÜCHE_SUM | HH4: GES_PeKo_PROGN_17_HAT_SUM | HI4: PeKo_PROGN_18_FwD_STELLE | HJ4: PeKo_PROGN_18_FSJ_STELLE | HK4: SK_Zeitraum_Wahl | HL4: SK_ZEITR_VON | HM4: SK_ZEITR_BIS | HN4: SK_BT_abweichender Zeitraum | HO4: SK_ZEITR_21_LEBENSM | HP4: SK_ZEITR_22_PFLEGEBEDARF | HQ4: SK_ZEITR_23_W-E-B | HR4: SK_ZEITR_24_VW_BEDARF | HS4: SK_ZEITR_25_VW_DIENSTE | HT4: SK_ZEITR_26_BETREUUNG | HU4: SK_ZEITR_27_WIRTSCHAFT | HV4: SK_ZEITR_28_S-A-V | HW4: SK_ZEITR_29_WARTUNG | HX4: SK_ZEITR_210_SONSTIGE | HY4: SK_ZEITR_2_SUM | HZ4: FL_ZEITR_31_Küche | IA4: FL_ZEITR_32_WÄSCHEREI | IB4: FL_ZEITR_33_WÄSCHE-KZ | IC4: FL_ZEITR_34_REINIGUNG | ID4: FL_ZEITR_35_VW | IE4: FL_ZEITR_36_HT | IF4: FL_ZEITR_37_EINTR | IG4: FL_ZEITR_37_ZEILE1 | IH4: FL_ZEITR_38_EINTR | II4: FL_ZEITR_38_ZEILE2 | IJ4: FL_ZEITR_3_SUM | IK4: SK_PROGN_21_LEBENSM | IL4: SK_PROGN_22_PFLEGEBEDARF | IM4: SK_PROGN_23_W-E-B | IN4: SK_PROGN_24_VW_BEDARF | IO4: SK_PROGN_25_VW_DIENSTE | IP4: SK_PROGN_26_BETREUUNG | IQ4: SK_PROGN_27_WIRTSCHAFT | IR4: SK_PROGN_28_S-A-V | IS4: SK_PROGN_29_WARTUNG | IT4: SK_PROGN_210_SONSTIGE | IU4: SK_PROGN_2_SUM | IV4: FL_PROGN_31_Küche | IW4: FL_PROGN_32_WÄSCHEREI | IX4: FL_PROGN_33_WÄSCHE-KZ | IY4: FL_PROGN_34_REINIGUNG | IZ4: FL_PROGN_35_VW | JA4: FL_PROGN_36_HT | JB4: FL_PROGN_37_EINTR | JC4: FL_PROGN_37_ZEILE1 | JD4: FL_PROGN_38_EINTR | JE4: FL_PROGN_38_ZEILE2 | JF4: FL_PROGN_3_SUM | JG4: SK_PROGN-BT_21_LEBENSM | JH4: SK_PROGN-BT_22_PFLEGEBEDARF | JI4: SK_PROGN-BT_23_W-E-B | JJ4: SK_PROGN-BT_24_VW_BEDARF | JK4: SK_PROGN-BT_25_VW_DIENSTE | JL4: SK_PROGN-BT_26_BETREUUNG | JM4: SK_PROGN-BT_27_WIRTSCHAFT | JN4: SK_PROGN-BT_28_S-A-V | JO4: SK_PROGN-BT_29_WARTUNG | JP4: SK_PROGN-BT_210_SONSTIGE | JQ4: SK_PROGN-BT_2_SUM | JR4: FL_PROGN-BT_31_Küche | JS4: FL_PROGN-BT_32_WÄSCHEREI | JT4: FL_PROGN-BT_33_WÄSCHE-KZ | JU4: FL_PROGN-BT_34_REINIGUNG | JV4: FL_PROGN-BT_35_VW | JW4: FL_PROGN-BT_36_HT | JX4: FL_PROGN-BT_37_EINTR | JY4: FL_PROGN-BT_37_ZEILE1 | JZ4: FL_PROGN-BT_38_EINTR | KA4: FL_PROGN-BT_38_ZEILE2 | KB4: FL_PROGN-BT_3_SUM | KC4: SK_PROGN_UR_PROZ | KD4: SK_PROGN_UR_BETR | KE4: FORD_VK_111_PDL-stellvPDL | KF4: FORD_VK_112_QM | KG4: FORD_VK_113_HM | KH4: FORD_VK_121_PFK/BFK | KI4: FORD_VK_122_PK/BK | KJ4: FORD_VK_123_PK/BK o. | KK4: FORD_VK_131_43b | KL4: FORD_VK_14_EL | KM4: FORD_VK_15_HW | KN4: FORD_VK_16_KÜCHE | KO4: FORD_VK_17_HAT | KP4: FORD_Anzahhl_18_FwD_FSJ | KQ4: FORD_VK_111_PDL-stellvPDL_DAV_VST | KR4: FORD_VK_112_QM_DAV_VST | KS4: FORD_VK_113_HM_DAV_VST | KT4: FORD_VK_121_PFK/BFK_DAV_VST | KU4: FORD_VK_122_PK/BK_DAV_VST | KV4: FORD_VK_123_PK/BK o._DAV_VST | KW4: FORD_VK_131_43b_DAV_VST | KX4: FORD_VK_14_LuV_DAV_VST | KY4: FORD_VK_15_HW_DAV_VST | KZ4: FORD_VK_16_KÜCHE_DAV_VST | LA4: FORD_VK_17_HAT_DAV_VST | LB4: FORD_Anzahl_18_FwD_FSJ_DAV_VST | LC4: FORD_VK_111_PDL-stellvPDL_DAV_KZP | LD4: FORD_VK_112_QM_DAV_KZP | LE4: FORD_VK_113_HM_DAV_KZP | LF4: FORD_VK_121_PFK/BFK_DAV_KZP | LG4: FORD_VK_122_PK/BK_DAV_KZP | LH4: FORD_VK_123_PK/BK o._DAV_KZP | LI4: FORD_VK_131_43b_DAV_KZP | LJ4: FORD_VK_14_LuV_DAV_KZP | LK4: FORD_VK_15_HW_DAV_KZP | LL4: FORD_VK_16_KÜCHE_DAV_KZP | LM4: FORD_VK_17_HAT_DAV_KZP | LN4: FORD_Anzahl_18_FwD_FSJ_DAV_KZP | LO4: FORD_ANT_113c_121_PFK/BFK | LP4: FORD_ANT_113c_122_PK/BK | LQ4: FORD_ANT_113c_123_PK/BK o. | LR4: FORD_PR_131_43b_ | LS4: FORD_PR_14_EL | LT4: FORD_PR_15_HW_ | LU4: FORD_PR_16_KÜCHE_ | LV4: FORD_PR_17_HAT_ | LW4: FORD_PR_18_FwD_FSJ_ | LX4: FORD_EEE_VST | LY4: FORD_PS-PG1_VST | LZ4: FORD_PS-PG2_VST | MA4: FORD_PS-PG3_VST | MB4: FORD_PS-PG4_VST | MC4: FORD_PS-PG5_VST | MD4: FORD_43b_VST | ME4: FORD_U_VST | MF4: FORD_V_VST | MG4: FORD_PS-PG1-5_KZP | MH4: FORD_43b_KZP | MI4: FORD_U_KZP | MJ4: FORD_V_KZP | MK4: VWBUD_GES_PeKo_PROGN | ML4: VWBUD_PeKo_BREUCK | MM4: VWBUD_PeKo_SK-FL_BERUECK | MN4: VWBUD_PROZENT | MO4: VWBUD_BETRAG | MP4: VWBUD_AUFSCHLAG | MQ4: VWBUD_AUFSCHLAG_BETRAG | MR4: VWBUD_N_AUSG_STELLENANT | MS4: VWBUD_PK_JE_VK | MT4: VWBUD_ERGEBNIS | MU4: Bel_letzte24 M_von | MV4: Bel_letzte24 M_bis | MW4: BEL_letze24M_PG1 | MX4: BEL_letze24M_PG2 | MY4: BEL_letze24M_PG3 | MZ4: BEL_letze24M_PG4 | NA4: BEL_letze24M_PG5 | NB4: BEL_letze24M_SUM | NC4: BelTage_letzten12M | ND4: PKL_PERS_IST_131_43b_PFK/BFK | NE4: PKL_AG_Brutto_IST_131_43b_PFK/BFK | NF4: PKL_PERS_IST_14_LuV | NG4: PKL_AG_Brutto_IST_14_LuV | NH4: PKL_PERS_IST_15_HW_Kü_HAT | NI4: PKL_AG_Brutto_IST_15_HW_KÜ_HAT | NJ4: ständige Anwesenh. PFK | NK4: PERS_STICHT_15-17_HW_Kü_HAT | NL4: PERS_PROGN_15-17_HW_Kü_HAT | NM4: GES_PeKo_PROGN_15-17_HW_Kü_HAT | NN4: FORD_PR_PDL/ stellv. PDL_ | NO4: FORD_VK_Pflege/Betreuung_PG 1-5 | NP4: FORD_PR_Pflege/ Betreuung_PG 1-5 | NQ4: FORD_VK_LuV | NR4: FORD_PR_LuV | NS4: FORD_VK_HW_Kü_HAT | NT4: FORD_PR_HW_Kü_HAT
A5: indiv. Verh. | C5: ='Allgemeine Angaben'!L6 -> 0 | D5: ='Allgemeine Angaben'!L4 -> 0 | E5: ='Allgemeine Angaben'!D6 -> Kurzzeitpflege | F5: ='Allgemeine Angaben'!D11 -> 0 | G5: ='Allgemeine Angaben'!D13 -> 0 | H5: ='Allgemeine Angaben'!D15 -> 0 | I5: ='Allgemeine Angaben'!J15 -> 0 | J5: ='Allgemeine Angaben'!D17 -> 0 | K5: ='Allgemeine Angaben'!J17 -> 0 | L5: ='Allgemeine Angaben'!D19 -> 0 | M5: ='Allgemeine Angaben'!J19 -> 0 | N5: ='Allgemeine Angaben'!D21 -> 0 | O5: ='Allgemeine Angaben'!J21 -> 0 | P5: ='Allgemeine Angaben'!D25 -> 0 | Q5: ='Allgemeine Angaben'!D27 -> 0 | R5: ='Allgemeine Angaben'!D29 -> 0 | S5: ='Allgemeine Angaben'!J29 -> 0 | T5: ='Allgemeine Angaben'!D31 -> 0 | U5: ='Allgemeine Angaben'!J31 -> 0 | V5: ='Allgemeine Angaben'!D33 -> 0 | W5: ='Allgemeine Angaben'!J33 -> 0 | X5: ='Allgemeine Angaben'!D35 -> 0 | Y5: ='Allgemeine Angaben'!H40 -> 0 | Z5: ='Allgemeine Angaben'!H44 -> 0 | AA5: ='Allgemeine Angaben'!L46 -> 0 | AC5: ='Allgemeine Angaben'!H50 -> 0 | AD5: ='Allgemeine Angaben'!K50 -> 0 | AE5: ='Allgemeine Angaben'!H52 -> 0 | AF5: ='Allgemeine Angaben'!K52 -> 0 | AG5: ='Allgemeine Angaben'!K57 -> 0 | AH5: ='Allgemeine Angaben'!K58 -> 0 | AI5: ='Allgemeine Angaben'!K59 -> 0 | AJ5: ='Allgemeine Angaben'!K60 -> 0 | AK5: ='Allgemeine Angaben'!K61 -> 0 | AL5: ='Allgemeine Angaben'!K62 -> 0 | AM5: ='Allgemeine Angaben'!K63 -> 0 | AN5: ='Allgemeine Angaben'!K65 -> 0 | AQ5: ='Belegung_wö. Arbeitszeit'!G6/100 -> 0 | AX5: ='Belegung_wö. Arbeitszeit'!D24 -> 0 | AY5: ='Belegung_wö. Arbeitszeit'!D25 -> 0 | AZ5: ='Belegung_wö. Arbeitszeit'!D26 -> 0 | BA5: ='Belegung_wö. Arbeitszeit'!D27 -> 0 | BB5: ='Belegung_wö. Arbeitszeit'!D28 -> 0 | BC5: ='Belegung_wö. Arbeitszeit'!D30 -> 0 | BD5: ='Belegung_wö. Arbeitszeit'!E24 -> 0 | BE5: ='Belegung_wö. Arbeitszeit'!E25 -> 0 | BF5: ='Belegung_wö. Arbeitszeit'!E26 -> 0 | BG5: ='Belegung_wö. Arbeitszeit'!E27 -> 0 | BH5: ='Belegung_wö. Arbeitszeit'!E28 -> 0 | BI5: ='Belegung_wö. Arbeitszeit'!E30 -> 0 | BP5: ='Belegung_wö. Arbeitszeit'!F37 -> 0 | BQ5: =Personalkostenaufstellung!C16 -> 0 | BR5: =Personalkostenaufstellung!C18 -> 0 | BS5: =Personalkostenaufstellung!B33 -> 0 | BT5: =Personalkostenaufstellung!E33 -> 0 | BY5: =Personalkostenaufstellung!B75 -> 0 | BZ5: =Personalkostenaufstellung!E75 -> 0 | CB5: =Personalkostenaufstellung!B109 -> 0 | CC5: =Personalkostenaufstellung!E109 -> 0 | CE5: =Personalkostenaufstellung!B151 -> 0 | CF5: =Personalkostenaufstellung!E151 -> 0 | CH5: =Personalkostenaufstellung!B154 -> 0 | CI5: =Personalkostenaufstellung!E154 -> 0 | CM5: =Personalkostenaufstellung!B190 -> 0 | CN5: =Personalkostenaufstellung!E190 -> 0 | CO5: =Personalkostenaufstellung!B214 -> 0 | CP5: =Personalkostenaufstellung!E214 -> 0 | CQ5: =Personalkostenaufstellung!B216 -> 0 | CR5: =Personalkostenaufstellung!E216 -> 0 | DD5: =Personalkostenaufstellung!B279 -> 0 | DE5: =Personalkostenaufstellung!D279 -> 0 | DF5: =Personalkostenaufstellung!B280 -> 0 | DG5: =Personalkostenaufstellung!D280 -> 0 | DH5: =Personalkostenaufstellung!B280 -> 0 | DI5: =Personalkostenaufstellung!E281 -> 0 | DJ5: =Personalkostenaufstellung!M12 -> 0 | DK5: =Personalkostenaufstellung!M13 -> 0 | DL5: =Personalkostenaufstellung!M14 -> 0 | DM5: =Personalkostenaufstellung!M15 -> 0 | DN5: =Personalkostenaufstellung!P17/100 -> 0 | DO5: =Personalkostenaufstellung!P18/100 -> 0 | DP5: =Personalkostenaufstellung!P20/100 -> 0 | DQ5: =Personalkostenaufstellung!G290 -> 0 | DR5: =Personalkostenaufstellung!H290 -> 0 | DS5: =Personalkostenaufstellung!J290 -> 0 | DT5: =Personalkostenaufstellung!G292 -> 0 | DU5: =Personalkostenaufstellung!H292 -> 0 | DV5: =Personalkostenaufstellung!J292 -> 0 | DW5: =Personalkostenaufstellung!G293 -> 0 | DX5: =Personalkostenaufstellung!G296 -> 0 | DY5: =Personalkostenaufstellung!G298 -> 0 | DZ5: =Personalkostenaufstellung!H298 -> 0 | EA5: =Personalkostenaufstellung!J298 -> 0 | EB5: =Personalaufwendungen!G12 -> 0 | EF5: =Personalaufwendungen!G15 -> 0 | EH5: =Personalaufwendungen!G17 -> 0 | EJ5: =Personalaufwendungen!G19 -> 0 | EL5: =Personalaufwendungen!G22 -> 0 | ER5: =Personalaufwendungen!G27 -> 0 | ES5: =Personalaufwendungen!G30 -> 0 | FB5: =Personalaufwendungen!G51 -> 0 | FC5: =Personalaufwendungen!G53 -> 0 | FD5: =Personalaufwendungen!H12 -> 0 | FH5: =Personalaufwendungen!H15 -> 0 | FJ5: =Personalaufwendungen!H17 -> 0 | FL5: =Personalaufwendungen!H19 -> 0 | FN5: =Personalaufwendungen!H22 -> 0 | FT5: =Personalaufwendungen!H27 -> 0 | FU5: =Personalaufwendungen!H30 -> 0 | GF5: =Personalaufwendungen!H51 -> 0 | GG5: =Personalaufwendungen!H53 -> 0 | GH5: =Personalaufwendungen!H39 -> 0 | GI5: =Personalaufwendungen!H40 -> 0 | GJ5: =Personalaufwendungen!H41 -> 0 | GK5: =Personalaufwendungen!H42 -> 0 | GL5: =pnk | GM5: =Personalaufwendungen!J44 -> 0 | GN5: =Personalaufwendungen!I46 | GO5: =Personalaufwendungen!J46 -> 0 | GP5: =risiko -> 0 | GQ5: =Personalaufwendungen!J48 -> 0 | GR5: =Personalaufwendungen!J12 | GV5: =Personalaufwendungen!J15 | GW5: =Personalaufwendungen!J17 | GX5: =Personalaufwendungen!J19 | GY5: =Personalaufwendungen!J22 | HB5: =Personalaufwendungen!J27 | HC5: =Personalaufwendungen!J30 | HI5: =Personalaufwendungen!I51 -> 0 | HJ5: =Personalaufwendungen!I53 -> 0 | HK5: =Sachaufwendungen!C16 -> 0 | HL5: =Sachaufwendungen!H16 -> 0 | HM5: =Sachaufwendungen!H17 -> 0 | HN5: =Sachaufwendungen!H18 -> 0 | HO5: =Sachaufwendungen!H20 -> 0 | HP5: =Sachaufwendungen!H21 -> 0 | HQ5: =Sachaufwendungen!H22 -> 0 | HR5: =Sachaufwendungen!H23 -> 0 | HS5: =Sachaufwendungen!H24 -> 0 | HT5: =Sachaufwendungen!H25 -> 0 | HU5: =Sachaufwendungen!H26 -> 0 | HV5: =Sachaufwendungen!H27 -> 0 | HW5: =Sachaufwendungen!H28 -> 0 | HX5: =Sachaufwendungen!H29 -> 0 | HY5: =Sachaufwendungen!H30 -> 0 | HZ5: =Sachaufwendungen!H43 -> 0 | IA5: =Sachaufwendungen!H44 -> 0 | IC5: =Sachaufwendungen!H45 -> 0 | ID5: =Sachaufwendungen!H47 -> 0 | IE5: =Sachaufwendungen!H46 -> 0 | IF5: =Sachaufwendungen!C48 -> 0 | IG5: =Sachaufwendungen!H48 -> 0 | IH5: =Sachaufwendungen!C49 -> 0 | II5: =Sachaufwendungen!H49 -> 0 | IJ5: =Sachaufwendungen!H50 -> 0 | IK5: =Sachaufwendungen!L20 -> 0 | IL5: =Sachaufwendungen!L21 -> 0 | IM5: =Sachaufwendungen!L22 -> 0 | IN5: =Sachaufwendungen!L23 -> 0 | IO5: =Sachaufwendungen!L24 -> 0 | IP5: =Sachaufwendungen!L25 -> 0 | IQ5: =Sachaufwendungen!L26 -> 0 | IR5: =Sachaufwendungen!L27 -> 0 | IS5: =Sachaufwendungen!L28 -> 0 | IT5: =Sachaufwendungen!L29 -> 0 | IU5: =Sachaufwendungen!L30 -> 0 | IV5: =Sachaufwendungen!L43 -> 0 | IW5: =Sachaufwendungen!L44 -> 0 | IY5: =Sachaufwendungen!L45 -> 0 | IZ5: =Sachaufwendungen!L47 -> 0 | JA5: =Sachaufwendungen!L46 -> 0 | JB5: =Sachaufwendungen!C48 -> 0 | JC5: =Sachaufwendungen!L48 -> 0 | JD5: =Sachaufwendungen!C49 -> 0 | JE5: =Sachaufwendungen!L49 -> 0 | JF5: =Sachaufwendungen!L50 -> 0 | JG5: =Sachaufwendungen!M20 | JH5: =Sachaufwendungen!M21 | JI5: =Sachaufwendungen!M22 | JJ5: =Sachaufwendungen!M23 | JK5: =Sachaufwendungen!M24 | JL5: =Sachaufwendungen!M25 | JM5: =Sachaufwendungen!M26 | JN5: =Sachaufwendungen!M27 | JO5: =Sachaufwendungen!M28 | JP5: =Sachaufwendungen!M29 | JQ5: =Sachaufwendungen!M30 | JR5: =Sachaufwendungen!M43 | JS5: =Sachaufwendungen!M44 | JU5: =Sachaufwendungen!M45 | JV5: =Sachaufwendungen!M47 | JW5: =Sachaufwendungen!M46 | JX5: =Sachaufwendungen!C48 -> 0 | JY5: =Sachaufwendungen!M48 | JZ5: =Sachaufwendungen!C49 -> 0 | KA5: =Sachaufwendungen!M49 | KB5: =Sachaufwendungen!M50 | KC5: =Sachaufwendungen!J53 -> 0 | KD5: =Sachaufwendungen!L53 | KE5: =Forderung!J8 -> 0 | KK5: =Forderung!J12 -> 0 | KP5: =Forderung!J18 | LR5: =Forderung!M12 | MG5: =Forderung!J22 | MH5: =Forderung!J24 | MI5: =Forderung!J26 | MJ5: =Forderung!J28 | MU5: ='Belegung_wö. Arbeitszeit'!C14 -> 0 | MV5: ='Belegung_wö. Arbeitszeit'!C15 -> 0 | MW5: ='Belegung_wö. Arbeitszeit'!C24 -> 0 | MX5: ='Belegung_wö. Arbeitszeit'!C25 -> 0 | MY5: ='Belegung_wö. Arbeitszeit'!C26 -> 0 | MZ5: ='Belegung_wö. Arbeitszeit'!C27 -> 0 | NA5: ='Belegung_wö. Arbeitszeit'!C28 -> 0 | NB5: ='Belegung_wö. Arbeitszeit'!C30 -> 0 | NC5: =Personalkostenaufstellung!C20 -> 0 | ND5: =Personalkostenaufstellung!B165 -> 0 | NE5: =Personalkostenaufstellung!E165 -> 0 | NF5: =Personalkostenaufstellung!B225 -> 0 | NG5: =Personalkostenaufstellung!E225 -> 0 | NH5: =Personalkostenaufstellung!B274 -> 0 | NI5: =Personalkostenaufstellung!E274 -> 0 | NJ5: =Personalaufwendungen!H24 -> 0 | NK5: =Personalaufwendungen!G33 -> 0 | NL5: =Personalaufwendungen!H33 -> 0 | NM5: =Personalaufwendungen!J33 | NN5: =Forderung!M8 | NO5: =Forderung!J10 -> 0 | NP5: =Forderung!M10 | NQ5: =Forderung!J14 -> 0 | NR5: =Forderung!M14 | NS5: =Forderung!J16 -> 0 | NT5: =Forderung!M16
C6: L6 | D6: L4 | E6: D6 | F6: D11 | G6: D13 | H6: D15 | I6: J15 | J6: D17 | K6: J17 | L6: D19 | M6: J19 | N6: D21 | O6: J21 | P6: D25 | Q6: D27 | R6: D29 | S6: J29 | T6: D31 | U6: J31 | V6: D33 | W6: J33 | X6: D35 | Y6: H40 | Z6: H44 | AA6: L46 | AC6: H50 | AD6: K50 | AE6: H52 | AF6: K52 | AG6: K57 | AH6: K58 | AI6: K59 | AJ6: K60 | AK6: K61 | AL6: K62 | AM6: K63 | AN6: K65 | AQ6: G6 | AX6: D24 | AY6: D25 | AZ6: D26 | BA6: D27 | BB6: D28 | BC6: D30 | BD6: E24 | BE6: E25 | BF6: E26 | BG6: E27 | BH6: E28 | BI6: E30 | BP6: F37 | BQ6: C26 | BR6: C18 | BS6: B33 | BT6: E33 | BY6: B75 | BZ6: E75 | CB6: B109 | CC6: E109 | CE6: B151 | CF6: E151 | CH6: B154 | CI6: E154 | CM6: B190 | CN6: E190 | CO6: B214 | CP6: E214 | CQ6: B216 | CR6: E216 | DD6: B279 | DE6: D279 | DG6: D280 | DJ6: M12 | DK6: M13 | DL6: M14 | DM6: M15 | DN6: P17 | DO6: P18 | DP6: P20 | DQ6: G290 | DR6: H290 | DS6: J290 | DT6: G292 | DU6: H292 | DV6: J292 | DW6: G293 | DX6: G296 | DY6: G298 | DZ6: H293 | EA6: J298 | EB6: G12 | EF6: G15 | EH6: G17 | EJ6: G19 | EL6: G22 | ER6: G27 | ES6: G30 | ET6: unbesetzt | FB6: G51 | FC6: G53 | FD6: H12 | FH6: H15 | FJ6: H17 | FL6: H19 | FN6: H22 | FT6: H27 | FU6: H30 | GF6: H51 | GG6: H53 | GH6: H39 | GI6: H40 | GJ6: H41 | GK6: H42 | GL6: I44 | GM6: J44 | GN6: I46 | GO6: J46 | GP6: I48 | GQ6: J48 | GR6: J12 | GV6: J15 | GW6: J17 | GX6: J19 | GY6: J22 | HB6: J27 | HC6: J30 | HI6: I51 | HJ6: I53 | HK6: C16 | HL6: H16 | HM6: H17 | HN6: H18 | HO6: H20 | HP6: H21 | HQ6: H22 | HR6: H23 | HS6: H24 | HT6: H25 | HU6: H26 | HV6: H27 | HW6: H28 | HX6: H29 | HY6: H30 | HZ6: H43 | IA6: H44 | IC6: H45 | ID6: H47 | IE6: H46 | IF6: C48 | IG6: H48 | IH6: C49 | II6: H49 | IJ6: H50 | IK6: L20 | IL6: L21 | IM6: L22 | IN6: L23 | IO6: L24 | IP6: L25 | IQ6: L26 | IR6: L27 | IS6: L28 | IT6: L29 | IU6: L30 | IV6: L43 | IW6: L44 | IY6: L45 | IZ6: L47 | JA6: L46 | JB6: C48 | JC6: L48 | JD6: C49 | JE6: L49 | JF6: L50 | JG6: M20 | JH6: M21 | JI6: M22 | JJ6: M23 | JK6: M24 | JL6: M25 | JM6: M26 | JN6: M27 | JO6: M28 | JP6: M29 | JQ6: M30 | JR6: M43 | JS6: M44 | JU6: M45 | JV6: M47 | JW6: M46 | JX6: C48 | JY6: M48 | JZ6: C49 | KA6: M49 | KB6: M50 | KC6: J53 | KD6: L53 | KK6: J12 | KP6: J18 | LR6: M12 | MG6: J22 | MH6: J24 | MI6: J26 | MJ6: J28 | MU6: C14 | MV6: C15 | MW6: C24 | MX6: C25 | MY6: C26 | MZ6: C27 | NA6: C28 | NB6: C30 | NC6: C20 | ND6: B165 | NE6: E165 | NF6: B225 | NG6: E225 | NH6: B274 | NI6: E274 | NJ6: H24 | NK6: G33 | NL6: H33 | NM6: J33 | NN6: M8 | NO6: J10 | NP6: M10 | NQ6: J14 | NR6: M14 | NS6: J16 | NT6: M16
DE7: Achtung müsste eher C280 sein, nach Anpassung im Antrag anpassen in Kalk.

Sheet Allgemeine Hinweise
A1: Hinweise zur Aufforderung zum Abschluss einer Pflegesatzvereinbarung gemäß §§ 84, 85 SGB XI sowie von Vereinbarungen nach § 75 SGB XII für Kurzzeitpflegeeinrichtungen
A2: Aus Gründen der besseren Lesbarkeit wird auf die gleichzeitige Verwendung männlicher und weiblicher Sprachformen verzichtet. Sämtliche Personenbezeichnungen gelten gleichwohl für alle Geschlechter.
A4: Inhaltsverzeichnis
A5: 1. Allgemeine Hinweise
A6: 2. Antragsunterlagen
A7: 2.1. Mappe Allgemeine Angaben
A8: 2.2. Mappe Belegung / wöchentliche Arbeitszeit
A9: 2.3. Mappe Personalkostenaufstellung
A10: 2.4. Mappe Personalaufwendungen
A11: 2.5. Mappe Sachaufwendungen
A12: 2.6. Mappe Forderungen
A13: 2.7. Mappe Gesamtkalkulation
A14: 2.8. Mappe Bewohnervertretung
A16: 1. Allgemeine Hinweise Die Neufassung des Rahmenvertrages zur Kurzzeitpflege gemäß § 75 Abs. 1 SGB XI im Freistaat Sachsen (in Kraft ab 1. Juli 2026) erforderte eine Überarbeitung der Antragsunterlagen. Es sind außerdem die Anforderungen nach dem SächsWTG und der SächsWTVO zu beachten. Der Antrag gilt für Kurzzeitpflegeeinrichtungen nach § 1 Abs. 6 des Rahmenvertrages. Das sind Einrichtungen, welche auf der Grundlage einer fachlich eigenständigen Konzeption, mit eigenständigem Personalkörper und in abgegrenzter räumlicher Einheit selbständig wirtschaften. Die vollständig ausgefüllten Antragsunterlagen sind gemäß § 85 Abs. 2 und Abs. 3 SGB XI den Leistungsträgern oder deren Arbeitsgemeinschaften, auf die im Jahr vor Beginn der Pflegesatzverhandlungen mehr als fünf vom Hundert der Berechnungstage der Kurzzeitpflegeeinrichtung entfallen, spätestens sechs Wochen vor dem beantragten Vereinbarungszeitraum durch den Träger der Kurzzeitpflegeeinrichtung zuzusenden (Anschriftenliste siehe Adressverzeichnis). Zwischen dem Antragsdatum und dem Laufzeitbeginn können maximal 4 Monate liegen. Sofern der KSV Sachsen nicht bereits Vertragspartei ist, erhält er immer eine Kopie der Allgemeinen Angaben und der Forderung. Werden eingereichte Antragsunterlagen korrigiert bzw. ergänzt, müssen die aktualisierten Antragsunterlagen rechtzeitig, in der Regel 14 Tage vor dem Verhandlungstermin, den beteiligten Vertragsparteien vorliegen. Umfangreiche Aktualisierungen nach Beginn der Verhandlung können zu einer Laufzeitverschiebung führen. Für jede Kurzzeitpflegeeinrichtung mit einem separaten Versorgungsvertrag nach § 72 SGB XI ist eine gesonderte Aufforderung einzureichen. Die Antragsunterlagen und die Stellungnahme der Bewohnervertretung sind rechtsverbindlich zu unterzeichnen. Die Antragsunterlagen sind im Excel-Format und die Unterschriftenseiten (Forderung und Bewohnervertretung) im pdf-Format per E-Mail an die zuständigen Vertragsparteien zu übermitteln. | D16: zurück
A18: 2. Antragsunterlagen Die Antragsunterlagen enthalten Formeln, so dass sich die beantragten Pflegesätze und Entgelte errechnen. Es sind ausschließlich die gelben Felder auszufüllen. | D18: zurück
A20: 2.1. Mappe Allgemeine Angaben Zur weiteren Bearbeitung des Antrags ist es unbedingt erforderlich, dass das Datum der Zulassung angegeben wird. Der Vereinbarungszeitraum umfasst regelmäßig mindestens 12 Monate. Die Parteien der Pflegesatzvereinbarung sind gemäß § 85 Abs. 2 SGB XI zu ermitteln und ihr Anteil an den Belegungstagen der Kurzzeitpflegeeinrichtung entsprechend anzugeben. Der Anteil der Bewohner, die ergänzende Leistungen der Sozialhilfe erhalten, ist zusätzlich als Davonposition auszuweisen. Bei der nachrichtlichen Angabe (Ausbildungsbetrieb und / oder Praktikumsbetrieb nach dem Pflegeberufegesetz) handelt es sich um eine ja-nein-Option. Die Kurzzeitpflegeeinrichtung trifft hier die Aussage, ob eine solche Situation für sie vorliegt. Aufwendungen der Kurzzeitpflegeeinrichtung, die nach anderen gesetzlichen Vorgaben finanziert werden, dürfen im Pflegesatz bzw. in den Entgelten nicht enthalten sein. | D20: zurück
A22: 2.2. Mappe Belegung / wöchentliche Arbeitszeit Auslastungsquote Die Auslastungsquote der Kurzzeitpflegeeinrichtung orientiert sich an der tatsächlichen Auslastung der letzten zwei Jahre, mindestens aber 78 %. In diesem Rahmen kann eine Abweichung von 5 % unter der tatsächlichen Auslastung der letzten zwei Jahre kalkuliert werden. Abweichend hiervon gilt für neu zugelassene solitäre Kurzzeitpflegeeinrichtungen für das erste Jahr der Zulassung eine Auslastungsquote von 70 % und für das zweite Jahr der Zulassung eine Auslastungsquote von 73 % unabhängig von der tatsächlichen Auslastungsquote. jährliche Öffnungstage: 365 Tage | D22: zurück
A23: Belegungsdaten Bei bestehenden Kurzzeitpflegeeinrichtungen sind die Belegungstage für 24 Monate insgesamt zu ermitteln. Der Beginn des Belegungszeitraumes darf nicht mehr als 30 Monate vor Laufzeitbeginn liegen. Kann auf Grund einer kürzeren Dauer nach der Zulassung dieser Umfang noch nicht erreicht werden, verkürzt sich die Angabe des Belegungszeitraums entsprechend. Zur Erhebung der Pflegebedürftigen ist ein Stichtag zu wählen, der nicht länger als 3 Monate vor der Antragstellung liegen sollte und die Belegung anzugeben. Grundlage für die Prüfung ist das Datum der Antragstellung aus der Mappe Allgemeine Angaben. Die Kurzzeitpflegeeinrichtung kann bei der prognostischen Belegung Pflegebedürftige in allen Pflegegraden oder nur in einigen Pflegegraden angeben. Die prognostische Belegung muss der Gesamtplatzzahl im Versorgungsvertrag entsprechen. Es werden pflegegradunabhängig eine Personalmenge, eine Personalrelation und ein Pflegesatz ermittelt (siehe dazu 2.6. Forderung). Wöchentliche Arbeitszeit Es ist die einrichtungsintern geregelte wöchentliche Arbeitszeit je Vollkraft (VK) nachrichtlich anzugeben. Bitte beachten: Laut Rahmenvertrag erfolgt die Ermittlung des Stellenumfangs und der Personalaufwendungen immer auf Basis von 40 Stunden / Woche für eine VK.
A25: 2.3. Mappe Personalkostenaufstellung Die Personalkostenaufstellung umfasst ausschließlich Mitarbeiter der Kurzzeitpflegeeinrichtung und ggf. eingesetzte Leiharbeitskräfte. Die Personalkostenaufstellung bezieht sich im linken Teil auf den Zeitraum von 12 Monaten mit Angabe der Belegungstage für diesen Zeitraum. Im rechten Teil wird der Prognosezeitraum abgebildet. Jedem Mitarbeiter ist eine gleichbleibende Pseudonymnummer zuzuordnen. Die Angaben für den Ist- und Prognosezeitraum je Mitarbeiter sind in einer Zeile darzustellen. Die gleichbleibende Pseudonymnummer ist für Folgeverhandlungen wieder zu nutzen. Es sind alle Mitarbeiter in die Personalkostenaufstellung aufzunehmen. Die Kennzeichnung der Mitarbeiter als Geringfügig Beschäftigte erfolgt ausschließlich, wenn die Voraussetzungen des § 8 SGB IV vorliegen. Im Rahmen der Plausibilitätsprüfung stellt die Kurzzeitpflegeeinrichtung den Vertragsparteien nach § 85 Abs. 2 SGB XI auf Anforderung ohne substantiierte Begründung für bis zu 25 % der Beschäftigten über alle Funktionsbereiche die aktuellen Jahreslohnjournale mit Angabe der Pseudonymnummer zur Verfügung. Eine VK wird mit 40 Stunden / Woche kalkuliert. Mitarbeiter mit davon abweichenden Arbeitszeiten sind entsprechend umzurechnen. Die Kurzzeitpflegeeinrichtung gibt im oberen Teil an, auf welcher Basis die Mitarbeiter entlohnt werden. Kommt ein Tarif / eine AVR zur Anwendung, kann mit der Verhandlungsaufforderung das Werk auch als Link übermittelt werden. Jeder Mitarbeiter ist entsprechend seiner Tätigkeit einem Funktionsbereich zuzuordnen. Stellensplitting ist möglich. Die Differenzierung innerhalb eines Funktionsbereiches ist in der Spalte Beschäftigungsgruppe / Funktion je Mitarbeiter vorzunehmen. Sofern die Auswahloption für den Mitarbeiter nicht zutreffend ist, bleibt das Feld leer. Die Zuordnung ist für die Transparenz möglicher Stellensplittings und für die erforderliche Berechnung des arbeitszeitnormierten Stundenlohns notwendig. | D25: zurück
A26: Die Personalrelation für PDL und stellvertretende PDL beträgt bis 1 zu 20. Die ggf. verbleibenden Stellenanteile von PDL und stellvertretender PDL sind in den zugeordneten Funktionsbereichen gesondert in der Spalte Beschäftigungsgruppe / Funktion zu kennzeichnen. Funktionsbereiche Die Differenzierung der Mitarbeiter nach Beschäftigungsgruppen innerhalb der anderen Funktionsbereiche basiert auf den Richtlinien nach §§ 72 und 82c SGB XI: * Pflege- und Betreuungskräfte ohne mindestens einjährige Berufsausbildung * Pflege- und Betreuungskräfte mit mindestens einjähriger Berufsausbildung * Fachkräfte in den Bereichen Pflege und Betreuung mit mindestens dreijähriger Berufsausbildung Die Mitarbeiter Pflege und die Mitarbeiter Betreuung bilden einen gemeinsamen Funktionsbereich. Die Personalrelation beträgt bis 1 zu 1,7. Die Kosten für ggf. einzusetzende Leiharbeitskräfte basieren nicht auf dem Vergütungsmodell der Mitarbeiter der Kurzzeitpflegeeinrichtung und sind insofern als durchschnittliche Arbeitgeberbruttopersonalkosten (inkl. Arbeitgeberanteil zur Sozialversicherung) je Stellenanteil einzutragen. Die Mitarbeiter der zusätzlichen Betreuung und Aktivierung nach § 43b SGB XI bilden einen separaten Funktionsbereich. Die Personalrelation beträgt 1 zu 20. Im Funktionsbereich Leitung / Verwaltung (inkl. Anrechnung der Personalanteile bei Leistungserbringung durch den Träger oder Dritte) beträgt die Personalrelation bis 1 zu 15. Der Funktionsbereich Hauswirtschaft / Küche / Haustechnik wird zusammengefasst. Die Personalrelation (inkl. Anrechnung der Personalanteile bei Leistungserbringung durch Fremddienstleister) beträgt bis 1 zu 4,5.
A27: Wurde in den beiden Funktionsbereichen Leitung / Verwaltung und Hauswirtschaft / Küche / Haustechnik die maximale Personalmenge lt. Rahmenvertrag erreicht, können keine weiteren Personalanteile im entsprechenden Bereich der Fremdleistungen berücksichtigt werden. Kurzzeitpflegeeinrichtungen können eine höhere personelle Ausstattung mit Pflege- und Betreuungspersonal vereinbaren, wenn in der bestehenden Pflegesatzvereinbarung eine höhere Personalausstattung vereinbart ist und diese personelle Ausstattung von der Kurzzeitpflegeeinrichtung tatsächlich vorgehalten wird (Bestandsschutz). Für Freiwillige Dienste und FSJ sind im Antrag Brutto-Personalkosten je Stelle und Jahr darzustellen. Die Gliederung der Bestandteile der Entlohnung folgt den Richtlinien nach §§ 72 und 82c SGB XI. Die dortigen Hinweise zur Zuordnung der Entlohnungsbestandteile sind dabei zu berücksichtigen. Die Pflegeeinrichtungen haben die Entlohnung grundsätzlich in Geld zu zahlen. Mit Zustimmung der betreffenden Arbeitnehmerinnen und Arbeitnehmer ist es ebenfalls möglich, die Entlohnung anstatt der Zahlung in Geld auch anteilig in Form von Sach- und Dienstleistungen und anderen geldwerten Leistungen (z.B. Beiträge zur betrieblichen Altersvorsorge) zu leisten. In diesen Fällen müssen die entsprechenden Sach- oder Dienstleistungen oder anderen geldwerten Leistungen mit ihrem Geldwert unter „weitere zusätzliche Zuschläge / Zulagen / betriebliche Altersversorgung abgebildet werden. Bei der betrieblichen Altersvorsorge ist in dem Fall zu beachten, dass dann ein pauschaler Zuschlag für alle Mitarbeiter (siehe oberer Teil der Tabelle) ausgeschlossen ist. Die Zustimmung der betreffenden Arbeitnehmerinnen und Arbeitnehmer ist nachzuweisen. Die Kurzzeitpflegeeinrichtung kann bei der prognostischen Eintragung des monatlichen Grundlohns / -gehalts entscheiden, ob die Angabe je Stellenanteil oder je VK erfolgt. Einer VK liegt immer eine wöchentliche Arbeitszeit von 40 Stunden zu Grunde. An diese Wahl ist die Kurzzeitpflegeeinrichtung dann für alle Mitarbeiter bei der Eintragung gebunden. Es ist zwischen Vermögenswirksamen Leistungen (VWL) und betrieblicher Altersversorgung zu unterscheiden. Die VWL gehen in den arbeitszeitnormierten Stundenlohn ein. Zu den regelmäßigen und fixen pflegetypischen Zulagen gehören Pflege- und Geriatriezulagen, Schicht- und Wechselschichtzulagen für ständige Schicht- / Wechselschichtarbeit, Erschwerniszulagen, Stellenzulagen o. ä.
A28: Die durchschnittlich für einen Monat gezahlte Entlohnung für Bereitschaftsdienst und Rufbereitschaft ist separat zu erfassen. Variable pflegetypische Zuschläge sind auf den Grundlohn / -gehalt zu zahlende Zuschläge für Nachtarbeit, Sonntagsarbeit und Feiertagsarbeit. Diese Zuschläge sind i.d.R. sv-frei. Zu den regelmäßigen Jahressonderzahlungen zählen z.B. Urlaubs- / Weihnachtsgeld. Die Kurzzeitpflegeeinrichtung kann außerhalb des arbeitszeitnormierten Stundenlohns weitere Lohnbestandteile hinterlegen. Dazu zählt z.B. die betriebliche Altersversorgung. Bei der betrieblichen Altersversorgung besteht die Möglichkeit eines pauschalierten Zuschlags für alle Mitarbeiter (siehe oberer Teil der Tabelle) oder einer individuellen Zuordnung auf jeden einzelnen Mitarbeiter. Eine Vermischung beider Varianten ist nicht möglich. Der Arbeitgeberanteil zur Sozialversicherung wird automatisch auf die Arbeitnehmerbruttopersonalkosten aufgeschlagen. Dazu ist es zwingend erforderlich, dass im oberen Teil die Felder Arbeitgeberanteil zur Sozialversicherung und Arbeitgeberanteil zur Sozialversicherung bei geringfügig Beschäftigten ausgefüllt sind. Der Arbeitgeberanteil zur Sozialversicherung umfasst die Kranken-, Renten-, Pflege- und Arbeitslosenversicherung, ggf. Umlage 1, die Umlage 2 und die Insolvenzgeldumlage. Im unteren Teil der Tabelle zur Personalkostenaufstellung wird zusammenfassend ein Überblick gemäß den Richtlinien nach §§ 72 und 82c SGB XI zum einrichtungsindividuellen Entgelt für die drei Qualifikationsgruppen sowohl getrennt als auch zusammengefasst ausgewiesen. In diese durchschnittliche Ermittlung gehen die PDL, die stellvertretende PDL und Leiharbeitskräfte nicht mit ein. Der Durchschnittsbetrachtung liegt eine wöchentliche Arbeitszeit von 40 Stunden zu Grunde.
A30: 2.4. Mappe Personalaufwendungen Die Kurzzeitpflegeeinrichtung hat zum Stichtag die Mitarbeiter in VK nach den Funktionsbereichen anzugeben. Eine VK wird mit 40 Stunden / Woche kalkuliert. Mitarbeiter mit davon abweichenden Arbeitszeiten sind entsprechend umzurechnen. Bei Neueröffnungen entfallen die Angaben zu Vollkräfte Gesamt (Stichtag). Die Angaben zur Prognose werden vollständig aus der Mappe Personalkostenaufstellung übernommen und können hier nicht korrigiert werden. Änderungen erfolgen ausschließlich in der Mappe Personalkostenaufstellung. Die Kurzzeitpflegeeinrichtung hat entsprechend § 20a Abs. 3 des Rahmenvertrages die ständige Anwesenheit einer Pflegefachperson zu gewährleisten. Wurde in der Mappe Personalkostenaufstellung für die Prognose die maximal mögliche Personalmenge lt. Rahmenvertrag in dem jeweiligen Funktionsbereich erreicht oder überschritten, erfolgt ein Hinweis. Die Personalnebenkosten werden separat ausgewiesen. Dazu gehören die Beiträge zur Berufsgenossenschaft, die Ausgleichsabgabe gemäß § 160 SGB IX, Fort- und Weiterbildungskosten, Kosten des Arbeits- und Gesundheitsschutzes. Die Personalnebenkosten werden prozentual den Bruttopersonalkosten (Prognose) der einzelnen Bereiche zugerechnet. Sofern der Arbeitgeber den Mitarbeitern steuerfreie Sachbezüge im Sinne § 8 Abs. 2 Satz 11 EstG gewährt, sind diese separat auszuweisen. Aufmerksamkeiten des Arbeitgebers werden den Verwaltungskosten zugerechnet. In der Gesamtvergütung ist ein Zuschlag für eine angemessene Vergütung des Unternehmerrisikos und eines zusätzlichen persönlichen Arbeitseinsatzes des Unternehmers sowie eine angemessene Verzinsung des Eigenkapitals zu berücksichtigen. | D30: zurück
A32: 2.5. Mappe Sachaufwendungen Zur Berücksichtigung von Einzelpositionen siehe Hinweise Sachaufwendungen. Die Sachaufwendungen sind für den Zeitraum von 12 Monaten anzugeben. Dieser Zeitraum soll mit dem angegebenen Zeitraum der Personalkosten übereinstimmen. Wird hier ein abweichender Zeitraum zugrunde gelegt, sind für diesen Zeitraum zusätzlich die Belegungstage anzugeben. Bei Neugründungen entfallen diese Angaben. In der Gesamtvergütung ist ein Zuschlag für eine angemessene Vergütung des Unternehmerrisikos und eines zusätzlichen persönlichen Arbeitseinsatzes des Unternehmers sowie eine angemessene Verzinsung der Eigenkapitals zu berücksichtigen. | D32: zurück
A34: 2.6. Mappe Forderung Personelle Ausstattung der Kurzzeitpflegeeinrichtung: Die Angaben zur Personalausstattung erfolgen in VK und als Personalrelation. Es wird die Zahl der Einsatzstellen Freiwillige Dienste / FSJ ausgewiesen. Die Werte werden automatisch aus der Mappe Personalaufwendungen übernommen bzw. errechnet. Änderungen können ausschließlich in der Mappe Personalkostenaufstellung vorgenommen werden. | D34: zurück
A35: Pflegesätze und Entgelte: Es werden aus den bisher gemachten Angaben zur Auslastung, zu den Personalaufwendungen und zu den Sachaufwendungen für die Kurzzeitpflege ein pflegegradunabhängiger Pflegesatz, der Vergütungszuschlag nach § 43 b SGB XI, die Entgelte für Unterkunft und für Verpflegung ermittelt. Änderungen können ausschließlich in der Mappe Personalkostenaufstellung und / oder Sachaufwendungen vorgenommen werden.
A36: Prüfung der Angaben im Antrag Hier wird nochmals die Plausibilität der Eintragungen aus gesetzlicher und rahmenvertraglicher Sicht geprüft. Man kann direkt auf die Mappe wechseln, in der Änderungen erforderlich sind. Erst wenn alle Punkte mit ja bewertet werden können, ist eine Berechnung der Pflegesätze, der Entgelte für Unterkunft und für Verpflegung bzw. des Vergütungszuschlages gemäß § 43 b SGB XI möglich.
A38: 2.7. Mappe Gesamtkalkulation Die Gesamtkalkulation fasst die vorangegangenen Angaben zur Ermittlung der Entgeltbestandteile zusammen. Hier kann die Kurzzeitpflegeeinrichtung keine Änderungen vornehmen. Ggf. sind Korrekturen auf den vorhergehenden Seiten erforderlich. | D38: zurück
A40: 2.8. Mappe Bewohnervertretung Vollstationäre Pflegeeinrichtungen haben gemäß § 85 Abs. 3 SGB XI zum Zeitpunkt der Antragstellung eine Stellungnahme der Bewohnervertretung beizufügen. | D40: zurück

Sheet Allgemeine Angaben
A1: Aufforderung zum Abschluss einer Pflegesatzvereinbarung gemäß §§ 84, 85 SGB XI
A2: Allgemeine Angaben
A3: =IF(D11>0,CONCATENATE(D11,", ",D15," ",J15),"")
A4: =IF(L6>0,CONCATENATE("IK"," ",L6),"") | K4: Antrag vom:
A5: 46307 | I5: =IFERROR(IF(L4=0,"Antragsdatum bitte angeben.",IF(DATEDIF(L4,H50,"m")>4,"Antragstellung max. 4 Monate vor Laufzeitbeginn.","")),"") -> Antragsdatum bitte angeben.
B6: Art der Einrichtung: | D6: =KAT!A3 -> Kurzzeitpflege | K6: Institutionskennzeichen:
B9: Allgemeine Angaben zur Pflegeeinrichtung und zum Träger
D10: =IF(AND(D6=0,D11<>0),"bitte wählen Sie noch die Art der Einrichtung aus","")
B11: Pflegeeinrichtung:
D12: Name der Einrichtung
D14: Straße
D16: PLZ | J16: Ort
D18: Telefon | J18: Fax
D20: E-Mail | J20: Web-Adresse
D22: Einrichtungsleitung | J22: PDL
B25: In Trägerschaft von:
D26: Name des Trägers
D28: Straße
D30: PLZ | J30: Ort
D32: Telefon | J32: Fax
D34: E-Mail | J34: Web-Adresse
D36: Ansprechpartner/ Funktion
B38: Zugehörigkeit zu einer Vereinigung von Trägern von stationären Pflegeeinrichtungen im Land
G40: Wenn ja, welche?
B42: Hiermit erteilen wir o.g. Vereinigung Verhandlungsmandat
B44: Zulassungsdatum der Pflegeeinrichtung:
K45: =IF(AND(H44="",H50<>""),"Bitte Erfassung des Zulassungsdatums!","")
B46: Platzzahl der Pflegeeinrichtung entsprechend des Versorgungsvertrages:
B48: Pflegeeinrichtungskonzeption Stand:
B50: Vereinbarungszeitraum : | F50: von | J50: bis
K51: =IF(H50<H44,"Antrag liegt vor Zulassungsdatum.","")
B52: letzter Vereinbarungszeitraum | F52: von | J52: bis
H53: =IF(H50<=K52,"Vereinbarungsbeginn kann nicht vor Laufzeitende der aktuellen Vereinbarung liegen!","") -> Vereinbarungsbeginn kann nicht vor Laufzeitende der aktuellen Vereinbarung liegen!
B54: Parteien der Pflegesatzvereinbarung (gem. § 85 Abs. 2 SGB XI)
C56: Pflegekassen:
C57: AOK PLUS | H57: Anteil in %
C58: vdek | H58: Anteil in %
C59: BKK | H59: Anteil in %
C60: IKK | H60: Anteil in %
C61: Knappschaft | H61: Anteil in %
...

Sheet Belegung_wö. Arbeitszeit
A1: ='Allgemeine Angaben'!A1:N1 -> Aufforderung zum Abschluss einer Pflegesatzvereinbarung gemäß §§ 84, 85 SGB XI
A2: Belegungsdaten
A3: ='Allgemeine Angaben'!A3:N3
A4: ='Allgemeine Angaben'!A4:N4
B6: Art der Einrichtung: | D6: =KAT!A3 -> Kurzzeitpflege | F6: kalkulatorischer Auslastungsquote:
F7: =IF('Allgemeine Angaben'!H44="","",IF(KAT!E7<12,"Auslastung bitte mit "&TEXT(KAT!E5/100,"0 %")&" angeben",IF(AND(KAT!E7>=12,KAT!E7<24),"Auslastung bitte mit "&TEXT(KAT!E4/100,"0 %")&" angeben","Auslastung kann mit 5 % unter der tatsächlichen Auslastung der letzten 24 Monate, mindestens jedoch mit "&TEXT(KAT!E3/100,"0 %")&" angegeben werden")))
B8: jährliche Öffnungstage: | D8: =KAT!D2 -> 365
B11: Belegungsdaten
C13: letzten 24 Kalendermonate | D13: Stichtag (Datum) | E13: Prognose ab:
B14: von: | E14: =IF('Allgemeine Angaben'!H50>0,'Allgemeine Angaben'!H50,"")
B15: bis: | D15: =IF('Allgemeine Angaben'!H50='Allgemeine Angaben'!H44,"",IF('Allgemeine Angaben'!L4=""," Antragsdatum fehlt.",IF(DATEDIF(D14,'Allgemeine Angaben'!L4,"m")>3,"Stichtag darf nicht mehr als 3 Monate vor Datum der Antragstellung liegen, bitte korrigieren.","")))
B16: =IF('Allgemeine Angaben'!D7="kzp","Anzahl Monate:","") | C16: =IF(AND(C14>0,C15>0),DATEDIF(C14,C15,"m")+1,"")
C17: =IFERROR(IF(AND(KAT!E7>0,OR(C14="",C15="")),"Bitte Belegungszeitraum vollständig angeben",""),"") | E17: Berechnungstage/Jahr
C18: =IFERROR(IF(AND(OR(KAT!E7=30,KAT!E7>30),'Belegung_wö. Arbeitszeit'!C16<>24),"Belegung für letzten 24 Kalendermonate angeben.",""),"") | E18: =IF(ISERROR('Allgemeine Angaben'!L46*G6*D8/100),"",'Allgemeine Angaben'!L46*G6*D8/100) -> 0
C19: =IF(AND('Allgemeine Angaben'!H50>'Belegung_wö. Arbeitszeit'!H44,DATEDIF(C14,'Allgemeine Angaben'!H50,"m")>30),"Belegungsbeginn darf nicht mehr als 30 Monate vor Laufzeitbeginn liegen","")
B20: Pflegegrad | C20: Belegungstage | D20: Pflegebedürftige | E20: Pflegebedürftige
C21: =("in den letzten "&IF(ISNUMBER(C16),TEXT(C16,"## "),"24 ")& "Kalendermonaten") -> in den letzten 24 Kalendermonaten | D21: zum Stichtag | E21: prognostisch ab
D22: =IF(D14>0,D14,"") | E22: =IF(E14>0,E14,"")
B24: 1
B25: 2
B26: 3
B27: 4
B28: 5
B30: Summe | C30: =SUM(C24:C28) -> 0 | D30: =SUM(D24:D28) -> 0 | E30: =SUM(E24:E28) -> 0
D32: =IF(D30>'Allgemeine Angaben'!L46,"Stichtagsbelegung übersteigt Platzzahl ","") | E32: =IF(E30>0,IF(E30<>'Allgemeine Angaben'!L46," Prognose entspricht nicht Platzzahl.",""),"")
B35: Wöchentliche Arbeitszeit
B37: Wöchentliche Arbeitszeit je Vollkraft laut Tarif / AVR / betrieblicher Regelung:
B38: =IF(F37<>40,"Beachten Sie, dass laut Rahmenvertrag die Stellenumfänge und Personalaufwendungen immer auf Basis von 40 h/Woche für eine Vollkraft abzubilden sind!","") -> Beachten Sie, dass laut Rahmenvertrag die Stellenumfänge und Personalaufwendungen immer auf Basis von 40 h/Woche für eine Vollkraft abzubilden sind!
B66: gehe weiter zu Personalkostenaufstellung

Sheet Personalkostenaufstellung
A1: Personalkostenaufstellung nach Tätigkeit und Vergütungsgruppe | F1: Personalkostenaufstellung nach Tätigkeit und Vergütungsgruppe | X1: Antrag vom: | Y1: ='Allgemeine Angaben'!L4 -> 0
A4: =F4 -> Name der Einrichtung: | B4: =IF('Allgemeine Angaben'!D11="","",'Allgemeine Angaben'!D11) | F4: Name der Einrichtung: | G4: =B4
A5: =F5 -> Ort der Einrichtung: | B5: =IF(AND('Allgemeine Angaben'!D15="",'Allgemeine Angaben'!J15=""),"",'Allgemeine Angaben'!D15&" "&'Allgemeine Angaben'!J15) | F5: Ort der Einrichtung: | G5: =B5
A6: IK: | B6: =IF('Allgemeine Angaben'!L6="","",'Allgemeine Angaben'!L6) | F6: IK: | G6: =B6
AG8: STD_VG_PFK/BFK | AH8: STD_VG_PK/BK | AI8: STD_VG_PK/BK o. | AJ8: STD_VG_einr. ind.En. | AK8: VK_PFK/BFK | AL8: VK_PK/BK | AM8: VK_PK/BK o. | AN8: PFK/BFK - Ges.PK €/VK/J | AO8: PK/BK - Ges.PK €/VK/J | AP8: PK/BK o. - Ges.PK €/VK/J
A9: Antrag vom: | B9: ='Allgemeine Angaben'!L4 -> 0 | F9: Antrag vom: | G9: =B9 -> 0 | AG9: =G290 -> 0 | AH9: =H290 -> 0 | AI9: =J290 -> 0 | AJ9: =G296 -> 0 | AK9: =G292 -> 0 | AL9: =H292 -> 0 | AM9: =J292 -> 0 | AN9: =G298 -> 0 | AO9: =H298 -> 0 | AP9: =J298 -> 0
A11: Angaben für den abgeschlossenen Zeitraum - auf Basis 40 h / Woche je VK (siehe RV) | F11: Angaben für den Prognosezeitraum - auf Basis 40 h / Woche je VK ( siehe RV)
J12: unmittelbare Bindung Tarif/ AVR:
J13: Entlohnung nach:
