Workbook

Sheet B_TP_VERSIONSINFO
A2: Erläuterung der Änderungen gegenüber der Vorversion (Änderungshistorie zu B1) nach dem 12.06.2023
A5: Datum der Änderung | B5: Tabellenblatt | C5: Inhalt | D5: Anpassung | E5: Hinweise für Anwender bzw. erledigt am:
A6: 45097 | B6: Kalkulation | C6: B22:D22 | D6: bedingte Formatierung angepasst für die Erkennung von Fehlerfassungen | E6: die Angabe des Stellenumfang der PDL/stv. PDL ist ein Erfassungsfeld für vst. PE, damit Fehleintragungen dr. KZP + TP in diesem Feld besser sichtbar sind, wurde die Schriftfarbe bei derbedingten Formatierung angepasst
C7: H22:J22 | D7: keine Anpassung der bedingten Formatierung | E7: für die Berücksichtigung der Pkosten in der Pflege gibt es in der Zelle eine J23 eine PlausiFormel, die den VK Anteil für PDL/stv. nur bei vst. PE berücksichtigt
A8: 45110 | B8: Allgemeine Angaben | C8: ab Zeile 69 | D8: Angaben zu Investkosten gelöscht analog anderen Antragsvarianten
A9: 45155 | B9: Allgemeine Angaben | C9: D6 | D9: Auswahl nur KZP und TP (siehe Abstimmung vom 02.08.2023), Text Datenübertragung angepasst | E9: vorher:
A10: 45159 | B10: Allgemeine Angaben | C10: neue Zeile in 56-58 eingefügt | E10: Differenzierung Träger ob TV-Binder oder Anwender
C11: B56 | D11: neu: unmittelbare Bindung Tarif / AVR:
C12: H56 | D12: neu: Dropdownfeld ja nein eingefügt
C13: B57 | D13: Welcher Tarif / AVR:
C14: H57 | D14: Erfassungsfeld für LE
C15: B58 | D15: neu: Fassung vom:
C16: H58 | D16: Erfassungsfeld für LE
C17: K56 | D17: Plausi-Neu: =WENN(UND(H56="";H52="");"Bitte Angaben zur Bindung Tarif / AVR vornehmen.";"")
C18: K58 | D18: Plausi-Neu: =WENN(H57="";"Bitte Angaben zum Tarif / AVR vornehmen.";"") | E18: Wenn(und funktioniert nicht richtig mit neuem Microsoftprogramm somit zusätzl. Formel in K58
A19: 45159 | B19: Hinweise | C19: Text ergänzt für Tarifanwender | D19: Dieses Verfahren kann von zugelassenen Pflegeeinrichtungen (Tagespflegen, Kurzzeitpflegen solitär wie angebundene) nur dann in Anspruch genommen werden, wenn
D20: der Träger für die Bezahlung der Mitarbeiter an einen Tarifvertrag oder an kirchliche Arbeitsrechtsregelungen gebunden ist
D21: bzw.
D22: der Träger für die Bezahlung der Mitarbeiter einen Tarifvertrag oder eine kirchliche Arbeitsrechtsregelung anwendet (Der Träger wendet den Tarifvertrag oder kirchliche Arbeitsregelungen an ohne selbst Tarifpartei zu sein und die letzte Vergütungsverhandlung abweichend zu nachfolgenden Regelungen auf Basis eines Vollantrages und keinem vereinfachten, pauschalen Verfahren erfolgte)
C23: bisheriger Punkt 3 gestrichen: Für vollstationäre Einrichtungen gelten die Regelungen des vollstationären Rahmenvertrages zur Personalausstattung entsprechend
C24: neue Nummerierung durch Streichung bisherigen Pkt. 3
C25: Stellungnahme Heimbeirat noch beibehalten wg. KZP
A26: 45174 | B26: Hinweise | C26: Antrag soll nun doch lt. PSK vom 31.08.2023 nur für Tarifbinder gelten | D26: deshalb Streichung des folgenden Textes: bzw. "der Träger für die Bezahlung der Mitarbeiter einen Tarifvertrag oder eine kirchliche Arbeitsrechtsregelung anwendet ohne selbst Tarifpartei zu sein und die letzte Vergütungsverhandlung abweichend zu den nachfolgenden Regelungen auf Basis eines Vollantrages und keinem vereinfachten, pauschalen Verfahren erfolgte" | E26: Formeln und Felder in H57, H58 und K57 bleiben
B27: Allgemeine Angaben | C27: keine Auswahl zw. Tarifbindung mittelbar und unmittelbar, Antrag nur für Tarifbinder | D27: H56 Dropdown-Feld gelöscht und mit ja angegeben + kein Erfassung /Hinweistext
C28: Plausifeld in K56 nicht notw. | D28: Plausi in K56 gelöscht (bisher: =WENN(UND(H56="";H52="");"Bitte Angaben zur Bindung Tarif / AVR vornehmen.";""))
A29: 45272 | B29: Benennung der Version als B3 (Gegenstück für B1 für tarifungebundene LE) - Hinweise bleiben vorerst so
A30: 18./19.12.2023 | B30: B3_Allgemeine Angaben | C30: Überschrift angepasst | D30: bisher: vereinfachtes .... Verfahren neu: analog der B1,B2 + B3 Variante
C31: B48 | D31: Inhalt entfernt (Text bisher: Platzzahl der angebundenen / integrierten Kurzzeitpflege lt. Versorgungsvertrag) | E31: B3 können nur TP + KZP nutzen, desh. Angaben zu eingestreuten/ integrierten KZP unnötig
C32: L48 | D32: Erfassungsfeld gelöscht | E32: dito
C33: Zeile 56 : 58 neu eingefügt | D33: Angaben zur Tarifbindung, Tarif und Fassung vom
B34: B3_Kalkulation | C34: K19 | D34: Text "Personalkosten:" verschoben in K20
C35: K20 | D35: Text neu: "Personalkosten:"
C36: M20 | D36: Text neu: Steigerungsrate
C37: N16 | D37: Text + bedingte Formatierung gelöscht: Relationen angebundene / integrierte KZP
C38: N16:N20 | D38: Inhalt und bedingte Formatierung für angebundene KZP gelöscht
C39: N22:N30 | D39: dito
C40: L20 | D40: Erfassungsfeld gelöscht für % pauschal für alle Funktionsbereiche
C41: M16, M23:M30; M32; M45 | D41: neu: Erfassungsfelder für Steigerungsraten, Begrenzung Erfassung mit Datenübertragung, Personalkosten + 10% sonstige Mitarbeiter + 5%, Sachkosten bis max. 7,5% und Fremdleistung bis max. 9,1%
C42: L16 | D42: Verschiebung Erfassungsfeld für % - Anpassung Formel notw.
C43: L17 | D43: Hinweisfeld eingefügt - Fahrtkosten bis max. 17,90 € vereinbar
...

Sheet KAT
A1: Einrichtungsart | B1: Kreuz | C1: Tage/Monat | D1: Öffnungstage | E1: Auslastung | F1: Ja/Nein | G1: Kostenträger
A2: teilstationäre Pflege | B2: x | C2: 30.42 | D2: 365 | E2: 1 | F2: ja | G2: AOK PLUS
A3: Kurzzeitpflege | C3: 26 | D3: 312 | E3: 0.99 | F3: nein | G3: KSV
A4: vollstationäre Pflege | C4: 20.83 | D4: 250 | E4: 0.98 | G4: vdek
A5: Wohnpflegeheim | E5: 0.97
A6: Wachkoma | E6: 0.96
A7: 4. Generation | E7: 0.95
E8: 0.94
E9: 0.93
A10: solitär | E10: 0.92
A11: angebunden | E11: 0.91
E12: 0.9
E13: 0.89
E14: 0.88
E15: 0.87
E16: 0.86
E17: 0.85
A20: 07.08.2017 - Ableitung der Psätze für tst. PE und KZP bei Nullbelegungen
A22: PG | B22: check/Psatz | J22: Abstimmung vom 07.08.2017 mit folgender Entscheidung:
A23: 1 | B23: =IF(B_TP_Kalkulation!H14<>0,B_TP_Gesamtkalkulation!H47,0) -> 0 | J23: - die Herleitung der Psätze für tst + KZP analog der Herleitung der PR bei Nichtbelegung
A24: 2 | B24: =IF(B_TP_Kalkulation!I14<>0,B_TP_Gesamtkalkulation!J47,0) -> 0 | J24: führt in einzelnen Fällen nicht zu den gewünschten Ergebnissen (siehe Testergebnisse vom 05.08.2017)
A25: 3 | B25: =IF(B_TP_Kalkulation!J14<>0,B_TP_Gesamtkalkulation!L47,0) -> 0 | D25: Kennzeichen Einrichtungsart: | F25: =IF('B_TP_Allgemeine Angaben'!D7="tst","tst",IF('B_TP_Allgemeine Angaben'!D7="kzp","KZP","")) -> tst | J25: => desh. ist bei KzP und tst. PE der PG 2 bis 4 zwindend zu belegen
A26: 4 | B26: =IF(B_TP_Kalkulation!K14<>0,B_TP_Gesamtkalkulation!N47,0) -> 0 | D26: "2" = tst, "1" = vst,WK, 4. Generation , "3" = KZP
A27: 5 | B27: =IF(B_TP_Kalkulation!L14<>0,B_TP_Gesamtkalkulation!P47,0) -> 0
L28: Erläuterung zur Verformelung:
A29: Hochrechnung der Pflegesätze bei Nullbelegung fürTP+KZP | E29: Rechnung mit Äquvalenzen (Rothgang bei vst und KZP, Faktor bei tst) | L29: 1. Check - a) bilde den Psatz für PG 2 - 4 ab, falls Belegung "0" dann LEER
B30: a | C30: b | D30: f = "tst" | E30: f = "KZP" | G30: g | H30: h | J30: e | L30: b)bilde den Psatz PG 1 und PG 5 ab, sofern belegt
D31: =IF(B23=0,B24*B55/C55,0) -> 0 | E31: =IF(B23=0,B24*B48/C48,0) -> 0 | G31: =IF(F25="tst",D31,E31) -> 0 | H31: =IF(B23=0,G31,B23) -> 0 | J31: PG 1 | L31: c) ist der PG 1 bzw. PG 5 nicht belegt, dann "0"
H32: =IF(B24=0,G32,B24) -> 0 | J32: PG 2 | L32: 2. (Spalte f "tst" und f "kzp")
H33: =IF(B25=0,G33,B25) -> 0 | J33: PG 3 | L33: gilt 1 b) dann wird der kalkulierte Psatz abgebildet
H34: =IF(B26=0,G34,B26) -> 0 | J34: PG 4 | L34: gilt 1 c) dann wird anhand der jeweiligen Faktoren "tst" und "kzp"
D35: =IF(B27=0,B26/E55*F55,0) -> 0 | E35: =IF(B27=0,B26*F48/E48,0) -> 0 | G35: =IF(F25="tst",D35,E35) -> 0 | H35: =IF(B27=0,G35,B27) -> 0 | J35: PG 5 | L35: der Psatz für PG 1 vom Psatz PG 2 hochgerechnet
L36: der Psatz für PG 5 vom Psatz PG 4 hochgerechnet
L37: 3. (Spalte g)
A38: Überlegung: | L38: bilde die Psätze PG 1 und PG 5 entsprechend des Einrichtungstyp "tst" o.
A39: vst. PE mit Nullbelegung => Psätze Ermittlung dr. EEE + Leistungsbetrag, Psatz für PG 1 = 0,78 von Psatz PG 2 | L39: "KZP" ab
L40: 4. (Spalte h)
L41: bilde alle Psätze entspr. für den einrichtungstyp "tst" oder "Kzp" ab
B44: Äquivalenzen
B46: PG 1 | C46: PG 2 | D46: PG 3 | E46: PG 4 | F46: PG 5
...

Sheet B_TP_Hinweise
A1: Hinweise zum vereinfachten Verfahren der Aufforderung zum Abschluss einer Pflegesatzvereinbarung gemäß §§ 84, 85 SGB XI sowie von Vereinbarungen nach § 75 SGB XII für teilstationäre Pflegeeinrichtungen
A4: Aus Gründen der besseren Lesbarkeit wird auf die gleichzeitige Verwendung männlicher und weiblicher Sprachformen verzichtet. Sämtliche Personenbezeichnungen gelten gleichwohl für alle Geschlechter.
A6: Inhaltsverzeichnis
A7: 1. Allgemeine Hinweise
A8: 2. Aufforderungsunterlagen
A9: 2.1. Allgemeine Angabe | B9: Allgemeine Angaben
A10: 2.2. Kalkulation
A11: 2.3. Ergebnis
A12: 2.4. Gesamtkalkulation
A14: Allgemeine Hinweise Dieses Antragsverfahren kann nur von teilstationären Pflegeeinrichtungen genutzt werden, die • nach der PSG II – Umstellung mindestens eine Vollverhandlung durchgeführt haben, • deren aktuell gültige Pflegesatzvereinbarung ausgelaufen ist und • die seit der Vorverhandlung keine Kapazitätsänderung vorgenommen haben. Das vereinfachte Verfahren kann grundsätzlich nur einmal angewendet werden. Ungeachtet dessen erklären sich die Kostenträger bereit, auch über ein weiteres vereinfachtes Verfahren zu verhandeln, sofern hiermit eine entsprechende Laufzeitverlängerung der Pflegesatzvereinbarung verbunden wird. Bis Mitte 2027 werden die Verfahrensbeteiligten einen Vorschlag für die Ausgestaltung und Voraussetzungen eines solchen weiteren vereinfachten Verfahrens erarbeiten. Basis ist die Ergebniskalkulation zur aktuell gültigen Pflegesatzvereinbarung. Es handelt sich um eine pauschale Herangehensweise, die nicht alle individuellen Veränderungen der Pflegeeinrichtung seit Abschluss der gültigen Pflegesatzvereinbarung berücksichtigt. | H14: zurück
A15: Die vollständig ausgefüllten Antragsunterlagen sind gemäß § 85 Abs. 2 und Abs. 3 SGB XI den Leistungsträgern oder deren Arbeitsgemeinschaften, auf die im Jahr vor Beginn der Pflegesatzverhandlungen mehr als fünf vom Hundert der Berechnungstage der Pflegeeinrichtung entfallen, spätestens sechs Wochen vor dem beantragten Vereinbarungszeitraum durch den Träger der Pflegeeinrichtung zuzusenden (siehe Adressverzeichnis). Zwischen dem Antragsdatum und dem Laufzeitbeginn können maximal 4 Monate liegen. Sofern der KSV Sachsen nicht bereits Vertragspartei ist, erhält er immer eine Kopie der Allgemeinen Angaben und der Kalkulation. Werden eingereichte Antragsunterlagen korrigiert bzw. ergänzt, müssen die aktualisierten Antragsunterlagen rechtzeitig, in der Regel 14 Tage vor dem Verhandlungstermin, den beteiligten Vertragsparteien vorliegen. Für jede teilstationäre Pflegeeinrichtung mit einem separaten Versorgungsvertrag nach § 72 SGB XI ist eine gesonderte Aufforderung einzureichen. Die Antragsunterlagen sind auf der Mappe Kalkulation rechtsverbindlich zu unterzeichnen. Die Antragsunterlagen sind im Excel-Format und die Unterschriftenseiten (Mappe Kalkulation) im pdf-Format per E-Mail an die zuständigen Vertragsparteien zu übermitteln.
A17: 2. Aufforderungsunterlagen Die Aufforderungsunterlagen enthalten Formeln, so dass sich die beantragten Pflegesätze und Entgelte errechnen. Es sind ausschließlich die gelben Felder auszufüllen. | H17: zurück
A19: 2.1. Mappe Allgemeine Angaben Für jede Pflegeeinrichtung muss zwingend ein leeres Antragsformular verwendet werden. Die Platzzahl bestimmt sich nach dem Versorgungsvertrag. Der Vereinbarungszeitraum umfasst regelmäßig mindestens 12 Monate. Die Pflegeeinrichtung muss auswählen, ob sie unmittelbar an einen Tarif / eine AVR gebunden ist, sich an ein Tarifwerk anlehnt oder nach dem regional üblichen Entgelt entlohnt. In Abhängigkeit der getroffenen Aussage stehen differenzierte Steigerungsraten für die Kalkulation zur Verfügung. Die Parteien der Pflegesatzvereinbarung sind gemäß § 85 Abs. 2 SGB XI zu ermitteln und ihr Anteil an den Berechnungstagen der Pflegeeinrichtung entsprechend anzugeben. Der Anteil der Pflegebedürftigen, die ergänzende Leistungen der Sozialhilfe erhalten, ist zusätzlich als Davonposition auszuweisen. | H19: zurück
A21: 2.2. Mappe Kalkulation Auslastungsgrad Teilstationäre Pflegeeinrichtung 85 % bis 100 % jährliche Öffnungstage teilstationäre Pflegeeinrichtungen mit einer Öffnungszeit von Montag bis Freitag: 250 Tage teilstationäre Pflegeeinrichtungen mit einer Öffnungszeit von Montag bis Samstag: 312 Tage teilstationäre Pflegeeinrichtungen mit einer Öffnungszeit von Montag bis Sonntag: 365 Tage Teilstationäre Pflegeeinrichtungen haben an den Öffnungstagen eine Öffnungszeit von mindestens 6 Stunden sicherzustellen. Im Übrigen bildet der linke Teil der Tabelle den Sachstand der aktuell gültigen Pflegesatzvereinbarung ab. Im rechten Teil der Tabelle wird die Forderung der Pflegeeinrichtung dargestellt. Pflegebedürftige in der Einrichtung Die Pflegeeinrichtung trägt die Belegung mit Pflegebedürftigen nach den 5 Pflegegraden entsprechend der aktuell gültigen Pflegesatzvereinbarung ein. Eine Änderung für die prognostische Belegung ist nicht möglich. Die Belegung muss der Platzzahl im Versorgungsvertrag entsprechen. Auch wenn eine Pflegeeinrichtung in einzelnen Pflegegraden eine Nullbelegung angibt, wird für diesen Pflegegrad eine Personalrelation Pflege und ein Pflegesatz ermittelt. | H21: zurück
A22: Beförderung in der teilstationären Pflege In der Prognose muss die teilstationäre Einrichtung zwischen Beförderung durch interne Mitarbeiter oder durch einen externen Anbieter unterscheiden. Als Obergrenze für die Prognose der Beförderung durch interne Mitarbeiter werden 21,30 € festgelegt. Als Obergrenze für die Prognose der Beförderung durch einen externen Anbieter werden 24,22 € festgelegt. Personelle Ausstattung der Pflegeeinrichtung Grundlage für die Ermittlung der beantragten Personalrelationen ist das prospektiv in der Einrichtung beschäftigte Personal. Eine Vollkraft wird mit 40 Stunden / Woche kalkuliert. Die Personalrelationen und die Stellenanteile für die Mitarbeiter Pflege und die Mitarbeiter Betreuung entsprechen der aktuell gültigen Pflegesatzvereinbarung. Eine Reduzierung ist möglich. Die Fachkraftquote Pflege kann bei Veränderung der Personalausstattung Pflege angepasst werden. In den Bereichen Leitung / Verwaltung, Hauswirtschaft, Küche, Haustechnik und zusätzliche Betreuung und Aktivierung nach § 43 b SGB XI werden die Personalrelationen unverändert aus der aktuell gültigen Pflegesatzvereinbarung übernommen. Die Stellen für Freiwillige Dienste / FSJ sind ebenfalls der aktuell gültigen Pflegesatzvereinbarung zu entnehmen. Eine prospektive Veränderung ist möglich Entsprechende Hinweise (Fehlermeldungen) sind zu beachten.
A23: Personalkosten Die Personalkosten werden aus der aktuell gültigen Pflegesatzvereinbarung übernommen. Die Angaben der Personalkosten Prognose sind abhängig von der Wahl der Entlohnung (AVR / Tarif, Tarifanlehner, regional übliches Entgelt) in der Mappe Allgemeine Angaben. Die Steigerung der Personalkosten wird für alle Funktionsbereiche in der Mappe Kalkulation eingetragen. Die bisher geeinten Personalkosten können in den Funktionsbereichen:
E24: Tarifgebundene Einrichtungen / Tarifanlehner | F24: Regional übliches Entgelt
B25: Pflege | E25: um maximal 5 % | F25: um maximal 3 %
B26: Betreuung | E26: um maximal 5 % | F26: um maximal 3 %
B27: Leitung / Verwaltung | E27: um maximal 5 % | F27: um maximal 3,42 %
B28: Hauswirtschaft | E28: um maximal 5 % | F28: um maximal 3 %
B29: Küche | E29: um maximal 5 % | F29: um maximal 3 %
B30: Haustechnik | E30: um maximal 5 % | F30: um maximal 3 %
B31: Freiwillige Dienste / FSJ | E31: um maximal 4 % | F31: um maximal 4 %
B32: zusätzliche Betreuung und Aktivierung nach § 43 b SGB XI | E32: um maximal 5 % | F32: um maximal 3 %
A33: gesteigert werden. Für Freiwillige Dienste und FSJ sind im Antrag Netto-Personalkosten darzustellen. Das regionale Entlohnungsniveau für Pflege / Betreuung und zusätzliche Betreuung nach § 43b SGB XI im Rahmen der Veröffentlichung nach § 82c Abs. 5 SGB XI (Stand 30.09.2026) für das regional übliche Entgelt beträgt:
B34: Regional übliches Entlohnungsniveau je Beschäftigtengruppe gemäß § 4 Absatz 3 der Richtlinien des GKV-SV nach § 82c Absatz 4 SGB XI in Sachsen (Stand 30.9.2026)
B35: Pflege- und Betreuungskräfte ohne mindestens einjährige Berufsausbildung | F35: 20,88 € / h
B36: Pflege- und Betreuungskräfte mit mindestens einjähriger Berufsausbildung | F36: 22,52 € / h
B37: Fachkräfte in den Bereichen Pflege und Betreuung mit mindestens dreijähriger Berufsausbildung | F37: 27,18 € / h
B39: Regionale Durchschnittswerte der tarifvertraglich oder in kirchlichen Arbeitsrechtsregelungen vereinbarten variablen pflegetypischen Zuschläge auf den Stundenlohn (Grundgehalt) gemäß § 5 Absatz 2 der Richtlinien des GKV-SV nach § 82c Absatz 4 SGB XI in Sachsen (Stand 30.9.2026)
B40: Nachtzuschläge für eine Tätigkeit in der Nacht, mindestens im Zeitraum zwischen 23 und 6 Uhr | F40: 0.23
B41: Sonntagszuschläge für eine Tätigkeit an Sonntagen im Zeitraum zwischen 0 und 24 Uhr | F41: 0.3
B42: Feiertagszuschläge für eine Tätigkeit an gesetzlichen Feiertagen im Zeitraum zwischen 0 und 24 Uhr (mit Freizeitausgleich) | F42: 0.35
B43: Feiertagszuschläge für eine Tätigkeit an gesetzlichen Feiertagen im Zeitraum zwischen 0 und 24 Uhr (ohne Freizeitausgleich) | F43: 1.33
A45: Die Personalkosten von PDL / stellvertretender PDL bleiben bei der Ermittlung des regional üblichen Entlohnungsniveaus unberücksichtigt. Sachkosten Die Sachkosten können in allen Positionen pauschal um maximal 3,0 % bezogen auf die aktuell geeinten Werte gesteigert werden. Fremdleistungen Die Fremdleistungen können in allen Positionen pauschal um maximal 5,0 % bezogen auf die aktuell geeinten Werte gesteigert werden. Die Richtigkeit der Angaben der Pflegeeinrichtung ist mit Unterschrift zu bestätigen.
A47: 2.3. Ergebnis Bis zur Ausfertigung der Pflegesatzvereinbarung erhält die Pflegeeinrichtung nach abgeschlossener Pflegesatzverhandlung ein von der Kostenträgerseite unterzeichnetes Ergebnis. | H47: zurück
A49: 2.4. Mappe Gesamtkalkulation Die Gesamtkalkulation fasst die vorangegangenen Angaben zur Ermittlung der Entgeltbestandteile nach den fünf Pflegegraden zusammen. Hier kann die Pflegeeinrichtung keine Änderungen vornehmen. Ggf. sind Korrekturen auf den vorhergehenden Seiten erforderlich. a) Bei einer Nullbelegung werden in diesen Pflegegraden keine Kosten dargestellt. Die Personalschlüssel für Pflegegrade mit einer Nullbelegung verändern die Prognose der Vollkräfte Pflege nicht. Sie sollen der Pflegeeinrichtung eine Sicherheit im Fall einer Belegung geben. Der Personalschlüssels für Pflegegrade mit Nullbelegung ergibt sich aus der Abstandsberechnung (siehe Tabelle). Basis stellen die individuell ermittelten Personalrelationen der Pflegegrade mit Belegung dar. | H49: zurück
B51: teilstationäre Pflegeeinrichtungen
B52: § 92e (3) und (4) SGB XI | C52: 0.78 | D52: 1 | E52: 1.2 | F52: 1.4 | G52: 1.5
...

Sheet B_TP_Allgemeine Angaben
A1: Vereinfachtes Verfahren der Aufforderung zum Abschluss einer Pflegesatzvereinbarung gemäß § 84, 85 SGB XI - teilstationäre Pflegeeinrichtungen
A2: Allgemeine Angaben
A3: =IF(D12>0,CONCATENATE(D12,", ",D16," ",J16),"")
A4: =IF(L6>0,CONCATENATE("IK"," ",L6),"") | K4: Antrag vom:
A5: 26.10.2026
B6: Art der Einrichtung: | D6: teilstationäre Pflege | K6: Institutionskennzeichen (IK):
D7: tst | E7: =IF(D6>0,IF(D6="Wohnpflegeheim","WPH","")) | F7: =IF(D6="4. Generation","4.","")
B10: Allgemeine Angaben zur Pflegeeinrichtung und zum Träger
D11: =IF(AND(D6=0,D12<>0),"bitte wählen Sie noch die Art der Einrichtung aus","")
B12: Pflegeeinrichtung:
D13: Name der Einrichtung
D15: Straße
D17: PLZ | J17: Ort
D19: Telefon | J19: Fax
D21: E-Mail | J21: Web-Adresse
D23: Einrichtungsleitung | J23: PDL
B26: In Trägerschaft von:
D27: Name des Trägers
D29: Straße
D31: PLZ | J31: Ort
D33: Telefon | J33: Fax
D35: E-Mail | J35: Web-Adresse
D37: Ansprechpartner/ Funktion
B39: Zugehörigkeit zu einer Vereinigung von Trägern von stationären Pflegeeinrichtungen im Land
G41: Wenn ja, welche?
B43: Hiermit erteilen wir o.g. Vereinigung Verhandlungsmandat
B45: Zulassungsdatum der Pflegeeinrichtung: | K45: =DATEDIF(H45,H52,"m") -> 0
K46: =IF(AND(H45="",H52<>""),"Bitte Erfassung des Zulassungsdatums!","")
B47: Platzzahl der Pflegeeinrichtung entsprechend des Versorgungsvertrages:
B50: Pflegeeinrichtungskonzeption Stand: | L50: ist als Anlage beigefügt
B52: Vereinbarungszeitraum prospektiv: | F52: von | J52: bis
B54: letzter Vereinbarungszeitraum: | F54: von | J54: bis
B56: unmittelbare Bindung Tarif / AVR:
B58: Welcher Tarif / AVR:
B59: Fassung vom: | K59: =IF(H58="","Bitte Angaben zum Tarif / AVR vornehmen.","") -> Bitte Angaben zum Tarif / AVR vornehmen.
B61: Parteien der Pflegesatzvereinbarung (gem. § 85 Abs. 2 SGB XI)
C63: Pflegekassen:
C64: AOK PLUS | H64: Anteil in %
C65: vdek | H65: Anteil in %
C66: BKK | H66: Anteil in %
...

Sheet B_TP_Kalkulation
A1: ='B_TP_Allgemeine Angaben'!A1:N1 -> Vereinfachtes Verfahren der Aufforderung zum Abschluss einer Pflegesatzvereinbarung gemäß § 84, 85 SGB XI - teilstationäre Pflegeeinrichtungen
A2: Kalkulation
A3: ='B_TP_Allgemeine Angaben'!A3
A4: ='B_TP_Allgemeine Angaben'!A4
B6: kalkulatorischer Auslastungsgrad: | H6: jährliche Öffnungstage: | K6: Art der Einrichtung: | L6: =IF('B_TP_Allgemeine Angaben'!D6>0,'B_TP_Allgemeine Angaben'!D6,"") -> teilstationäre Pflege
B8: Verhandelte Kostenkalkulation der letzten Pflegesatzvereinbarung | H8: Forderung
B10: Laufzeit: | C10: vom: | D10: =IF('B_TP_Allgemeine Angaben'!H54=0,"",'B_TP_Allgemeine Angaben'!H54) | E10: bis: | F10: =IF('B_TP_Allgemeine Angaben'!K54=0,"",'B_TP_Allgemeine Angaben'!K54) | H10: Laufzeit: | I10: vom: | J10: =IF('B_TP_Allgemeine Angaben'!H52=0,"",'B_TP_Allgemeine Angaben'!H52) | K10: bis: | L10: =IF('B_TP_Allgemeine Angaben'!K52=0,"",'B_TP_Allgemeine Angaben'!K52)
B12: Belegung: | E12: gesamt: | F12: =SUM(B14:F14) -> 0 | H12: Belegung: | K12: gesamt: | L12: =SUM(H14:L14) -> 0 | N12: Belegung für angebundene / integrierte KZP:
B13: Pflegegrad 1 | C13: Pflegegrad 2 | D13: Pflegegrad 3 | E13: Pflegegrad 4 | F13: Pflegegrad 5 | H13: Pflegegrad 1 | I13: Pflegegrad 2 | J13: Pflegegrad 3 | K13: Pflegegrad 4 | L13: Pflegegrad 5
H14: =B14 -> 0 | I14: =C14 -> 0 | J14: =D14 -> 0 | K14: =E14 -> 0 | L14: =F14 -> 0
B15: =IF(F12<>'B_TP_Allgemeine Angaben'!L47,"Platzzahl entspricht nicht Versorgungsvertrag!","") | C15: =IF(C14=0,"Belegung fehlt!","") -> Belegung fehlt! | D15: =IF(D14=0,"Belegung fehlt!","") -> Belegung fehlt! | E15: =IF(E14=0,"Belegung fehlt!","") -> Belegung fehlt! | M15: Steigerungsrate: | O15: Begründungen für:
B16: Personalausstattung: | C16: Relationen | D16: Stellen | E16: Beförderung: | H16: Personalausstattung: | I16: Relationen | J16: Stellen | K16: Bitte auswählen. | L16: =KAT!L94 | O16: - die Personalkostensteigerungen -
B17: Pflegegrad 1 | D17: =IFERROR(ROUND(B14/C17,3),"") | H17: Pflegegrad 1 | J17: =IFERROR(ROUND(H14/I17,3),"") | L17: =IF(M16<>0,KAT!N94,"")
B18: Pflegegrad 2 | D18: =IFERROR(ROUND(C14/C18,3),"") | H18: Pflegegrad 2 | J18: =IFERROR(ROUND(I14/I18,3),"")
B19: Pflegegrad 3 | D19: =IFERROR(ROUND(D14/C19,3),"") | H19: Pflegegrad 3 | J19: =IFERROR(ROUND(J14/I19,3),"") | M19: Steigerungsrate:
B20: Pflegegrad 4 | D20: =IFERROR(ROUND(E14/C20,3),"") | E20: Personalkosten: | H20: Pflegegrad 4 | J20: =IFERROR(ROUND(K14/I20,3),"") | K20: Personalkosten:
B21: Pflegegrad 5 | D21: =IFERROR(ROUND(F14/C21,3),"") | E21: Funktionsbereich: | F21: €/VK / €/Stelle | H21: Pflegegrad 5 | J21: =IFERROR(ROUND(L14/I21,3),"") | K21: Funktionsbereich: | L21: €/VK / €/Stelle | M21: in Höhe von:
B22: Fachkraftquote Pflege: | D22: =SUM(D17:D21) -> 0 | E22: Pflege gesamt: | H22: Fachkraftquote Pflege: | J22: =IF('B_TP_Allgemeine Angaben'!D7<>"vst",SUM(J17:J21),SUM(J17:J21)) -> 0 | K22: Pflege gesamt: | L22: =IFERROR(ROUND(F22*(1+$M22),2),"") -> 0
B23: Betreuung: | D23: =IFERROR(ROUND($F$12/C23,3),0) -> 0 | E23: =B23 -> Betreuung: | H23: Betreuung: | J23: =IFERROR(ROUND($L$12/I23,3),0) -> 0 | K23: =H23 -> Betreuung: | L23: =IFERROR(ROUND(F23*(1+$M23),2),"") -> 0
B24: Leitung/Verwaltung: | D24: =IFERROR(ROUND($F$12/C24,3),0) -> 0 | E24: =B24 -> Leitung/Verwaltung: | H24: Leitung/Verwaltung: | I24: =C24 -> 0 | J24: =IFERROR(ROUND($L$12/I24,3),0) -> 0 | K24: =H24 -> Leitung/Verwaltung: | L24: =IFERROR(ROUND(F24*(1+$M24),2),"") -> 0
B25: Hauswirtschaft: | D25: =IFERROR(ROUND($F$12/C25,3),0) -> 0 | E25: =B25 -> Hauswirtschaft: | H25: Hauswirtschaft: | I25: =C25 -> 0 | J25: =IFERROR(ROUND($L$12/I25,3),0) -> 0 | K25: =H25 -> Hauswirtschaft: | L25: =IFERROR(ROUND(F25*(1+$M25),2),"") -> 0
B26: Küche: | D26: =IFERROR(ROUND($F$12/C26,3),0) -> 0 | E26: =B26 -> Küche: | H26: Küche: | I26: =C26 -> 0 | J26: =IFERROR(ROUND($L$12/I26,3),0) -> 0 | K26: =H26 -> Küche: | L26: =IFERROR(ROUND(F26*(1+$M26),2),"") -> 0
B27: Haustechnik: | D27: =IFERROR(ROUND($F$12/C27,3),0) -> 0 | E27: =B27 -> Haustechnik: | H27: Haustechnik: | I27: =C27 -> 0 | J27: =IFERROR(ROUND($L$12/I27,3),0) -> 0 | K27: =H27 -> Haustechnik: | L27: =IFERROR(ROUND(F27*(1+$M27),2),"") -> 0
B28: Freiwillige Dienste/ FSJ Einsatz: | E28: =B28 -> Freiwillige Dienste/ FSJ Einsatz: | H28: Freiwillige Dienste/FSJ Einsatz: | K28: =H28 -> Freiwillige Dienste/FSJ Einsatz: | L28: =IFERROR(ROUND(F28*(1+M28),2),"") -> 0
B29: zusätzliche Betreuung und Aktivierung nach § 43 b SGB XI: | C29: 20 | D29: =$F$12/C29 -> 0 | E29: zusätzliche Betreuung und Aktivierung nach § 43 b SGB XI: | H29: zusätzliche Betreuung und Aktivierung nach § 43 b SGB XI: | I29: 20 | J29: =IFERROR(ROUND($L$12/I29,3),"") -> 0 | K29: zusätzliche Betreuung und Aktivierung nach § 43 b SGB XI: | L29: =IFERROR(ROUND(F29*(1+$M29),2),"") -> 0
B31: Sachaufwendungen | H31: Sachaufwendungen | O31: - die Sachkostensteigerungen -
B32: 2.1. | C32: Lebensmittel | H32: 2.1. | I32: Lebensmittel | L32: =IFERROR(ROUND(F32*(100+$M$31*100)%,2),"") -> 0 | M32: =IFERROR(L32/B_TP_Gesamtkalkulation!$N$6,"")
B33: 2.2. | C33: pflegerischer Sachbedarf | H33: 2.2. | I33: pflegerischer Sachbedarf | L33: =IFERROR(ROUND(F33*(100+$M$31*100)%,2),"") -> 0 | M33: =IFERROR(L33/B_TP_Gesamtkalkulation!$N$6,"")
B34: 2.3. | C34: Wasser, Energie, Brenntstoffe | H34: 2.3. | I34: Wasser, Energie, Brenntstoffe | L34: =IFERROR(ROUND(F34*(100+$M$31*100)%,2),"") -> 0 | M34: =IFERROR(L34/B_TP_Gesamtkalkulation!$N$6,"")
B35: 2.4. | C35: Verwaltungsbedarf | H35: 2.4. | I35: Verwaltungsbedarf | L35: =IFERROR(ROUND(F35*(100+$M$31*100)%,2),"") -> 0 | M35: =IFERROR(L35/B_TP_Gesamtkalkulation!$N$6,"")
B36: 2.5. | C36: Zentrale Verwaltungsdienste | H36: 2.5. | I36: Zentrale Verwaltungsdienste | L36: =IFERROR(ROUND(F36*(100+$M$31*100)%,2),"") -> 0 | M36: =IFERROR(L36/B_TP_Gesamtkalkulation!$N$6,"")
B37: 2.6. | C37: Betreuungsaufwand | H37: 2.6. | I37: Betreuungsaufwand | L37: =IFERROR(ROUND(F37*(100+$M$31*100)%,2),"") -> 0 | M37: =IFERROR(L37/B_TP_Gesamtkalkulation!$N$6,"")
B38: 2.7. | C38: Wirtschaftsbedarf | H38: 2.7. | I38: Wirtschaftsbedarf | L38: =IFERROR(ROUND(F38*(100+$M$31*100)%,2),"") -> 0 | M38: =IFERROR(L38/B_TP_Gesamtkalkulation!$N$6,"")
B39: 2.8. | C39: Steuern/Abgaben/Versicherungen | H39: 2.8. | I39: Steuern/Abgaben/Versicherungen | L39: =IFERROR(ROUND(F39*(100+$M$31*100)%,2),"") -> 0 | M39: =IFERROR(L39/B_TP_Gesamtkalkulation!$N$6,"")
B40: 2.9. | C40: Wartung (keine Instandhaltung) | H40: 2.9. | I40: Wartung (keine Instandhaltung) | L40: =IFERROR(ROUND(F40*(100+$M$31*100)%,2),"") -> 0 | M40: =IFERROR(L40/B_TP_Gesamtkalkulation!$N$6,"")
B41: 2.10. | C41: sonstige Aufwendungen | H41: 2.10. | I41: sonstige Aufwendungen | L41: =IFERROR(ROUND(F41*(100+$M$31*100)%,2),"") -> 0 | M41: =IFERROR(L41/B_TP_Gesamtkalkulation!$N$6,"")
C42: Gesamtsumme: | F42: =SUM(F32:F41) -> 0 | I42: Gesamtsumme: | L42: =SUM(L32:L41) -> 0 | M42: =SUM(M32:M41) -> 0
B44: Fremdleistungen/ Leistungen des Trägers | H44: Fremdleistungen/ Leistungen des Trägers | O44: - die Fremdleistungen -
B45: 3.1. | C45: Küche | H45: 3.1. | I45: Küche | L45: =IFERROR(ROUND(F45*(100+$M$44*100)%,2),"") -> 0 | M45: =IFERROR(L45/B_TP_Gesamtkalkulation!$N$6,"")
B46: 3.2. | C46: Wäscherei | H46: 3.2. | I46: Wäscherei | L46: =IFERROR(ROUND(F46*(100+$M$44*100)%,2),"") -> 0 | M46: =IFERROR(L46/B_TP_Gesamtkalkulation!$N$6,"")
...

Sheet B_TP_Ergebnis
A1: ='B_TP_Allgemeine Angaben'!A1 -> Vereinfachtes Verfahren der Aufforderung zum Abschluss einer Pflegesatzvereinbarung gemäß § 84, 85 SGB XI - teilstationäre Pflegeeinrichtungen
A2: ERGEBNIS
L3: Antrag vom: | N3: ='B_TP_Allgemeine Angaben'!L4 -> 0
B5: Pflegeeinrichtung | F5: Trägerdaten
B6: =IF('B_TP_Allgemeine Angaben'!D12<>"",'B_TP_Allgemeine Angaben'!D12,"") | F6: =IF('B_TP_Allgemeine Angaben'!D26<>"",'B_TP_Allgemeine Angaben'!D26,"")
B7: =IF('B_TP_Allgemeine Angaben'!D14<>"",'B_TP_Allgemeine Angaben'!D14,"") | F7: =IF('B_TP_Allgemeine Angaben'!D28<>"",'B_TP_Allgemeine Angaben'!D28,"")
B8: =IF('B_TP_Allgemeine Angaben'!D16<>"",'B_TP_Allgemeine Angaben'!D16,"")&" "&IF('B_TP_Allgemeine Angaben'!J16<>"",'B_TP_Allgemeine Angaben'!J16,"") | F8: =IF('B_TP_Allgemeine Angaben'!D30<>"",'B_TP_Allgemeine Angaben'!D30,"")&" "&IF('B_TP_Allgemeine Angaben'!J30<>"",'B_TP_Allgemeine Angaben'!J30,"")
B9: Institutionskennzeichen (IK): | C9: ='B_TP_Allgemeine Angaben'!L6 -> 0
B11: Vereinbarungszeitraum: | F11: =IF('B_TP_Allgemeine Angaben'!H52>0,'B_TP_Allgemeine Angaben'!H52,"") | H11: bis: | I11: =IF('B_TP_Allgemeine Angaben'!K52>0,'B_TP_Allgemeine Angaben'!K52,"")
B14: Belegung:
B16: Pflegegrad 1: | F16: =B_TP_Kalkulation!H14 -> 0
B17: Pflegegrad 2: | F17: =B_TP_Kalkulation!I14 -> 0
B18: Pflegegrad 3: | F18: =B_TP_Kalkulation!J14 -> 0
B19: Pflegegrad 4: | F19: =B_TP_Kalkulation!K14 -> 0
B20: Pflegegrad 5: | F20: =B_TP_Kalkulation!L14 -> 0
B22: Gesamt: | F22: =B_TP_Kalkulation!L12 -> 0
B24: Personelle Ausstattung / Personalkosten der Pflegeeinrichtung:
F26: Vollkräfte | I26: Personal-relation | J26: Personal-kosten je VK
B28: Pflege | F28: =IF(B_TP_Kalkulation!J22>0,B_TP_Kalkulation!J22,0) -> 0 | J28: =B_TP_Kalkulation!L22 -> 0 | L28: =IF(AND(F28>0,J28=0),"Bitte Angaben prüfen!","")
C29: Pflegegrad 1 | H29: 1: | I29: =B_TP_Kalkulation!I17 -> 0 | L29: =IF(AND(F$28>0,I29=0),"Bitte Angaben prüfen!","")
C30: Pflegegrad 2 | H30: 1: | I30: =B_TP_Kalkulation!I18 -> 0 | L30: =IF(AND(F$28>0,I30=0),"Bitte Angaben prüfen!","")
C31: Pflegegrad 3 | H31: 1: | I31: =B_TP_Kalkulation!I19 -> 0 | L31: =IF(AND(F$28>0,I31=0),"Bitte Angaben prüfen!","")
C32: Pflegegrad 4 | H32: 1: | I32: =B_TP_Kalkulation!I20 -> 0 | L32: =IF(AND(F$28>0,I32=0),"Bitte Angaben prüfen!","")
C33: Pflegegrad 5 | H33: 1: | I33: =B_TP_Kalkulation!I21 -> 0 | L33: =IF(AND(F$28>0,I33=0),"Bitte Angaben prüfen!","")
C34: Fachkraftquote | F34: =B_TP_Kalkulation!I22 -> 0
B36: Betreuung | F36: =B_TP_Kalkulation!J23 -> 0 | H36: 1: | I36: =B_TP_Kalkulation!I23 -> 0 | J36: =B_TP_Kalkulation!L23 -> 0 | L36: =IF(AND(F36>0,J36=0),"Bitte Angaben prüfen!","")
B38: Zusätzliche Betreuung und Aktivierung nach § 43 b SGB XI | F38: =B_TP_Kalkulation!J29 -> 0 | H38: 1: | I38: =B_TP_Kalkulation!I29 -> 20 | J38: =B_TP_Kalkulation!L29 -> 0 | L38: =IF(AND(F38>0,J38=0),"Bitte Angaben prüfen!","")
B40: Leitung / Verwaltung | F40: =B_TP_Kalkulation!J24 -> 0 | H40: 1: | I40: =B_TP_Kalkulation!J24 -> 0 | J40: =B_TP_Kalkulation!L24 -> 0 | L40: =IF(AND(F40>0,J40=0),"Bitte Angaben prüfen!","")
B42: Hauswirtschaft | F42: =B_TP_Kalkulation!J25 -> 0 | H42: 1: | I42: =B_TP_Kalkulation!I25 -> 0 | J42: =B_TP_Kalkulation!L25 -> 0 | L42: =IF(AND(F42>0,J42=0),"Bitte Angaben prüfen!","")
B44: Küche | F44: =B_TP_Kalkulation!J26 -> 0 | H44: 1: | I44: =B_TP_Kalkulation!I26 -> 0 | J44: =B_TP_Kalkulation!L26 -> 0 | L44: =IF(AND(F44>0,J44=0),"Bitte Angaben prüfen!","")
B46: Haustechnik | F46: =B_TP_Kalkulation!J27 -> 0 | H46: 1: | I46: =B_TP_Kalkulation!I27 -> 0 | J46: =B_TP_Kalkulation!L27 -> 0 | L46: =IF(AND(F46>0,J46=0),"Bitte Angaben prüfen!","")
F48: Anzahl: | J48: Kosten je Stelle
B49: Einsatzstellen Freiwillige Dienste / FSJ | F49: =B_TP_Kalkulation!J28 -> 0 | J49: =B_TP_Kalkulation!L28 -> 0 | L49: =IF(AND(F49>0,J49=0),"Bitte Angaben prüfen!","")
B51: Sachaufwendungen (gesamt): | I51: Fremdleistungen / Leistungen des Trägers (gesamt):
B53: 2.1. Lebensmittel | F53: =B_TP_Gesamtkalkulation!D27 -> 0 | I53: 3.1. Küche | L53: =B_TP_Gesamtkalkulation!D39 -> 0
B54: 2.2. pflegerischer Sachbedarf | F54: =B_TP_Gesamtkalkulation!D28 -> 0 | I54: 3.2. Wäscherei | L54: =B_TP_Gesamtkalkulation!D40 -> 0
B55: 2.3. Wasser, Energie, Brennstoffe | F55: =B_TP_Gesamtkalkulation!D29 -> 0 | I55: 3.3. Reinigung | L55: =B_TP_Gesamtkalkulation!D41 -> 0
B56: 2.4. Verwaltungsbedarf | F56: =B_TP_Gesamtkalkulation!D30 -> 0 | I56: 3.4. Verwaltung | L56: =B_TP_Gesamtkalkulation!D42 -> 0
B57: 2.5. Zentrale Verwaltungsdienste | F57: =B_TP_Gesamtkalkulation!D31 -> 0 | I57: 3.5. Haustechnik | L57: =B_TP_Gesamtkalkulation!D43 -> 0
B58: 2.6. Betreuungsaufwand | F58: =B_TP_Gesamtkalkulation!D32 -> 0 | I58: ="3.6. "&IF(B_TP_Kalkulation!I50<>"",B_TP_Kalkulation!I50,"") -> 3.6. | L58: =B_TP_Gesamtkalkulation!D44 -> 0
...

Sheet B_TP_Gesamtkalkulation
A1: ='B_TP_Allgemeine Angaben'!A1 -> Vereinfachtes Verfahren der Aufforderung zum Abschluss einer Pflegesatzvereinbarung gemäß § 84, 85 SGB XI - teilstationäre Pflegeeinrichtungen | X1: 43076 | Y1: 43762 | Z1: 43782 | AA1: 43804
A2: Gesamtkalkulation | X2: Stand:13.12.2017 Druckbereich angepasst (einschl. Zeilen 53 und 54)
A3: ='B_TP_Allgemeine Angaben'!A3
A4: ='B_TP_Allgemeine Angaben'!A4 | X4: 27.06.2019:
E5: GELBER TEIL | J5: Öffnungstage | L5: Auslastung | N5: Divisor allg | P5: Tage/Monat
C6: Gesamtplätze: | D6: =IF('B_TP_Allgemeine Angaben'!L47>0,'B_TP_Allgemeine Angaben'!L47,"") | E6: WIRD AUS- | J6: =IF(B_TP_Kalkulation!I6>0,B_TP_Kalkulation!I6,"") | L6: =IF(B_TP_Kalkulation!D6>0,B_TP_Kalkulation!D6,"") | N6: =IFERROR(L6*J6*'B_TP_Allgemeine Angaben'!L47/100,"") | P6: =IFERROR(ROUND(J6/12,2),"")
E8: GEBLENDET | J8: § 43b: | L8: =IF('B_TP_Allgemeine Angaben'!D7="vst",100,IF('B_TP_Allgemeine Angaben'!D7="kzp",100,L6)) | N8: =IFERROR(B_TP_Kalkulation!L12*J6*L8/100,"") | X8: Verknüpfung der Gesamtkalkulation mit dem neuen Tab. Kalkulation
X9: - D16 bis D 45 Gesamtaufwendungen werden aus Tab. Kalkulation (geforderten Werte) gezogen
D10: Plätze: | E10: =SUM(H10:P10) -> 0 | H10: =B_TP_Kalkulation!H14 -> 0 | J10: =B_TP_Kalkulation!I14 -> 0 | L10: =B_TP_Kalkulation!J14 -> 0 | N10: =B_TP_Kalkulation!K14 -> 0 | P10: =B_TP_Kalkulation!L14 -> 0 | X10: - Formeln in Zelle G17;I17;K17;M17;o17 angepasst mit Bezug zu Tab Kalkualtion
D11: Divisor: | E11: =SUM(H11:P11) -> 0 | H11: =IFERROR(H10*$J$6*$L$6/100,"") | J11: =IFERROR(J10*$J$6*$L$6/100,"") | L11: =IFERROR(L10*$J$6*$L$6/100,"") | N11: =IFERROR(N10*$J$6*$L$6/100,"") | P11: =IFERROR(P10*$J$6*$L$6/100,"")
D12: Leistungsbetrag § 43 SGB XI (nur vollstationär): | J12: 805 | L12: 1319 | N12: 1855 | P12: 2096 | X12: Zelle J6 => Formel angepasst, Bezug jetzt zu Tab. Kalkulation
X13: Zelle L6 => Formel angepasst, Bezug jetzt zu Tab. Kalkulation
G14: Aufwendungen für Leistungen im Pflegegrad 1 | H14: Aufwendungen für Leistungen im Pflegegrad 1 | I14: Aufwendungen für Leistungen im Pflegegrad 2 | J14: Aufwendungen für Leistungen im Pflegegrad 2 | K14: Aufwendungen für Leistungen im Pflegegrad 3 | L14: Aufwendungen für Leistungen im Pflegegrad 3 | M14: Aufwendungen für Leistungen im Pflegegrad 4 | N14: Aufwendungen für Leistungen im Pflegegrad 4 | O14: Aufwendungen für Leistungen im Pflegegrad 5 | P14: Aufwendungen für Leistungen im Pflegegrad 5 | Q14: Aufwendungen für die Unterkunft | R14: Aufwendungen für die Unterkunft | S14: Aufwendungen für die Verpflegung | T14: Aufwendungen für die Verpflegung | U14: Aufwendungen für § 43b | V14: Aufwendungen für § 43b | X14: Zelle N6 => Formel angepasst bisher Bezug zu Divisor?, jetzt Platzzahl * Tage * Auslastung
D15: Gesamtaufwendungen | E15: Plausi Ges. | F15: ANT am PS | G15: Gesamt in € | H15: €/Tag | I15: Gesamt in € | J15: €/Tag | K15: Gesamt in € | L15: €/Tag | M15: Gesamt in € | N15: €/Tag | O15: Gesamt in € | P15: €/Tag | Q15: Gesamt in € | R15: €/Tag | S15: Gesamt in € | T15: €/Tag | U15: Gesamt in € | V15: €/Tag | X15: Formeln in Zellen I,K;M,O,R 28-36 + 39-45 und D27 angepasst, bisher mit Divisor gerechnet jetzt Bezug $N$6
B16: 1. | C16: Personalaufwendungen (ohne 1.3.) | D16: =IF(SUM(D17:D18,D20:D24)=0,"",SUM(D17:D18,D20:D24)) | E16: =G16+I16+K16+M16+O16+Q16 -> #DIV/0! | G16: =SUM(G17:G24) -> #DIV/0! | H16: =SUM(H17:H24) -> #DIV/0! | I16: =SUM(I17:I24) -> #DIV/0! | J16: =SUM(J17:J24) -> #DIV/0! | K16: =SUM(K17:K24) -> #DIV/0! | L16: =SUM(L17:L24) -> #DIV/0! | M16: =SUM(M17:M24) -> #DIV/0! | N16: =SUM(N17:N24) -> #DIV/0! | ... P16: =SUM(P17:P24) -> #DIV/0! | Q16: =SUM(Q20:Q24) -> 0 | R16: =SUM(R20:R24) -> #VALUE!
B17: 1.1. | C17: Pflege inklusive QM | D17: =IF((B_TP_Kalkulation!L22*B_TP_Kalkulation!J22)=0,0,(B_TP_Kalkulation!L22*B_TP_Kalkulation!J22)) -> 0 | E17: =G17+I17+K17+M17+O17 -> #DIV/0! | F17: 1 | G17: =IF('B_TP_Allgemeine Angaben'!D7<>"vst",$D17*$F17/B_TP_Kalkulation!J22*B_TP_Kalkulation!H14/B_TP_Kalkulation!I17,B_TP_Gesamtkalkulation!$D$17*$F17*KAT!E69) -> #DIV/0! | H17: =G17/$H$11 -> #DIV/0! | I17: =IF('B_TP_Allgemeine Angaben'!D7<>"vst",$D17*$F17/B_TP_Kalkulation!J22*B_TP_Kalkulation!I14/B_TP_Kalkulation!I18,B_TP_Gesamtkalkulation!$D$17*$F17*KAT!E70) -> #DIV/0! | J17: =I17/$J$11 -> #DIV/0! | K17: =IF('B_TP_Allgemeine Angaben'!D7<>"vst",$D17*$F17/B_TP_Kalkulation!J22*B_TP_Kalkulation!J14/B_TP_Kalkulation!I19,B_TP_Gesamtkalkulation!D17*$F17*KAT!E71) -> #DIV/0! | L17: =K17/$L$11 -> #DIV/0! | M17: =IF('B_TP_Allgemeine Angaben'!D7<>"vst",$D17*$F17/B_TP_Kalkulation!J22*B_TP_Kalkulation!K14/B_TP_Kalkulation!I20,B_TP_Gesamtkalkulation!$D$17*$F17*KAT!E72) -> #DIV/0! | N17: =M17/$N$11 -> #DIV/0! | O17: =IF('B_TP_Allgemeine Angaben'!D7<>"vst",$D17*$F17/B_TP_Kalkulation!J22*B_TP_Kalkulation!L14/B_TP_Kalkulation!I21,B_TP_Gesamtkalkulation!$D$17*$F17*KAT!E73) -> #DIV/0! | P17: =O17/$P$11 -> #DIV/0! | X17: Zellen: G17;I17;K17;M17;O17 erweiter um Wennfunktion, sofern vst. Einrichtung Verteilung der PK Pflege nach prozentualer Verteilung des PersonalsPflege siehe TAB Kat, ansonsten erfolgt die Verteilung mit Hilfe von PR
B18: 1.2. | C18: Betreuung | D18: =IF((B_TP_Kalkulation!L23*B_TP_Kalkulation!J23)=0,0,(B_TP_Kalkulation!L23*B_TP_Kalkulation!J23)) -> 0 | E18: =G18+I18+K18+M18+O18+Q18 -> #VALUE! | F18: 1 | G18: =D18*F18/$N$6*$H$11 -> #VALUE! | H18: =G18/$H$11 -> #VALUE! | I18: =D18*F18/$N$6*$J$11 -> #VALUE! | J18: =I18/$J$11 -> #VALUE! | K18: =D18*F18/$N$6*$L$11 -> #VALUE! | L18: =K18/$L$11 -> #VALUE! | M18: =D18*F18/$N$6*$N$11 -> #VALUE! | N18: =M18/$N$11 -> #VALUE! | O18: =D18*F18/$N$6*$P$11 -> #VALUE! | P18: =O18/$P$11 -> #VALUE!
B19: 1.3. | C19: zusätzliche Betreuung und Aktivierung | D19: =IF((B_TP_Kalkulation!L29*B_TP_Kalkulation!J29)=0,0,(B_TP_Kalkulation!L29*B_TP_Kalkulation!J29)) -> 0 | U19: =D19 -> 0 | V19: =U19/$N$8 -> #VALUE! | X19: 13.11.2019:bisher wurden bei einem leeren Antrag in Zellen D16 bis D23 Nullwerte angezeigt, Korrektur durch eine Wennfunktion,
B20: 1.4. | C20: Leitung/ Verwaltung | D20: =IF((B_TP_Kalkulation!L24*B_TP_Kalkulation!J24)=0,0,(B_TP_Kalkulation!L24*B_TP_Kalkulation!J24)) -> 0 | E20: =G20+I20+K20+M20+O20+Q20 -> #VALUE! | F20: 0.5 | G20: =D20*F20/$N$6*$H$11 -> #VALUE! | H20: =G20/$H$11 -> #VALUE! | I20: =D20*F20/$N$6*$J$11 -> #VALUE! | J20: =I20/$J$11 -> #VALUE! | K20: =D20*F20/$N$6*$L$11 -> #VALUE! | L20: =K20/$L$11 -> #VALUE! | M20: =D20*F20/$N$6*$N$11 -> #VALUE! | N20: =M20/$N$11 -> #VALUE! | O20: =D20*F20/$N$6*$P$11 -> #VALUE! | P20: =O20/$P$11 -> #VALUE! | Q20: =D20*F20 -> 0 | R20: =Q20/$N$6 -> #VALUE! | X20: 05.12.2019 Veränderung vom 13.11.2019 in Formeln D16 bis D23 aufgehoben, Anzeige Nullwert, da excel mit "Wert" nicht rechnen kann
B21: 1.5. | C21: Hauswirtschaft | D21: =IF((B_TP_Kalkulation!L25*B_TP_Kalkulation!J25)=0,0,(B_TP_Kalkulation!L25*B_TP_Kalkulation!J25)) -> 0 | E21: =G21+I21+K21+M21+O21+Q21 -> #VALUE! | F21: 0.5 | G21: =D21*F21/$N$6*$H$11 -> #VALUE! | H21: =G21/$H$11 -> #VALUE! | I21: =D21*F21/$N$6*$J$11 -> #VALUE! | J21: =I21/$J$11 -> #VALUE! | K21: =D21*F21/$N$6*$L$11 -> #VALUE! | L21: =K21/$L$11 -> #VALUE! | M21: =D21*F21/$N$6*$N$11 -> #VALUE! | N21: =M21/$N$11 -> #VALUE! | O21: =D21*F21/$N$6*$P$11 -> #VALUE! | P21: =O21/$P$11 -> #VALUE! | Q21: =D21*F21 -> 0 | R21: =Q21/$N$6 -> #VALUE!
B22: 1.6. | C22: Küche | D22: =IF((B_TP_Kalkulation!L26*B_TP_Kalkulation!J26)=0,0,(B_TP_Kalkulation!L26*B_TP_Kalkulation!J26)) -> 0 | E22: =G22+I22+K22+M22+O22+Q22 -> #VALUE! | F22: 0.5 | G22: =D22*F22/$N$6*$H$11 -> #VALUE! | H22: =G22/$H$11 -> #VALUE! | I22: =D22*F22/$N$6*$J$11 -> #VALUE! | J22: =I22/$J$11 -> #VALUE! | K22: =D22*F22/$N$6*$L$11 -> #VALUE! | L22: =K22/$L$11 -> #VALUE! | M22: =D22*F22/$N$6*$N$11 -> #VALUE! | N22: =M22/$N$11 -> #VALUE! | O22: =D22*F22/$N$6*$P$11 -> #VALUE! | P22: =O22/$P$11 -> #VALUE! | Q22: =D22*F22 -> 0 | R22: =Q22/$N$6 -> #VALUE!
B23: 1.7. | C23: Haustechnik | D23: =IF((B_TP_Kalkulation!L27*B_TP_Kalkulation!J27)=0,0,(B_TP_Kalkulation!L27*B_TP_Kalkulation!J27)) -> 0 | E23: =G23+I23+K23+M23+O23+Q23 -> #VALUE! | F23: 0.5 | G23: =D23*F23/$N$6*$H$11 -> #VALUE! | H23: =G23/$H$11 -> #VALUE! | I23: =D23*F23/$N$6*$J$11 -> #VALUE! | J23: =I23/$J$11 -> #VALUE! | K23: =D23*F23/$N$6*$L$11 -> #VALUE! | L23: =K23/$L$11 -> #VALUE! | M23: =D23*F23/$N$6*$N$11 -> #VALUE! | N23: =M23/$N$11 -> #VALUE! | O23: =D23*F23/$N$6*$P$11 -> #VALUE! | P23: =O23/$P$11 -> #VALUE! | Q23: =D23*F23 -> 0 | R23: =Q23/$N$6 -> #VALUE!
B24: 1.8. | C24: Freiwillige Dienste, FSJ | D24: =B_TP_Kalkulation!L28*B_TP_Kalkulation!J28 -> 0 | E24: =G24+I24+K24+M24+O24+Q24 -> #VALUE! | F24: 0.5 | G24: =D24*F24/$N$6*$H$11 -> #VALUE! | H24: =G24/$H$11 -> #VALUE! | I24: =D24*F24/$N$6*$J$11 -> #VALUE! | J24: =I24/$J$11 -> #VALUE! | K24: =D24*F24/$N$6*$L$11 -> #VALUE! | L24: =K24/$L$11 -> #VALUE! | M24: =D24*F24/$N$6*$N$11 -> #VALUE! | N24: =M24/$N$11 -> #VALUE! | O24: =D24*F24/$N$6*$P$11 -> #VALUE! | P24: =O24/$P$11 -> #VALUE! | Q24: =D24*F24 -> 0 | R24: =Q24/$N$6 -> #VALUE!
B26: 2. | C26: Sachaufwendungen | D26: =SUM(D27:D36) -> 0 | E26: =G26+I26+K26+M26+O26+Q26+S26 -> #VALUE! | G26: =SUM(G28:G36) -> #VALUE! | H26: =SUM(H28:H36) -> #VALUE! | I26: =SUM(I28:I36) -> #VALUE! | J26: =SUM(J28:J36) -> #VALUE! | K26: =SUM(K28:K36) -> #VALUE! | L26: =SUM(L28:L36) -> #VALUE! | M26: =SUM(M28:M36) -> #VALUE! | N26: =SUM(N28:N36) -> #VALUE! | ... P26: =SUM(P28:P36) -> #VALUE! | Q26: =SUM(Q29:Q36) -> 0 | R26: =SUM(R29:R36) -> #VALUE! | S26: =SUM(S27:S36) -> 0 | T26: =SUM(T27:T36) -> #VALUE!
B27: 2.1 | C27: Lebensmittel | D27: =B_TP_Kalkulation!L32 -> 0 | S27: =D27 -> 0 | T27: =S27/$N$6 -> #VALUE!
B28: 2.2 | C28: Pflegerischer Bedarf | D28: =B_TP_Kalkulation!L33 -> 0 | E28: =G28+I28+K28+M28+O28+Q28+S28 -> #VALUE! | F28: 1 | G28: =D28*F28/$N$6*$H$11 -> #VALUE! | H28: =G28/$H$11 -> #VALUE! | I28: =D28*F28/$N$6*$J$11 -> #VALUE! | J28: =I28/$J$11 -> #VALUE! | K28: =D28*F28/$N$6*$L$11 -> #VALUE! | L28: =K28/$L$11 -> #VALUE! | M28: =D28*F28/$N$6*$N$11 -> #VALUE! | N28: =M28/$N$11 -> #VALUE! | O28: =D28*F28/$N$6*$P$11 -> #VALUE! | P28: =O28/$P$11 -> #VALUE!
B29: 2.3 | C29: Wasser/ Energie/ Brennstoffe | D29: =B_TP_Kalkulation!L34 -> 0 | E29: =G29+I29+K29+M29+O29+Q29+S29 -> #VALUE! | F29: 0.5 | G29: =D29*F29/$N$6*$H$11 -> #VALUE! | H29: =G29/$H$11 -> #VALUE! | I29: =D29*F29/$N$6*$J$11 -> #VALUE! | J29: =I29/$J$11 -> #VALUE! | K29: =D29*F29/$N$6*$L$11 -> #VALUE! | L29: =K29/$L$11 -> #VALUE! | M29: =D29*F29/$N$6*$N$11 -> #VALUE! | N29: =M29/$N$11 -> #VALUE! | O29: =D29*F29/$N$6*$P$11 -> #VALUE! | P29: =O29/$P$11 -> #VALUE! | Q29: =D29*F29 -> 0 | R29: =Q29/$N$6 -> #VALUE!
B30: 2.4 | C30: Verwaltungsbedarf | D30: =B_TP_Kalkulation!L35 -> 0 | E30: =G30+I30+K30+M30+O30+Q30+S30 -> #VALUE! | F30: 0.5 | G30: =D30*F30/$N$6*$H$11 -> #VALUE! | H30: =G30/$H$11 -> #VALUE! | I30: =D30*F30/$N$6*$J$11 -> #VALUE! | J30: =I30/$J$11 -> #VALUE! | K30: =D30*F30/$N$6*$L$11 -> #VALUE! | L30: =K30/$L$11 -> #VALUE! | M30: =D30*F30/$N$6*$N$11 -> #VALUE! | N30: =M30/$N$11 -> #VALUE! | O30: =D30*F30/$N$6*$P$11 -> #VALUE! | P30: =O30/$P$11 -> #VALUE! | Q30: =D30*F30 -> 0 | R30: =Q30/$N$6 -> #VALUE!
B31: 2.5 | C31: Zentrale Verwaltungsdienste | D31: =B_TP_Kalkulation!L36 -> 0 | E31: =G31+I31+K31+M31+O31+Q31+S31 -> #VALUE! | F31: 0.5 | G31: =D31*F31/$N$6*$H$11 -> #VALUE! | H31: =G31/$H$11 -> #VALUE! | I31: =D31*F31/$N$6*$J$11 -> #VALUE! | J31: =I31/$J$11 -> #VALUE! | K31: =D31*F31/$N$6*$L$11 -> #VALUE! | L31: =K31/$L$11 -> #VALUE! | M31: =D31*F31/$N$6*$N$11 -> #VALUE! | N31: =M31/$N$11 -> #VALUE! | O31: =D31*F31/$N$6*$P$11 -> #VALUE! | P31: =O31/$P$11 -> #VALUE! | Q31: =D31*F31 -> 0 | R31: =Q31/$N$6 -> #VALUE!
B32: 2.6 | C32: Betreuungsaufwand | D32: =B_TP_Kalkulation!L37 -> 0 | E32: =G32+I32+K32+M32+O32+Q32+S32 -> #VALUE! | F32: 1 | G32: =D32*F32/$N$6*$H$11 -> #VALUE! | H32: =G32/$H$11 -> #VALUE! | I32: =D32*F32/$N$6*$J$11 -> #VALUE! | J32: =I32/$J$11 -> #VALUE! | K32: =D32*F32/$N$6*$L$11 -> #VALUE! | L32: =K32/$L$11 -> #VALUE! | M32: =D32*F32/$N$6*$N$11 -> #VALUE! | N32: =M32/$N$11 -> #VALUE! | O32: =D32*F32/$N$6*$P$11 -> #VALUE! | P32: =O32/$P$11 -> #VALUE!
B33: 2.7 | C33: Wirtschaftsbedarf | D33: =B_TP_Kalkulation!L38 -> 0 | E33: =G33+I33+K33+M33+O33+Q33+S33 -> #VALUE! | F33: 0.5 | G33: =D33*F33/$N$6*$H$11 -> #VALUE! | H33: =G33/$H$11 -> #VALUE! | I33: =D33*F33/$N$6*$J$11 -> #VALUE! | J33: =I33/$J$11 -> #VALUE! | K33: =D33*F33/$N$6*$L$11 -> #VALUE! | L33: =K33/$L$11 -> #VALUE! | M33: =D33*F33/$N$6*$N$11 -> #VALUE! | N33: =M33/$N$11 -> #VALUE! | O33: =D33*F33/$N$6*$P$11 -> #VALUE! | P33: =O33/$P$11 -> #VALUE! | Q33: =D33*F33 -> 0 | R33: =Q33/$N$6 -> #VALUE!
B34: 2.8 | C34: Steuern/ Abgaben/ Versicherungen | D34: =B_TP_Kalkulation!L39 -> 0 | E34: =G34+I34+K34+M34+O34+Q34+S34 -> #VALUE! | F34: 0.5 | G34: =D34*F34/$N$6*$H$11 -> #VALUE! | H34: =G34/$H$11 -> #VALUE! | I34: =D34*F34/$N$6*$J$11 -> #VALUE! | J34: =I34/$J$11 -> #VALUE! | K34: =D34*F34/$N$6*$L$11 -> #VALUE! | L34: =K34/$L$11 -> #VALUE! | M34: =D34*F34/$N$6*$N$11 -> #VALUE! | N34: =M34/$N$11 -> #VALUE! | O34: =D34*F34/$N$6*$P$11 -> #VALUE! | P34: =O34/$P$11 -> #VALUE! | Q34: =D34*F34 -> 0 | R34: =Q34/$N$6 -> #VALUE!
B35: 2.9 | C35: Wartung (keine Instandhaltung) | D35: =B_TP_Kalkulation!L40 -> 0 | E35: =G35+I35+K35+M35+O35+Q35+S35 -> #VALUE! | F35: 0.5 | G35: =D35*F35/$N$6*$H$11 -> #VALUE! | H35: =G35/$H$11 -> #VALUE! | I35: =D35*F35/$N$6*$J$11 -> #VALUE! | J35: =I35/$J$11 -> #VALUE! | K35: =D35*F35/$N$6*$L$11 -> #VALUE! | L35: =K35/$L$11 -> #VALUE! | M35: =D35*F35/$N$6*$N$11 -> #VALUE! | N35: =M35/$N$11 -> #VALUE! | O35: =D35*F35/$N$6*$P$11 -> #VALUE! | P35: =O35/$P$11 -> #VALUE! | Q35: =D35*F35 -> 0 | R35: =Q35/$N$6 -> #VALUE!
B36: 2.10 | C36: sonstige Aufwendugnen | D36: =B_TP_Kalkulation!L41 -> 0 | E36: =G36+I36+K36+M36+O36+Q36+S36 -> #VALUE! | F36: 0.5 | G36: =D36*F36/$N$6*$H$11 -> #VALUE! | H36: =G36/$H$11 -> #VALUE! | I36: =D36*F36/$N$6*$J$11 -> #VALUE! | J36: =I36/$J$11 -> #VALUE! | K36: =D36*F36/$N$6*$L$11 -> #VALUE! | L36: =K36/$L$11 -> #VALUE! | M36: =D36*F36/$N$6*$N$11 -> #VALUE! | N36: =M36/$N$11 -> #VALUE! | O36: =D36*F36/$N$6*$P$11 -> #VALUE! | P36: =O36/$P$11 -> #VALUE! | Q36: =D36*F36 -> 0 | R36: =Q36/$N$6 -> #VALUE!
B38: 3. | C38: Fremdleistungen / Trägerleistungen | D38: =SUM(D39:D45) -> 0 | E38: =SUM(E39:E45) -> #VALUE! | G38: =SUM(G39:G45) -> #VALUE! | H38: =SUM(H39:H45) -> #VALUE! | I38: =SUM(I39:I45) -> #VALUE! | J38: =SUM(J39:J45) -> #VALUE! | K38: =SUM(K39:K45) -> #VALUE! | L38: =SUM(L39:L45) -> #VALUE! | M38: =SUM(M39:M45) -> #VALUE! | N38: =SUM(N39:N45) -> #VALUE! | ... R38: =SUM(R39:R45) -> #VALUE!
B39: =B_TP_Kalkulation!H45 -> 3.1. | C39: Küche (ohne Pkt. 2.1) | D39: =B_TP_Kalkulation!L45 -> 0 | E39: =G39+I39+K39+M39+O39+Q39 -> #VALUE! | F39: 0.5 | G39: =D39*F39/$N$6*$H$11 -> #VALUE! | H39: =G39/$H$11 -> #VALUE! | I39: =D39*F39/$N$6*$J$11 -> #VALUE! | J39: =I39/$J$11 -> #VALUE! | K39: =D39*F39/$N$6*$L$11 -> #VALUE! | L39: =K39/$L$11 -> #VALUE! | M39: =D39*F39/$N$6*$N$11 -> #VALUE! | N39: =M39/$N$11 -> #VALUE! | O39: =D39*F39/$N$6*$P$11 -> #VALUE! | P39: =O39/$P$11 -> #VALUE! | Q39: =D39*F39 -> 0 | R39: =Q39/$N$6 -> #VALUE! | X39: H47 bisher | Y39: =WENN(Belegung!E26=0;RUNDEN(Gesamtkalkulation!J51*0,78;2);RUNDEN((Gesamtkalkulation!H16+Gesamtkalkulation!H26+Gesamtkalkulation!H38);2))
B40: =B_TP_Kalkulation!H46 -> 3.2. | C40: =B_TP_Kalkulation!I46 -> Wäscherei | D40: =B_TP_Kalkulation!L46 -> 0 | E40: =G40+I40+K40+M40+O40+Q40 -> #VALUE! | F40: 0.5 | G40: =D40*F40/$N$6*$H$11 -> #VALUE! | H40: =G40/$H$11 -> #VALUE! | I40: =D40*F40/$N$6*$J$11 -> #VALUE! | J40: =I40/$J$11 -> #VALUE! | K40: =D40*F40/$N$6*$L$11 -> #VALUE! | L40: =K40/$L$11 -> #VALUE! | M40: =D40*F40/$N$6*$N$11 -> #VALUE! | N40: =M40/$N$11 -> #VALUE! | O40: =D40*F40/$N$6*$P$11 -> #VALUE! | P40: =O40/$P$11 -> #VALUE! | Q40: =D40*F40 -> 0 | R40: =Q40/$N$6 -> #VALUE! | X40: H47 neu | Y40: =WENN(Kalkulation!H14=0;RUNDEN(Gesamtkalkulation!J51*0,78;2);RUNDEN((Gesamtkalkulation!H16+Gesamtkalkulation!H26+Gesamtkalkulation!H38);2))
B41: =B_TP_Kalkulation!H47 -> 3.3. | C41: =B_TP_Kalkulation!I47 -> Reinigung | D41: =B_TP_Kalkulation!L47 -> 0 | E41: =G41+I41+K41+M41+O41+Q41 -> #VALUE! | F41: 0.5 | G41: =D41*F41/$N$6*$H$11 -> #VALUE! | H41: =G41/$H$11 -> #VALUE! | I41: =D41*F41/$N$6*$J$11 -> #VALUE! | J41: =I41/$J$11 -> #VALUE! | K41: =D41*F41/$N$6*$L$11 -> #VALUE! | L41: =K41/$L$11 -> #VALUE! | M41: =D41*F41/$N$6*$N$11 -> #VALUE! | N41: =M41/$N$11 -> #VALUE! | O41: =D41*F41/$N$6*$P$11 -> #VALUE! | P41: =O41/$P$11 -> #VALUE! | Q41: =D41*F41 -> 0 | R41: =Q41/$N$6 -> #VALUE!
B42: =B_TP_Kalkulation!H48 -> 3.4. | C42: =B_TP_Kalkulation!I48 -> Verwaltung | D42: =B_TP_Kalkulation!L48 -> 0 | E42: =G42+I42+K42+M42+O42+Q42 -> #VALUE! | F42: 0.5 | G42: =D42*F42/$N$6*$H$11 -> #VALUE! | H42: =G42/$H$11 -> #VALUE! | I42: =D42*F42/$N$6*$J$11 -> #VALUE! | J42: =I42/$J$11 -> #VALUE! | K42: =D42*F42/$N$6*$L$11 -> #VALUE! | L42: =K42/$L$11 -> #VALUE! | M42: =D42*F42/$N$6*$N$11 -> #VALUE! | N42: =M42/$N$11 -> #VALUE! | O42: =D42*F42/$N$6*$P$11 -> #VALUE! | P42: =O42/$P$11 -> #VALUE! | Q42: =D42*F42 -> 0 | R42: =Q42/$N$6 -> #VALUE! | X42: 01.07.2019/ Formel in Zelle J51/L51/N51/P51 mit Bezug zu Tab KAT angepasst
B43: =B_TP_Kalkulation!H49 -> 3.5. | C43: =B_TP_Kalkulation!I49 -> Haustechnik | D43: =B_TP_Kalkulation!L49 -> 0 | E43: =G43+I43+K43+M43+O43+Q43 -> #VALUE! | F43: 0.5 | G43: =D43*F43/$N$6*$H$11 -> #VALUE! | H43: =G43/$H$11 -> #VALUE! | I43: =D43*F43/$N$6*$J$11 -> #VALUE! | J43: =I43/$J$11 -> #VALUE! | K43: =D43*F43/$N$6*$L$11 -> #VALUE! | L43: =K43/$L$11 -> #VALUE! | M43: =D43*F43/$N$6*$N$11 -> #VALUE! | N43: =M43/$N$11 -> #VALUE! | O43: =D43*F43/$N$6*$P$11 -> #VALUE! | P43: =O43/$P$11 -> #VALUE! | Q43: =D43*F43 -> 0 | R43: =Q43/$N$6 -> #VALUE!
...

Sheet B3_Ergebnis (alt)
A1: ='B_TP_Allgemeine Angaben'!A1 -> Vereinfachtes Verfahren der Aufforderung zum Abschluss einer Pflegesatzvereinbarung gemäß § 84, 85 SGB XI - teilstationäre Pflegeeinrichtungen
A2: ERGEBNIS
B3: Entlohnung nach: | C3: unmittelbare Bindung Tarif/AVR
B5: Pflegeeinrichtung: | F5: Ein.-Art | G5: =IF('B_TP_Allgemeine Angaben'!D6:D6>0,'B_TP_Allgemeine Angaben'!D6:D6,"") -> teilstationäre Pflege
B6: =IF('B_TP_Allgemeine Angaben'!D12>0,'B_TP_Allgemeine Angaben'!D12,"") | F6: Telefon: | G6: =IF('B_TP_Allgemeine Angaben'!D18:D18>0,'B_TP_Allgemeine Angaben'!D18:D18,"")
B7: =IF('B_TP_Allgemeine Angaben'!D14>0,'B_TP_Allgemeine Angaben'!D14,"") | F7: Fax: | G7: =IF('B_TP_Allgemeine Angaben'!J18:J18>0,'B_TP_Allgemeine Angaben'!J18:J18,"")
B8: =IF('B_TP_Allgemeine Angaben'!D16>0,'B_TP_Allgemeine Angaben'!D16,"") | F8: E-Mail: | G8: =IF('B_TP_Allgemeine Angaben'!D20:D20>0,'B_TP_Allgemeine Angaben'!D20:D20,"")
B9: Institutionskennzeichen (IK): | C9: ='B_TP_Allgemeine Angaben'!L6:L6 -> 0
B10: Trägerdaten:
B11: =IF('B_TP_Allgemeine Angaben'!D26:D26>0,'B_TP_Allgemeine Angaben'!D26:D26,"") | F11: Telefon: | G11: =IF('B_TP_Allgemeine Angaben'!D32:D32>0,'B_TP_Allgemeine Angaben'!D32:D32,"")
B12: =IF('B_TP_Allgemeine Angaben'!D28:D28>0,'B_TP_Allgemeine Angaben'!D28:D28,"") | F12: Fax: | G12: =IF('B_TP_Allgemeine Angaben'!J32:J32>0,'B_TP_Allgemeine Angaben'!J32:J32,"")
B13: =IF('B_TP_Allgemeine Angaben'!D30:D30>0,'B_TP_Allgemeine Angaben'!D30:D30,"") | F13: E-Mail: | G13: =IF('B_TP_Allgemeine Angaben'!D34:D34>0,'B_TP_Allgemeine Angaben'!D34:D34,"")
B15: Vereinbarungszeitraum (prospektiv): | E15: von: | F15: =IF('B_TP_Allgemeine Angaben'!H52>0,'B_TP_Allgemeine Angaben'!H52,"") | G15: bis | H15: =IF('B_TP_Allgemeine Angaben'!K52>0,'B_TP_Allgemeine Angaben'!K52,"")
B17: Belegung je Pflegegrad: | C17: I | D17: II | E17: III | F17: IV | G17: V
B18: Einrichtung: | C18: =B_TP_Kalkulation!H14 -> 0 | D18: =B_TP_Kalkulation!I14 -> 0 | E18: =B_TP_Kalkulation!J14 -> 0 | F18: =B_TP_Kalkulation!K14 -> 0 | G18: =B_TP_Kalkulation!L14 -> 0
B21: Personalrelation Pflege:
B22: Pflegegrad: | C22: I | D22: II | E22: III | F22: IV | G22: V | H22: Fachkraftquote
B23: Einrichtung: | C23: =B_TP_Kalkulation!I17 -> 0 | D23: =B_TP_Kalkulation!I18 -> 0 | E23: =B_TP_Kalkulation!I19 -> 0 | F23: =B_TP_Kalkulation!I20 -> 0 | G23: =B_TP_Kalkulation!I21 -> 0 | H23: =B_TP_Kalkulation!I22 -> 0
B26: Personalrelationen außerhalb der Pflege: | C26: Betreuung | D26: Leitung/Ver-waltung | E26: Hauswirtschaft | F26: Küche | G26: Haustechnik | H26: zusätzliche Betreuung § 43b SGB XI | I26: FSJ/BFD Anzahl Stellen
B27: Einrichtung: | C27: =B_TP_Kalkulation!I23 -> 0 | D27: =B_TP_Kalkulation!I24 -> 0 | E27: =B_TP_Kalkulation!I25 -> 0 | F27: =B_TP_Kalkulation!I26 -> 0 | G27: =B_TP_Kalkulation!I27 -> 0 | H27: =B_TP_Kalkulation!I29 -> 20 | I27: =B_TP_Kalkulation!J28 -> 0
B30: Personalaufwendungen:
B31: Pflege | C31: Betreuung | D31: Leitung/Ver-waltung | E31: Hauswirtschaft | F31: Küche | G31: Haustechnik | H31: zusätzliche Betreuung § 43b SGB XI | I31: FSJ/BFD Anzahl Stellen
B32: =B_TP_Kalkulation!L22 -> 0 | C32: =B_TP_Kalkulation!L23 -> 0 | D32: =B_TP_Kalkulation!L24 -> 0 | E32: =B_TP_Kalkulation!L25 -> 0 | F32: =B_TP_Kalkulation!L26 -> 0 | G32: =B_TP_Kalkulation!L27 -> 0 | H32: =B_TP_Kalkulation!J29 -> 0 | I32: =B_TP_Kalkulation!J28 -> 0
B33: Sachaufwendungen:
B34: =B_TP_Kalkulation!I32 -> Lebensmittel | C34: =B_TP_Kalkulation!I33 -> pflegerischer Sachbedarf | D34: =B_TP_Kalkulation!I34 -> Wasser, Energie, Brenntstoffe | E34: =B_TP_Kalkulation!I35 -> Verwaltungsbedarf | F34: =B_TP_Kalkulation!I36 -> Zentrale Verwaltungsdienste | G34: =B_TP_Kalkulation!I37 -> Betreuungsaufwand | H34: =B_TP_Kalkulation!I38 -> Wirtschaftsbedarf | I34: =B_TP_Kalkulation!I39 -> Steuern/Abgaben/Versicherungen | J34: =B_TP_Kalkulation!I40 -> Wartung (keine Instandhaltung) | K34: =B_TP_Kalkulation!I41 -> sonstige Aufwendungen | L34: =B_TP_Kalkulation!I42 -> Gesamtsumme:
B35: =B_TP_Kalkulation!$L32 -> 0 | C35: =B_TP_Kalkulation!$L33 -> 0 | D35: =B_TP_Kalkulation!$L34 -> 0 | E35: =B_TP_Kalkulation!$L35 -> 0 | F35: =B_TP_Kalkulation!$L36 -> 0 | G35: =B_TP_Kalkulation!$L37 -> 0 | H35: =B_TP_Kalkulation!$L38 -> 0 | I35: =B_TP_Kalkulation!$L39 -> 0 | J35: =B_TP_Kalkulation!$L40 -> 0 | K35: =B_TP_Kalkulation!$L41 -> 0 | L35: =B_TP_Kalkulation!$L42 -> 0
B36: Fremdleistungen:
B37: =B_TP_Kalkulation!I45 -> Küche | C37: =B_TP_Kalkulation!I46 -> Wäscherei | D37: Wäsche- kennzeichnung | E37: =B_TP_Kalkulation!I48 -> Verwaltung | F37: =B_TP_Kalkulation!I49 -> Haustechnik | G37: =B_TP_Kalkulation!I50 | H37: =B_TP_Kalkulation!I51 | I37: =B_TP_Kalkulation!I52 -> Gesamtsumme:
B38: =B_TP_Kalkulation!L45 -> 0 | C38: =B_TP_Kalkulation!L46 -> 0 | D38: =B_TP_Kalkulation!L47 -> 0 | E38: =B_TP_Kalkulation!L48 -> 0 | F38: =B_TP_Kalkulation!L49 -> 0 | G38: =B_TP_Kalkulation!L50 -> 0 | H38: =B_TP_Kalkulation!L51 -> 0 | I38: =B_TP_Kalkulation!L52 -> 0
B40: Pflegesätze | I40: Vergütungszuschläge für
B41: Pflegegrad: | C41: I | D41: II | E41: III | F41: IV | G41: V | I41: Unterkunft | J41: Verpflegung | K41: § 43b SGB XI | L41: Fahrtkosten
B42: Einrichtung: | C42: =B_TP_Gesamtkalkulation!H51 -> 0 | D42: =B_TP_Gesamtkalkulation!J51 -> 0 | E42: =B_TP_Gesamtkalkulation!L51 -> 0 | F42: =B_TP_Gesamtkalkulation!N51 -> 0 | G42: =B_TP_Gesamtkalkulation!P51 -> 0 | I42: =IFERROR(B_TP_Gesamtkalkulation!R51,0) -> 0 | J42: =IFERROR(B_TP_Gesamtkalkulation!T51,0) -> 0 | K42: =IFERROR(B_TP_Gesamtkalkulation!V51,0) -> 0 | L42: =B_TP_Kalkulation!L16
B45: Die Richtigkeit der Angaben wird bestätigt:
B51: handelnd für alle Kostenträger (Datum, Unterschrift)

Sheet Adressverzeichnis
A1: Adressverzeichnis der Parteien der Pflegesatzvereinbarung gem. § 85 Abs. 2 SGB XI sowie von Vergütungen nach § 75 SGB XII
A5: AOK PLUS - Die Gesundheitskasse für Sachsen und Thüringen
A6: Geschäftsbereich Gesundheitspartner
A7: Bereich Pflege/HKP | E7: =IF('B_TP_Allgemeine Angaben'!K64>5,"x","")
A8: Fachbereich Vertrags- und Qualitätsmanagement SAC
A9: Müllerstraße 41 | G9: pflegesatzverhandlungen_sachsen@plus.aok.de
A10: 09113 Chemnitz
A12: IKK classic | E12: =IF('B_TP_Allgemeine Angaben'!K67>5,"x","") | G12: pflegeverhandlungen-sachsen@ikk-classic.de
A13: Postfach 10 02 51
A14: 01072 Dresden
A16: Knappschaft | E16: =IF('B_TP_Allgemeine Angaben'!K68>5,"x","") | G16: vertrag.chemnitz@kbs.de
A17: Regionaldirektion Chemnitz
A18: Jagdschänkenstraße 50
A19: 09117 Chemnitz
A21: Kommunaler Sozialverband Sachsen | E21: =IF('B_TP_Allgemeine Angaben'!K72>5,"x","") | G21: vereinbarungen-pflege@ksv-sachsen.de
A22: Humboldtstraße 18
A23: 04105 Leipzig
A25: Arbeitsgemeinschaft Betriebskrankenkassen
A27: BKK-Landesverband Mitte | E27: =IF('B_TP_Allgemeine Angaben'!K66>5,"x","") | G27: Pflege-SN@bkkmitte.de
A28: Landesrepräsentanz Sachsen
A29: Dr.-Külz-Ring 12
A30: 01219 Dresden
A32: Arbeitsgemeinschaft Ersatzkassen
A34: vdek - Landesvertretung Sachsen | E34: =IF('B_TP_Allgemeine Angaben'!K65>5,"x","") | G34: verguetung-pflege.sac@vdek.com
A35: Glacisstr. 4
A36: 01099 Dresden
G37: und
A39: BARMER | E39: =IF('B_TP_Allgemeine Angaben'!K65>5,"x","") | G39: pflegesatzverhandlungen_sachsen@barmer.de
A40: Landesvertretung Sachsen
A41: Postfach 12 03 65
A42: 01004 Dresden
A44: Mitglieder:
A45: Techniker Krankenkasse
A46: Barmer
A47: DAK-Gesundheit
A48: Kaufmännische Krankenkasse - KKH
A49: Handelskrankenkasse (hkk)
A50: HEK - Hanseatische Krankenkasse
A53: Verband der Privaten Kranken- | E53: =IF('B_TP_Allgemeine Angaben'!K65>5,"x","") | G53: pflege@pkv.de
A54: versicherung e.V.
...

Sheet Archiv
A2: Steigerungsraten | B2: max bis 2024 | C2: max 2025
A3: Personalkosten | B3: 0.1 | C3: 0.1
A4: Sachaufwendungen | B4: 0.075 | C4: 0.075
A5: Fremdleistung | B5: 0.091 | C5: 0.091
A6: sonstige Stellen | B6: 0.05 | C6: 0.05
A7: Beförderung intern (Preis): | B7: 17.9 | C7: 18.5
A8: Beförderung extern (Preis): | C8: 21
