Workbook

Sheet Anlage Personalaufstellung 
A1: Referenzmodell
A2: Angaben zum Personal in den Bereichen : | R2: Stand 03.11.2025
A3: Pflege, Betreuung, Leitung und Verwaltung, Wirtschaft sowie weiteres Personal
B5: Einrichtung:
B9: IK:
C12: Wir sind an folgenden Tarif/AVR gebunden: | P12: Stand vom:
C13: (§ 72 Abs. 3 a SGB XI)
C14: Unsere Entlohnung ist an nachfolgenden Tarif/AVR angelehnt: | P14: Stand vom:
C15: (§ 72 Abs. 3 b SGB XI)
C16: Unsere Entlohnung erfolgt auf Basis des veröffentlichten regional üblichen Entgeltniveaus
C17: (§ 72 Abs. 3 b SGB XI i.v.m § 3 Abs. 3 der RL des GKV SV nach § 72 Abs. 3 c SGB XI )
P18: AG - Anteil
I19: prospektive Kosten | P19: 0.2175
B21: Fachkräfte in den Bereichen Pflege und Betreuung mit mindestens dreijähriger Berufsausbildung (lt. RL des GKV SV nach § 72 Abs. 3c SGB XI) inkl PDL und Stellv. PDL in der Pflege
B23: Lfd. NR | C23: Einstellungs- Datum | D23: Engelt Gruppe / Stufe (nach Tarif) | E23: Qualifikation / Funktion | F23: wöchentl Arbeits zeit / Std | G23: Arbeits stunden / Monat | H23: Stellen Anteil VZÄ (Basis 40 Std) | I23: Grundlohn / Gehalt monatlich (Basis indiv. Arbeitszeit MA) 1 | J23: Pflegetypische Zulagen monatlich (Basis indiv. Arbeitszeit MA) 2 | K23: ggf. VWL AG-Anteil monatlich (Basis indiv. Arbeitszeit MA) 3 | L23: ggf. Jahres sonder- zahlungen jährlich (Basis indiv. Arbeitszeit MA) 4 | M23: ggf. Bereit schaftsdienst oder Ruf bereitschaft monatlich (Basis indiv. Arbeitszeit MA) 5 | N23: ggf. pflege typische Zuschläge (variabel) monatlich (Basis indiv. Arbeitszeit MA) 6 | O23: Stundenlohn AN Brutto Arbeitszeit normiert (ohne variable Zuschläge) nachrichtlich | P23: ggf. Steuer und SV freie pflegtypische Zuschläge (variabel) monatlich (Basis inidv. Arbeitszeit MA) 6 | Q23: Jahresbruttoentgelt inkl. AG Anteil (ohne Personalnebenkosten wie BG / Fortbildung usw. ) | R23: Jahresbruttoentgelt inkl. AG Anteil je VZÄ
E24: Krankenschwester | G24: =F24*13/3 -> 0 | H24: =F24/40 -> 0 | O24: =IF(G24=0,0,(I24+J24+K24+M24+(L24/12))/G24) -> 0 | Q24: =(I24*12+J24*12+K24*12+L24+M24*12+N24*12)*(1+$P$19)+Tabelle2[[#This Row],[ggf. Steuer und SV freie pflegtypische Zuschläge (variabel) monatlich (Basis inidv. Arbeitszeit MA) 6 ]]*12 -> 0 | R24: =IF(Tabelle2[[#This Row],[Jahresbruttoentgelt inkl. AG Anteil (ohne Personalnebenkosten wie BG / Fortbildung usw. ) ]]=0,0,Q24/F24*40) -> 0
E25: Altenpflegerin | G25: =F25*13/3 -> 0 | H25: =F25/40 -> 0 | O25: =IF(G25=0,0,(I25+J25+K25+M25+(L25/12))/G25) -> 0 | Q25: =(I25*12+J25*12+K25*12+L25+M25*12+N25*12)*(1+$P$19)+Tabelle2[[#This Row],[ggf. Steuer und SV freie pflegtypische Zuschläge (variabel) monatlich (Basis inidv. Arbeitszeit MA) 6 ]]*12 -> 0 | R25: =IF(Tabelle2[[#This Row],[Jahresbruttoentgelt inkl. AG Anteil (ohne Personalnebenkosten wie BG / Fortbildung usw. ) ]]=0,0,Q25/F25*40) -> 0
G26: =F26*13/3 -> 0 | H26: =F26/40 -> 0 | O26: =IF(G26=0,0,(I26+J26+K26+M26+(L26/12))/G26) -> 0 | Q26: =(I26*12+J26*12+K26*12+L26+M26*12+N26*12)*(1+$P$19)+Tabelle2[[#This Row],[ggf. Steuer und SV freie pflegtypische Zuschläge (variabel) monatlich (Basis inidv. Arbeitszeit MA) 6 ]]*12 -> 0 | R26: =IF(Tabelle2[[#This Row],[Jahresbruttoentgelt inkl. AG Anteil (ohne Personalnebenkosten wie BG / Fortbildung usw. ) ]]=0,0,Q26/F26*40) -> 0
G27: =F27*13/3 -> 0 | H27: =F27/40 -> 0 | O27: =IF(G27=0,0,(I27+J27+K27+M27+(L27/12))/G27) -> 0 | Q27: =(I27*12+J27*12+K27*12+L27+M27*12+N27*12)*(1+$P$19)+Tabelle2[[#This Row],[ggf. Steuer und SV freie pflegtypische Zuschläge (variabel) monatlich (Basis inidv. Arbeitszeit MA) 6 ]]*12 -> 0 | R27: =IF(Tabelle2[[#This Row],[Jahresbruttoentgelt inkl. AG Anteil (ohne Personalnebenkosten wie BG / Fortbildung usw. ) ]]=0,0,Q27/F27*40) -> 0
G28: =F28*13/3 -> 0 | H28: =F28/40 -> 0 | O28: =IF(G28=0,0,(I28+J28+K28+M28+(L28/12))/G28) -> 0 | Q28: =(I28*12+J28*12+K28*12+L28+M28*12+N28*12)*(1+$P$19)+Tabelle2[[#This Row],[ggf. Steuer und SV freie pflegtypische Zuschläge (variabel) monatlich (Basis inidv. Arbeitszeit MA) 6 ]]*12 -> 0 | R28: =IF(Tabelle2[[#This Row],[Jahresbruttoentgelt inkl. AG Anteil (ohne Personalnebenkosten wie BG / Fortbildung usw. ) ]]=0,0,Q28/F28*40) -> 0
G29: =F29*13/3 -> 0 | H29: =F29/40 -> 0 | O29: =IF(G29=0,0,(I29+J29+K29+M29+(L29/12))/G29) -> 0 | Q29: =(I29*12+J29*12+K29*12+L29+M29*12+N29*12)*(1+$P$19)+Tabelle2[[#This Row],[ggf. Steuer und SV freie pflegtypische Zuschläge (variabel) monatlich (Basis inidv. Arbeitszeit MA) 6 ]]*12 -> 0 | R29: =IF(Tabelle2[[#This Row],[Jahresbruttoentgelt inkl. AG Anteil (ohne Personalnebenkosten wie BG / Fortbildung usw. ) ]]=0,0,Q29/F29*40) -> 0
G30: =F30*13/3 -> 0 | H30: =F30/40 -> 0 | O30: =IF(G30=0,0,(I30+J30+K30+M30+(L30/12))/G30) -> 0 | Q30: =(I30*12+J30*12+K30*12+L30+M30*12+N30*12)*(1+$P$19)+Tabelle2[[#This Row],[ggf. Steuer und SV freie pflegtypische Zuschläge (variabel) monatlich (Basis inidv. Arbeitszeit MA) 6 ]]*12 -> 0 | R30: =IF(Tabelle2[[#This Row],[Jahresbruttoentgelt inkl. AG Anteil (ohne Personalnebenkosten wie BG / Fortbildung usw. ) ]]=0,0,Q30/F30*40) -> 0
G31: =F31*13/3 -> 0 | H31: =F31/40 -> 0 | O31: =IF(G31=0,0,(I31+J31+K31+M31+(L31/12))/G31) -> 0 | Q31: =(I31*12+J31*12+K31*12+L31+M31*12+N31*12)*(1+$P$19)+Tabelle2[[#This Row],[ggf. Steuer und SV freie pflegtypische Zuschläge (variabel) monatlich (Basis inidv. Arbeitszeit MA) 6 ]]*12 -> 0 | R31: =IF(Tabelle2[[#This Row],[Jahresbruttoentgelt inkl. AG Anteil (ohne Personalnebenkosten wie BG / Fortbildung usw. ) ]]=0,0,Q31/F31*40) -> 0
G32: =F32*13/3 -> 0 | H32: =F32/40 -> 0 | O32: =IF(G32=0,0,(I32+J32+K32+M32+(L32/12))/G32) -> 0 | Q32: =(I32*12+J32*12+K32*12+L32+M32*12+N32*12)*(1+$P$19)+Tabelle2[[#This Row],[ggf. Steuer und SV freie pflegtypische Zuschläge (variabel) monatlich (Basis inidv. Arbeitszeit MA) 6 ]]*12 -> 0 | R32: =IF(Tabelle2[[#This Row],[Jahresbruttoentgelt inkl. AG Anteil (ohne Personalnebenkosten wie BG / Fortbildung usw. ) ]]=0,0,Q32/F32*40) -> 0
G33: =F33*13/3 -> 0 | H33: =F33/40 -> 0 | O33: =IF(G33=0,0,(I33+J33+K33+M33+(L33/12))/G33) -> 0 | Q33: =(I33*12+J33*12+K33*12+L33+M33*12+N33*12)*(1+$P$19)+Tabelle2[[#This Row],[ggf. Steuer und SV freie pflegtypische Zuschläge (variabel) monatlich (Basis inidv. Arbeitszeit MA) 6 ]]*12 -> 0 | R33: =IF(Tabelle2[[#This Row],[Jahresbruttoentgelt inkl. AG Anteil (ohne Personalnebenkosten wie BG / Fortbildung usw. ) ]]=0,0,Q33/F33*40) -> 0
G34: =F34*13/3 -> 0 | H34: =F34/40 -> 0 | O34: =IF(G34=0,0,(I34+J34+K34+M34+(L34/12))/G34) -> 0 | Q34: =(I34*12+J34*12+K34*12+L34+M34*12+N34*12)*(1+$P$19)+Tabelle2[[#This Row],[ggf. Steuer und SV freie pflegtypische Zuschläge (variabel) monatlich (Basis inidv. Arbeitszeit MA) 6 ]]*12 -> 0 | R34: =IF(Tabelle2[[#This Row],[Jahresbruttoentgelt inkl. AG Anteil (ohne Personalnebenkosten wie BG / Fortbildung usw. ) ]]=0,0,Q34/F34*40) -> 0
G35: =F35*13/3 -> 0 | H35: =F35/40 -> 0 | O35: =IF(G35=0,0,(I35+J35+K35+M35+(L35/12))/G35) -> 0 | Q35: =(I35*12+J35*12+K35*12+L35+M35*12+N35*12)*(1+$P$19)+Tabelle2[[#This Row],[ggf. Steuer und SV freie pflegtypische Zuschläge (variabel) monatlich (Basis inidv. Arbeitszeit MA) 6 ]]*12 -> 0 | R35: =IF(Tabelle2[[#This Row],[Jahresbruttoentgelt inkl. AG Anteil (ohne Personalnebenkosten wie BG / Fortbildung usw. ) ]]=0,0,Q35/F35*40) -> 0
G36: =F36*13/3 -> 0 | H36: =F36/40 -> 0 | O36: =IF(G36=0,0,(I36+J36+K36+M36+(L36/12))/G36) -> 0 | Q36: =(I36*12+J36*12+K36*12+L36+M36*12+N36*12)*(1+$P$19)+Tabelle2[[#This Row],[ggf. Steuer und SV freie pflegtypische Zuschläge (variabel) monatlich (Basis inidv. Arbeitszeit MA) 6 ]]*12 -> 0 | R36: =IF(Tabelle2[[#This Row],[Jahresbruttoentgelt inkl. AG Anteil (ohne Personalnebenkosten wie BG / Fortbildung usw. ) ]]=0,0,Q36/F36*40) -> 0
G37: =F37*13/3 -> 0 | H37: =F37/40 -> 0 | O37: =IF(G37=0,0,(I37+J37+K37+M37+(L37/12))/G37) -> 0 | Q37: =(I37*12+J37*12+K37*12+L37+M37*12+N37*12)*(1+$P$19)+Tabelle2[[#This Row],[ggf. Steuer und SV freie pflegtypische Zuschläge (variabel) monatlich (Basis inidv. Arbeitszeit MA) 6 ]]*12 -> 0 | R37: =IF(Tabelle2[[#This Row],[Jahresbruttoentgelt inkl. AG Anteil (ohne Personalnebenkosten wie BG / Fortbildung usw. ) ]]=0,0,Q37/F37*40) -> 0
... G42: =F42*13/3 -> 0 | H42: =F42/40 -> 0 | O42: =IF(G42=0,0,(I42+J42+K42+M42+(L42/12))/G42) -> 0 | Q42: =(I42*12+J42*12+K42*12+L42+M42*12+N42*12)*(1+$P$19)+Tabelle2[[#This Row],[ggf. Steuer und SV freie pflegtypische Zuschläge (variabel) monatlich (Basis inidv. Arbeitszeit MA) 6 ]]*12 -> 0 | R42: =IF(Tabelle2[[#This Row],[Jahresbruttoentgelt inkl. AG Anteil (ohne Personalnebenkosten wie BG / Fortbildung usw. ) ]]=0,0,Q42/F42*40) -> 0
H43: =SUBTOTAL(109,Tabelle2[Stellen Anteil VZÄ (Basis 40 Std) ]) -> 0 | I43: gew. Entgeltniveau der Beschäftigtengruppe / AN-Brutto Std. /nachrichtl. | O43: =SUMPRODUCT(Tabelle2[Stellen Anteil VZÄ (Basis 40 Std) ],Tabelle2[Stundenlohn AN Brutto Arbeitszeit normiert (ohne variable Zuschläge) nachrichtlich ])/SUM(Tabelle2[Stellen Anteil VZÄ (Basis 40 Std) ]) -> #DIV/0! | Q43: =SUBTOTAL(109,Tabelle2[Jahresbruttoentgelt inkl. AG Anteil (ohne Personalnebenkosten wie BG / Fortbildung usw. ) ]) -> 0
E45: PDL (Anteil Pflege) | G45: =F45*13/3 -> 0 | H45: =F45/40 -> 0 | O45: =IF(G45=0,0,(I45+J45+K45+M45+(L45/12))/G45) -> 0 | Q45: =(I45*12+J45*12+K45*12+L45+M45*12+N45*12)*(1+$P$19)+P45*12 -> 0 | R45: =IF(Q45=0,0,Q45/F45*40) -> 0
E46: stellv. PDL | G46: =F46*13/3 -> 0 | H46: =F46/40 -> 0 | O46: =IF(G46=0,0,(I46+J46+K46+M46+(L46/12))/G46) -> 0 | Q46: =(I46*12+J46*12+K46*12+L46+M46*12+N46*12)*(1+$P$19)+P46*12 -> 0 | R46: =IF(Q46=0,0,Q46/F46*40) -> 0
G47: =F47*13/3 -> 0 | H47: =F47/40 -> 0 | O47: =IF(G47=0,0,(I47+J47+K47+M47+(L47/12))/G47) -> 0 | Q47: =(I47*12+J47*12+K47*12+L47+M47*12+N47*12)*(1+$P$19)+P47*12 -> 0 | R47: =IF(Q47=0,0,Q47/F47*40) -> 0
H49: =SUBTOTAL(109,Tabelle10[Stellen Anteil VZÄ (Basis 40 Std) ])+Tabelle2[[#Totals],[Stellen Anteil VZÄ (Basis 40 Std) ]] -> 0 | Q49: =SUBTOTAL(109,Tabelle10[Jahresbruttoentgelt inkl. AG Anteil (ohne Personalnebenkosten wie BG / Fortbildung usw. ) ])+Tabelle2[[#Totals],[Jahresbruttoentgelt inkl. AG Anteil (ohne Personalnebenkosten wie BG / Fortbildung usw. ) ]] -> 0 | R49: =Tabelle10[[#Totals],[Jahresbruttoentgelt inkl. AG Anteil (ohne Personalnebenkosten wie BG / Fortbildung usw. ) ]]/Tabelle10[[#Totals],[Stellen Anteil VZÄ (Basis 40 Std) ]] -> #DIV/0!
B52: Pflege- und Betreuungskräfte mit mindestens einjähriger Berufsausbildung (lt. RL des GKV SV nach § 72 Abs. 3c SGB XI)
B54: Lfd. NR | C54: Einstellungs- Datum | D54: Engelt Gruppe / Stufe (nach Tarif) | E54: Qualifikation / Funktion | F54: wöchentl Arbeits zeit / Std | G54: Arbeits stunden / Monat | H54: Stellen Anteil VZÄ (Basis 40 Std) | I54: Grundlohn / Gehalt monatlich (Basis indiv. Arbeitszeit MA) 1 | J54: Pflegetypische Zulagen monatlich (Basis indiv. Arbeitszeit MA) 2 | K54: ggf. VWL AG-Anteil monatlich (Basis indiv. Arbeitszeit MA) 3 | L54: ggf. Jahres sonder- zahlungen jährlich (Basis indiv. Arbeitszeit MA) 4 | M54: ggf. Bereit schaftsdienst oder Ruf bereitschaft monatlich (Basis indiv. Arbeitszeit MA) 5 | N54: ggf. pflege typische Zuschläge (variabel) monatlich (Basis indiv. Arbeitszeit MA) 6 | O54: Stundenlohn AN Brutto Arbeitszeit normiert (ohne variable Zuschläge) nachrichtlich | P54: ggf. Steuer und SV freie pflegtypische Zuschläge (variabel) monatlich (Basis inidv. Arbeitszeit MA) 6 | Q54: Jahresbruttoentgelt inkl. AG Anteil (ohne Personalnebenkosten wie BG / Fortbildung usw. ) | R54: Jahresbruttoentgelt inkl. AG Anteil je VZÄ
E55: PHK | G55: =F55*13/3 -> 0 | H55: =F55/40 -> 0 | O55: =IF(G55=0,0,(I55+J55+K55+M55+(L55/12))/G55) -> 0 | Q55: =(I55*12+J55*12+K55*12+L55+M55*12+N55*12)*(1+$P$19)+Tabelle3[[#This Row],[ggf. Steuer und SV freie pflegtypische Zuschläge (variabel) monatlich (Basis inidv. Arbeitszeit MA) 6 ]]*12 -> 0 | R55: =IF(Tabelle3[[#This Row],[Jahresbruttoentgelt inkl. AG Anteil (ohne Personalnebenkosten wie BG / Fortbildung usw. ) ]]=0,0,Q55/F55*40) -> 0
E56: PHK | G56: =F56*13/3 -> 0 | H56: =F56/40 -> 0 | O56: =IF(G56=0,0,(I56+J56+K56+M56+(L56/12))/G56) -> 0 | Q56: =(I56*12+J56*12+K56*12+L56+M56*12+N56*12)*(1+$P$19)+Tabelle3[[#This Row],[ggf. Steuer und SV freie pflegtypische Zuschläge (variabel) monatlich (Basis inidv. Arbeitszeit MA) 6 ]]*12 -> 0 | R56: =IF(Tabelle3[[#This Row],[Jahresbruttoentgelt inkl. AG Anteil (ohne Personalnebenkosten wie BG / Fortbildung usw. ) ]]=0,0,Q56/F56*40) -> 0
E57: PHK | G57: =F57*13/3 -> 0 | H57: =F57/40 -> 0 | O57: =IF(G57=0,0,(I57+J57+K57+M57+(L57/12))/G57) -> 0 | Q57: =(I57*12+J57*12+K57*12+L57+M57*12+N57*12)*(1+$P$19)+Tabelle3[[#This Row],[ggf. Steuer und SV freie pflegtypische Zuschläge (variabel) monatlich (Basis inidv. Arbeitszeit MA) 6 ]]*12 -> 0 | R57: =IF(Tabelle3[[#This Row],[Jahresbruttoentgelt inkl. AG Anteil (ohne Personalnebenkosten wie BG / Fortbildung usw. ) ]]=0,0,Q57/F57*40) -> 0
...

Sheet Referenzwerte
B4: Referenztabelle
B6: Referenz nummer | C6: Durschn. AG-Brutto Personalkosten aller Pflege- u. Betreuungskräfte für den Einsatz im SGB XI | F6: Punktwert
H7: Justierung PW
H8: 0.0656
C9: von | D9: bis | E9: Durchschnitt | H9: 52770.51
A10: =IF(AND('Anlage Personalaufstellung '!$I$166>=Referenzwerte!C10,'Anlage Personalaufstellung '!$I$166<=Referenzwerte!D10),1,0) -> #DIV/0! | B10: 0 | C10: 0 | D10: 0 | E10: 0 | F10: 0
A11: =IF(AND('Anlage Personalaufstellung '!$I$166>=Referenzwerte!C11,'Anlage Personalaufstellung '!$I$166<=Referenzwerte!D11),1,0) -> #DIV/0! | B11: 1 | C11: 0 | D11: 34999 | E11: 34999 | F11: 0.043507906 | H11: =H8/H9*E11 -> 0.043507906
A12: =IF(AND('Anlage Personalaufstellung '!$I$166>=Referenzwerte!C12,'Anlage Personalaufstellung '!$I$166<=Referenzwerte!D12),1,0) -> #DIV/0! | B12: 2 | C12: 35000 | D12: 35099 | E12: =(C12+D12)/2 -> 35049.5 | F12: 0.043570684 | H12: =H11/E11*E12 -> 0.043570684
A13: =IF(AND('Anlage Personalaufstellung '!$I$166>=Referenzwerte!C13,'Anlage Personalaufstellung '!$I$166<=Referenzwerte!D13),1,0) -> #DIV/0! | B13: 3 | C13: 35100 | D13: 35199 | E13: =(C13+D13)/2 -> 35149.5 | F13: 0.043694996 | H13: =H12/E12*E13 -> 0.043694996
A14: =IF(AND('Anlage Personalaufstellung '!$I$166>=Referenzwerte!C14,'Anlage Personalaufstellung '!$I$166<=Referenzwerte!D14),1,0) -> #DIV/0! | B14: 4 | C14: 35200 | D14: 35299 | E14: =(C14+D14)/2 -> 35249.5 | F14: 0.043819307 | H14: =H13/E13*E14 -> 0.043819307
A15: =IF(AND('Anlage Personalaufstellung '!$I$166>=Referenzwerte!C15,'Anlage Personalaufstellung '!$I$166<=Referenzwerte!D15),1,0) -> #DIV/0! | B15: 5 | C15: 35300 | D15: 35399 | E15: =(C15+D15)/2 -> 35349.5 | F15: 0.043943619 | H15: =H14/E14*E15 -> 0.043943619
A16: =IF(AND('Anlage Personalaufstellung '!$I$166>=Referenzwerte!C16,'Anlage Personalaufstellung '!$I$166<=Referenzwerte!D16),1,0) -> #DIV/0! | B16: 6 | C16: 35400 | D16: 35499 | E16: =(C16+D16)/2 -> 35449.5 | F16: 0.044067931 | H16: =H15/E15*E16 -> 0.044067931
A17: =IF(AND('Anlage Personalaufstellung '!$I$166>=Referenzwerte!C17,'Anlage Personalaufstellung '!$I$166<=Referenzwerte!D17),1,0) -> #DIV/0! | B17: 7 | C17: 35500 | D17: 35599 | E17: =(C17+D17)/2 -> 35549.5 | F17: 0.044192243 | H17: =H16/E16*E17 -> 0.044192243
A18: =IF(AND('Anlage Personalaufstellung '!$I$166>=Referenzwerte!C18,'Anlage Personalaufstellung '!$I$166<=Referenzwerte!D18),1,0) -> #DIV/0! | B18: 8 | C18: 35600 | D18: 35699 | E18: =(C18+D18)/2 -> 35649.5 | F18: 0.044316555 | H18: =H17/E17*E18 -> 0.044316555
A19: =IF(AND('Anlage Personalaufstellung '!$I$166>=Referenzwerte!C19,'Anlage Personalaufstellung '!$I$166<=Referenzwerte!D19),1,0) -> #DIV/0! | B19: 9 | C19: 35700 | D19: 35799 | E19: =(C19+D19)/2 -> 35749.5 | F19: 0.044440867 | H19: =H18/E18*E19 -> 0.044440867
A20: =IF(AND('Anlage Personalaufstellung '!$I$166>=Referenzwerte!C20,'Anlage Personalaufstellung '!$I$166<=Referenzwerte!D20),1,0) -> #DIV/0! | B20: 10 | C20: 35800 | D20: 35899 | E20: =(C20+D20)/2 -> 35849.5 | F20: 0.044565179 | H20: =H19/E19*E20 -> 0.044565179
A21: =IF(AND('Anlage Personalaufstellung '!$I$166>=Referenzwerte!C21,'Anlage Personalaufstellung '!$I$166<=Referenzwerte!D21),1,0) -> #DIV/0! | B21: 11 | C21: 35900 | D21: 35999 | E21: =(C21+D21)/2 -> 35949.5 | F21: 0.04468949 | H21: =H20/E20*E21 -> 0.04468949
A22: =IF(AND('Anlage Personalaufstellung '!$I$166>=Referenzwerte!C22,'Anlage Personalaufstellung '!$I$166<=Referenzwerte!D22),1,0) -> #DIV/0! | B22: 12 | C22: 36000 | D22: 36099 | E22: =(C22+D22)/2 -> 36049.5 | F22: 0.044813802 | H22: =H21/E21*E22 -> 0.044813802
A23: =IF(AND('Anlage Personalaufstellung '!$I$166>=Referenzwerte!C23,'Anlage Personalaufstellung '!$I$166<=Referenzwerte!D23),1,0) -> #DIV/0! | B23: 13 | C23: 36100 | D23: 36199 | E23: =(C23+D23)/2 -> 36149.5 | F23: 0.044938114 | H23: =H22/E22*E23 -> 0.044938114
... A460: =IF(AND('Anlage Personalaufstellung '!$I$166>=Referenzwerte!C460,'Anlage Personalaufstellung '!$I$166<=Referenzwerte!D460),1,0) -> #DIV/0! | B460: 450 | C460: 79800 | D460: 79899 | E460: =(C460+D460)/2 -> 79849.5 | F460: 0.099262395 | H460: =H459/E459*E460 -> 0.099262395
A461: =IF('Anlage Personalaufstellung '!$I$166>=Referenzwerte!C461,1,0) -> #DIV/0! | B461: 451 | C461: 79900 | D461: 79999 | E461: =(C461+D461)/2 -> 79949.5 | F461: 0.099386707 | H461: =H460/E460*E461 -> 0.099386707
